BEGIN:VCALENDAR
VERSION:2.0
PRODID:-//Pikes Peak Blues Community - ECPv6.15.20//NONSGML v1.0//EN
CALSCALE:GREGORIAN
METHOD:PUBLISH
X-ORIGINAL-URL:https://pikespkblues.org
X-WR-CALDESC:Events for Pikes Peak Blues Community
REFRESH-INTERVAL;VALUE=DURATION:PT1H
X-Robots-Tag:noindex
X-PUBLISHED-TTL:PT1H
BEGIN:VTIMEZONE
TZID:America/Denver
BEGIN:DAYLIGHT
TZOFFSETFROM:-0700
TZOFFSETTO:-0600
TZNAME:MDT
DTSTART:20260308T090000
END:DAYLIGHT
BEGIN:STANDARD
TZOFFSETFROM:-0600
TZOFFSETTO:-0700
TZNAME:MST
DTSTART:20261101T080000
END:STANDARD
BEGIN:DAYLIGHT
TZOFFSETFROM:-0700
TZOFFSETTO:-0600
TZNAME:MDT
DTSTART:20270314T090000
END:DAYLIGHT
BEGIN:STANDARD
TZOFFSETFROM:-0600
TZOFFSETTO:-0700
TZNAME:MST
DTSTART:20271107T080000
END:STANDARD
BEGIN:DAYLIGHT
TZOFFSETFROM:-0700
TZOFFSETTO:-0600
TZNAME:MDT
DTSTART:20280312T090000
END:DAYLIGHT
BEGIN:STANDARD
TZOFFSETFROM:-0600
TZOFFSETTO:-0700
TZNAME:MST
DTSTART:20281105T080000
END:STANDARD
END:VTIMEZONE
BEGIN:VEVENT
DTSTART;TZID=America/Denver:20270405T120000
DTEND;TZID=America/Denver:20270405T130000
DTSTAMP:20260425T081417
CREATED:20240608T152048Z
LAST-MODIFIED:20250205T153915Z
UID:10002374-1806926400-1806930000@pikespkblues.org
SUMMARY:Jazz 93.5 Community Blues Hour with BJ Estares
DESCRIPTION:
URL:https://pikespkblues.org/event/jazz-93-5-community-blues-hour-with-bj-estares/2027-04-05/
LOCATION:CO
END:VEVENT
BEGIN:VEVENT
DTSTART;TZID=America/Denver:20270406T120000
DTEND;TZID=America/Denver:20270406T130000
DTSTAMP:20260425T081417
CREATED:20240608T152048Z
LAST-MODIFIED:20250205T153915Z
UID:10002375-1807012800-1807016400@pikespkblues.org
SUMMARY:Jazz 93.5 Community Blues Hour with BJ Estares
DESCRIPTION:
URL:https://pikespkblues.org/event/jazz-93-5-community-blues-hour-with-bj-estares/2027-04-06/
LOCATION:CO
END:VEVENT
BEGIN:VEVENT
DTSTART;TZID=America/Denver:20270406T180000
DTEND;TZID=America/Denver:20270406T210000
DTSTAMP:20260425T081417
CREATED:20251004T004608Z
LAST-MODIFIED:20251004T182250Z
UID:10004858-1807034400-1807045200@pikespkblues.org
SUMMARY:Sweet T's Rude Blues Jam on Tuesdays at PEAK 31
DESCRIPTION:Sweet T’s Rude Blues Jam @ PEAK 31\, 2419 N Union Blvd (80909) on Tuesdays\, from 6:00 pm to 9:00 pm.
URL:https://pikespkblues.org/event/sweet-ts-rude-blues-jam-on-tuesdays-at-peak-31/2027-04-06/
LOCATION:PEAK 31\, 2419 N Union Blvd\, Colorado Springs\, CO\, 80909\, United States
CATEGORIES:Jams
END:VEVENT
BEGIN:VEVENT
DTSTART;TZID=America/Denver:20270407T120000
DTEND;TZID=America/Denver:20270407T130000
DTSTAMP:20260425T081417
CREATED:20240608T152048Z
LAST-MODIFIED:20250205T153915Z
UID:10002376-1807099200-1807102800@pikespkblues.org
SUMMARY:Jazz 93.5 Community Blues Hour with BJ Estares
DESCRIPTION:
URL:https://pikespkblues.org/event/jazz-93-5-community-blues-hour-with-bj-estares/2027-04-07/
LOCATION:CO
END:VEVENT
BEGIN:VEVENT
DTSTART;TZID=America/Denver:20270408T120000
DTEND;TZID=America/Denver:20270408T130000
DTSTAMP:20260425T081417
CREATED:20240608T152048Z
LAST-MODIFIED:20250205T153915Z
UID:10002377-1807185600-1807189200@pikespkblues.org
SUMMARY:Jazz 93.5 Community Blues Hour with BJ Estares
DESCRIPTION:
URL:https://pikespkblues.org/event/jazz-93-5-community-blues-hour-with-bj-estares/2027-04-08/
LOCATION:CO
END:VEVENT
BEGIN:VEVENT
DTSTART;TZID=America/Denver:20270409T120000
DTEND;TZID=America/Denver:20270409T130000
DTSTAMP:20260425T081417
CREATED:20240608T152048Z
LAST-MODIFIED:20250205T153915Z
UID:10002378-1807272000-1807275600@pikespkblues.org
SUMMARY:Jazz 93.5 Community Blues Hour with BJ Estares
DESCRIPTION:
URL:https://pikespkblues.org/event/jazz-93-5-community-blues-hour-with-bj-estares/2027-04-09/
LOCATION:CO
END:VEVENT
END:VCALENDAR