BEGIN:VCALENDAR
VERSION:2.0
PRODID:-//Pikes Peak Blues Community - ECPv6.15.20//NONSGML v1.0//EN
CALSCALE:GREGORIAN
METHOD:PUBLISH
X-ORIGINAL-URL:https://pikespkblues.org
X-WR-CALDESC:Events for Pikes Peak Blues Community
REFRESH-INTERVAL;VALUE=DURATION:PT1H
X-Robots-Tag:noindex
X-PUBLISHED-TTL:PT1H
BEGIN:VTIMEZONE
TZID:America/Denver
BEGIN:DAYLIGHT
TZOFFSETFROM:-0700
TZOFFSETTO:-0600
TZNAME:MDT
DTSTART:20250309T090000
END:DAYLIGHT
BEGIN:STANDARD
TZOFFSETFROM:-0600
TZOFFSETTO:-0700
TZNAME:MST
DTSTART:20251102T080000
END:STANDARD
BEGIN:DAYLIGHT
TZOFFSETFROM:-0700
TZOFFSETTO:-0600
TZNAME:MDT
DTSTART:20260308T090000
END:DAYLIGHT
BEGIN:STANDARD
TZOFFSETFROM:-0600
TZOFFSETTO:-0700
TZNAME:MST
DTSTART:20261101T080000
END:STANDARD
BEGIN:DAYLIGHT
TZOFFSETFROM:-0700
TZOFFSETTO:-0600
TZNAME:MDT
DTSTART:20270314T090000
END:DAYLIGHT
BEGIN:STANDARD
TZOFFSETFROM:-0600
TZOFFSETTO:-0700
TZNAME:MST
DTSTART:20271107T080000
END:STANDARD
END:VTIMEZONE
BEGIN:VEVENT
DTSTART;TZID=America/Denver:20260504T120000
DTEND;TZID=America/Denver:20260504T130000
DTSTAMP:20260423T144012
CREATED:20240608T152048Z
LAST-MODIFIED:20250205T153915Z
UID:10002134-1777896000-1777899600@pikespkblues.org
SUMMARY:Jazz 93.5 Community Blues Hour with BJ Estares
DESCRIPTION:
URL:https://pikespkblues.org/event/jazz-93-5-community-blues-hour-with-bj-estares/2026-05-04/
LOCATION:CO
END:VEVENT
BEGIN:VEVENT
DTSTART;TZID=America/Denver:20260505T120000
DTEND;TZID=America/Denver:20260505T130000
DTSTAMP:20260423T144012
CREATED:20240608T152048Z
LAST-MODIFIED:20250205T153915Z
UID:10002135-1777982400-1777986000@pikespkblues.org
SUMMARY:Jazz 93.5 Community Blues Hour with BJ Estares
DESCRIPTION:
URL:https://pikespkblues.org/event/jazz-93-5-community-blues-hour-with-bj-estares/2026-05-05/
LOCATION:CO
END:VEVENT
BEGIN:VEVENT
DTSTART;TZID=America/Denver:20260505T180000
DTEND;TZID=America/Denver:20260505T210000
DTSTAMP:20260423T144012
CREATED:20251004T004608Z
LAST-MODIFIED:20251004T182250Z
UID:10004810-1778004000-1778014800@pikespkblues.org
SUMMARY:Sweet T's Rude Blues Jam on Tuesdays at PEAK 31
DESCRIPTION:Sweet T’s Rude Blues Jam @ PEAK 31\, 2419 N Union Blvd (80909) on Tuesdays\, from 6:00 pm to 9:00 pm.
URL:https://pikespkblues.org/event/sweet-ts-rude-blues-jam-on-tuesdays-at-peak-31/2026-05-05/
LOCATION:PEAK 31\, 2419 N Union Blvd\, Colorado Springs\, CO\, 80909\, United States
CATEGORIES:Jams
END:VEVENT
BEGIN:VEVENT
DTSTART;TZID=America/Denver:20260506T120000
DTEND;TZID=America/Denver:20260506T130000
DTSTAMP:20260423T144012
CREATED:20240608T152048Z
LAST-MODIFIED:20250205T153915Z
UID:10002136-1778068800-1778072400@pikespkblues.org
SUMMARY:Jazz 93.5 Community Blues Hour with BJ Estares
DESCRIPTION:
URL:https://pikespkblues.org/event/jazz-93-5-community-blues-hour-with-bj-estares/2026-05-06/
LOCATION:CO
END:VEVENT
BEGIN:VEVENT
DTSTART;TZID=America/Denver:20260507T120000
DTEND;TZID=America/Denver:20260507T130000
DTSTAMP:20260423T144012
CREATED:20240608T152048Z
LAST-MODIFIED:20250205T153915Z
UID:10002137-1778155200-1778158800@pikespkblues.org
SUMMARY:Jazz 93.5 Community Blues Hour with BJ Estares
DESCRIPTION:
URL:https://pikespkblues.org/event/jazz-93-5-community-blues-hour-with-bj-estares/2026-05-07/
LOCATION:CO
END:VEVENT
BEGIN:VEVENT
DTSTART;TZID=America/Denver:20260507T180000
DTEND;TZID=America/Denver:20260507T210000
DTSTAMP:20260423T144012
CREATED:20260407T165135Z
LAST-MODIFIED:20260413T141536Z
UID:10005811-1778176800-1778187600@pikespkblues.org
SUMMARY:Chess Records Tribute Show with Al Chesis and Joe Sciallo to Benefit Paint The Town Blue
DESCRIPTION:PPBC presents a special “Chess Records Tribute Show” with Al Chesis\, Joe Sciallo\, Niki Coakley\, John Flores\, Matt Podschweit\, and Kyle ‘Big Chief” Roberts @ Louie Louie’s Piano Bar\, 522 S Tejon St (80903) on Thursday\, May 7th from 6:00 pm to 9:00 pm (doors open at 5:30)\, followed by Louie Louie’s dueling piano show. There will also be a raffle and a silent auction featuring blues memorabilia\, vinyl LPs\, and more.  \nTickets are $15.00 in advance / $20.00 at the door. Tickets include one free Raffle coupon. Proceeds benefit PPBC’s 2026 Paint The Town Blue free summer public concert series.
URL:https://pikespkblues.org/event/chess-records-tribute-show-with-al-chesis-and-joe-sciallo-to-benefit-paint-the-town-blue/
LOCATION:Louie Louie’s Piano Bar\, 522 S Tejon St\, Colorado Springs\, CO\, 80903\, United States
CATEGORIES:Concerts
END:VEVENT
BEGIN:VEVENT
DTSTART;TZID=America/Denver:20260507T200000
DTEND;TZID=America/Denver:20260507T230000
DTSTAMP:20260423T144012
CREATED:20260221T045616Z
LAST-MODIFIED:20260221T045617Z
UID:10005700-1778184000-1778194800@pikespkblues.org
SUMMARY:Blues Jam hosted by Randy Stephens & the Groove Makers
DESCRIPTION:Blues Jam hosted by Randy Stephens & the Groove Makers @ Kinfolks\, 950 Manitou Ave\, Manitou Springs on the first Thursday of  the month from 8:00 pm to 11:00 pm. Sign up start at 7:30 pm. Bring your own axe and jam with these award winning musicians. Keys\, drums\, and amps provided. Horn players welcome.
URL:https://pikespkblues.org/event/stormy-monday-blues-jam-hosted-by-randy-stephens-the-groove-makers-2-2/2026-05-07/
LOCATION:Kinsfolks\, 950 Manitou Ave\, Manitou Springs\, CO\, 80829
CATEGORIES:Jams
END:VEVENT
BEGIN:VEVENT
DTSTART;TZID=America/Denver:20260508T120000
DTEND;TZID=America/Denver:20260508T130000
DTSTAMP:20260423T144012
CREATED:20240608T152048Z
LAST-MODIFIED:20250205T153915Z
UID:10002138-1778241600-1778245200@pikespkblues.org
SUMMARY:Jazz 93.5 Community Blues Hour with BJ Estares
DESCRIPTION:
URL:https://pikespkblues.org/event/jazz-93-5-community-blues-hour-with-bj-estares/2026-05-08/
LOCATION:CO
END:VEVENT
BEGIN:VEVENT
DTSTART;TZID=America/Denver:20260508T200000
DTEND;TZID=America/Denver:20260508T230000
DTSTAMP:20260423T144012
CREATED:20260419T231041Z
LAST-MODIFIED:20260419T233307Z
UID:10005817-1778270400-1778281200@pikespkblues.org
SUMMARY:Delta Sonics with Al Chesis  *** PPBC Member Band ***
DESCRIPTION:Delta Sonics with Al Chesis @ Lot 46 Music Bar\, Edgewater on Friday\, May 8th at 8:00 pm.
URL:https://pikespkblues.org/event/delta-sonics-with-al-chesis-ppbc-member-band-63/
LOCATION:Lot 46 Music Bar\, 5302 W 25th Ave\, Edgewater\, 80214\, United States
CATEGORIES:Concerts
END:VEVENT
BEGIN:VEVENT
DTSTART;TZID=America/Denver:20260509T190000
DTEND;TZID=America/Denver:20260509T220000
DTSTAMP:20260423T144012
CREATED:20260405T144037Z
LAST-MODIFIED:20260405T144037Z
UID:10005809-1778353200-1778364000@pikespkblues.org
SUMMARY:Stanley Milton’s MeanStreak   *** PPBC Member Band ***
DESCRIPTION:Stanley Milton’s MeanStreak @ The Historic Rialto Theater\, Florence on Saturday\, May 9th at 7:00 pm.
URL:https://pikespkblues.org/event/stanley-miltons-meanstreak-ppbc-member-band-2/
LOCATION:Historic Rialto Theatre\, 209 W. Main Street\, Florence\, CO\, 81226\, United States
CATEGORIES:Concerts
END:VEVENT
BEGIN:VEVENT
DTSTART;TZID=America/Denver:20260509T200000
DTEND;TZID=America/Denver:20260509T200000
DTSTAMP:20260423T144012
CREATED:20260419T231428Z
LAST-MODIFIED:20260419T231428Z
UID:10005818-1778356800-1778356800@pikespkblues.org
SUMMARY:Delta Sonics with Al Chesis  *** PPBC Member Band ***
DESCRIPTION:Delta Sonics with Al Chesis @ The Magic Rat in the Elizabeth Hotel\, Ft. Collins on Saturday\, May 9th at 8:00 pm.
URL:https://pikespkblues.org/event/delta-sonics-with-al-chesis-ppbc-member-band-64/
LOCATION:The Magic Rat in the Elizabeth Hotel\, 111 Chestnut St\, Fort Collins\, CO\, 80524\, United States
CATEGORIES:Concerts
END:VEVENT
END:VCALENDAR