BEGIN:VCALENDAR
VERSION:2.0
PRODID:-//Pikes Peak Blues Community - ECPv6.15.20//NONSGML v1.0//EN
CALSCALE:GREGORIAN
METHOD:PUBLISH
X-WR-CALNAME:Pikes Peak Blues Community
X-ORIGINAL-URL:https://pikespkblues.org
X-WR-CALDESC:Events for Pikes Peak Blues Community
REFRESH-INTERVAL;VALUE=DURATION:PT1H
X-Robots-Tag:noindex
X-PUBLISHED-TTL:PT1H
BEGIN:VTIMEZONE
TZID:America/Denver
BEGIN:DAYLIGHT
TZOFFSETFROM:-0700
TZOFFSETTO:-0600
TZNAME:MDT
DTSTART:20250309T090000
END:DAYLIGHT
BEGIN:STANDARD
TZOFFSETFROM:-0600
TZOFFSETTO:-0700
TZNAME:MST
DTSTART:20251102T080000
END:STANDARD
BEGIN:DAYLIGHT
TZOFFSETFROM:-0700
TZOFFSETTO:-0600
TZNAME:MDT
DTSTART:20260308T090000
END:DAYLIGHT
BEGIN:STANDARD
TZOFFSETFROM:-0600
TZOFFSETTO:-0700
TZNAME:MST
DTSTART:20261101T080000
END:STANDARD
BEGIN:DAYLIGHT
TZOFFSETFROM:-0700
TZOFFSETTO:-0600
TZNAME:MDT
DTSTART:20270314T090000
END:DAYLIGHT
BEGIN:STANDARD
TZOFFSETFROM:-0600
TZOFFSETTO:-0700
TZNAME:MST
DTSTART:20271107T080000
END:STANDARD
END:VTIMEZONE
BEGIN:VEVENT
DTSTART;TZID=America/Denver:20260330T120000
DTEND;TZID=America/Denver:20260330T130000
DTSTAMP:20260423T130309
CREATED:20240608T152048Z
LAST-MODIFIED:20250205T153915Z
UID:10002109-1774872000-1774875600@pikespkblues.org
SUMMARY:Jazz 93.5 Community Blues Hour with BJ Estares
DESCRIPTION:
URL:https://pikespkblues.org/event/jazz-93-5-community-blues-hour-with-bj-estares/2026-03-30/
LOCATION:CO
END:VEVENT
BEGIN:VEVENT
DTSTART;TZID=America/Denver:20260330T183000
DTEND;TZID=America/Denver:20260330T213000
DTSTAMP:20260423T130309
CREATED:20260225T024448Z
LAST-MODIFIED:20260401T134735Z
UID:10005768-1774895400-1774906200@pikespkblues.org
SUMMARY:Randy Stephens & The Groove Makers
DESCRIPTION:PPBC presents Monday Blues Review @ Louie Louie’s Piano Bar\, 522 S Tejon St (80903) featuring Randy Stephens & The Groove Makers on Monday\, March 30th from 6:30 pm to 10:00 pm. Cover $10.00.
URL:https://pikespkblues.org/event/randy-stephens-the-groove-makers-2/
LOCATION:Louie Louie’s Piano Bar\, 522 S Tejon St\, Colorado Springs\, CO\, 80903\, United States
CATEGORIES:Concerts
END:VEVENT
BEGIN:VEVENT
DTSTART;TZID=America/Denver:20260331T120000
DTEND;TZID=America/Denver:20260331T130000
DTSTAMP:20260423T130309
CREATED:20240608T152048Z
LAST-MODIFIED:20250205T153915Z
UID:10002110-1774958400-1774962000@pikespkblues.org
SUMMARY:Jazz 93.5 Community Blues Hour with BJ Estares
DESCRIPTION:
URL:https://pikespkblues.org/event/jazz-93-5-community-blues-hour-with-bj-estares/2026-03-31/
LOCATION:CO
END:VEVENT
BEGIN:VEVENT
DTSTART;TZID=America/Denver:20260331T180000
DTEND;TZID=America/Denver:20260331T210000
DTSTAMP:20260423T130309
CREATED:20251004T004608Z
LAST-MODIFIED:20251004T182250Z
UID:10004805-1774980000-1774990800@pikespkblues.org
SUMMARY:Sweet T's Rude Blues Jam on Tuesdays at PEAK 31
DESCRIPTION:Sweet T’s Rude Blues Jam @ PEAK 31\, 2419 N Union Blvd (80909) on Tuesdays\, from 6:00 pm to 9:00 pm.
URL:https://pikespkblues.org/event/sweet-ts-rude-blues-jam-on-tuesdays-at-peak-31/2026-03-31/
LOCATION:PEAK 31\, 2419 N Union Blvd\, Colorado Springs\, CO\, 80909\, United States
CATEGORIES:Jams
END:VEVENT
BEGIN:VEVENT
DTSTART;TZID=America/Denver:20260401T120000
DTEND;TZID=America/Denver:20260401T130000
DTSTAMP:20260423T130309
CREATED:20240608T152048Z
LAST-MODIFIED:20250205T153915Z
UID:10002111-1775044800-1775048400@pikespkblues.org
SUMMARY:Jazz 93.5 Community Blues Hour with BJ Estares
DESCRIPTION:
URL:https://pikespkblues.org/event/jazz-93-5-community-blues-hour-with-bj-estares/2026-04-01/
LOCATION:CO
END:VEVENT
BEGIN:VEVENT
DTSTART;TZID=America/Denver:20260402T120000
DTEND;TZID=America/Denver:20260402T130000
DTSTAMP:20260423T130309
CREATED:20240608T152048Z
LAST-MODIFIED:20250205T153915Z
UID:10002112-1775131200-1775134800@pikespkblues.org
SUMMARY:Jazz 93.5 Community Blues Hour with BJ Estares
DESCRIPTION:
URL:https://pikespkblues.org/event/jazz-93-5-community-blues-hour-with-bj-estares/2026-04-02/
LOCATION:CO
END:VEVENT
BEGIN:VEVENT
DTSTART;TZID=America/Denver:20260402T170000
DTEND;TZID=America/Denver:20260402T200000
DTSTAMP:20260423T130309
CREATED:20260318T234543Z
LAST-MODIFIED:20260318T235041Z
UID:10005789-1775149200-1775160000@pikespkblues.org
SUMMARY:John Wise/Tribe
DESCRIPTION:John Wise/Tribe @ Rico’s Café and Wine Bar\, 322 1/2 N Tejon St (80903) on Thursday\, April 2nd from 5:00 pm to 8:00 pm. No cover.
URL:https://pikespkblues.org/event/john-wise-tribe-15/
LOCATION:Rico’s Cafe and Wine Bar\, 322 1/2\, N Tejon St\, Colorado Springs\, CO\, 80903\, United States
CATEGORIES:Concerts
END:VEVENT
BEGIN:VEVENT
DTSTART;TZID=America/Denver:20260402T200000
DTEND;TZID=America/Denver:20260402T230000
DTSTAMP:20260423T130309
CREATED:20260221T045616Z
LAST-MODIFIED:20260221T045617Z
UID:10005699-1775160000-1775170800@pikespkblues.org
SUMMARY:Blues Jam hosted by Randy Stephens & the Groove Makers
DESCRIPTION:Blues Jam hosted by Randy Stephens & the Groove Makers @ Kinfolks\, 950 Manitou Ave\, Manitou Springs on the first Thursday of  the month from 8:00 pm to 11:00 pm. Sign up start at 7:30 pm. Bring your own axe and jam with these award winning musicians. Keys\, drums\, and amps provided. Horn players welcome.
URL:https://pikespkblues.org/event/stormy-monday-blues-jam-hosted-by-randy-stephens-the-groove-makers-2-2/2026-04-02/
LOCATION:Kinsfolks\, 950 Manitou Ave\, Manitou Springs\, CO\, 80829
CATEGORIES:Jams
END:VEVENT
BEGIN:VEVENT
DTSTART;TZID=America/Denver:20260403T120000
DTEND;TZID=America/Denver:20260403T130000
DTSTAMP:20260423T130309
CREATED:20240608T152048Z
LAST-MODIFIED:20250205T153915Z
UID:10002113-1775217600-1775221200@pikespkblues.org
SUMMARY:Jazz 93.5 Community Blues Hour with BJ Estares
DESCRIPTION:
URL:https://pikespkblues.org/event/jazz-93-5-community-blues-hour-with-bj-estares/2026-04-03/
LOCATION:CO
END:VEVENT
BEGIN:VEVENT
DTSTART;TZID=America/Denver:20260403T180000
DTEND;TZID=America/Denver:20260403T210000
DTSTAMP:20260423T130309
CREATED:20260318T234923Z
LAST-MODIFIED:20260318T234923Z
UID:10005790-1775239200-1775250000@pikespkblues.org
SUMMARY:The Cleveland Experiment
DESCRIPTION:The Cleveland Experiment @ Rico’s Café and Wine Bar\, 322 1/2 N Tejon St (80903) on Friday\, April 3rd from 6:00 pm to 9:00 pm. No cover.
URL:https://pikespkblues.org/event/the-cleveland-experiment-20/
LOCATION:Rico’s Cafe and Wine Bar\, 322 1/2\, N Tejon St\, Colorado Springs\, CO\, 80903\, United States
CATEGORIES:Concerts
END:VEVENT
BEGIN:VEVENT
DTSTART;TZID=America/Denver:20260403T190000
DTEND;TZID=America/Denver:20260403T223000
DTSTAMP:20260423T130309
CREATED:20260301T174403Z
LAST-MODIFIED:20260301T174403Z
UID:10005774-1775242800-1775255400@pikespkblues.org
SUMMARY:Tony Luke Band
DESCRIPTION:Tony Luke Band @ The Rusty Bucket Bar and Grill\, Lakewood on Friday\, April 3rd at 7:00 pm.
URL:https://pikespkblues.org/event/tony-luke-band/
LOCATION:The Rusty Bucket Bar and Grill\, 3355 S Wadsworth\, Lakewood\, CO\, 80277\, United States
CATEGORIES:Concerts
END:VEVENT
BEGIN:VEVENT
DTSTART;TZID=America/Denver:20260403T223000
DTEND;TZID=America/Denver:20260403T223000
DTSTAMP:20260423T130309
CREATED:20260303T153243Z
LAST-MODIFIED:20260303T153243Z
UID:10005783-1775255400-1775255400@pikespkblues.org
SUMMARY:Delta Sonics Duo with Al Chesis  *** PPBC Member Band ***
DESCRIPTION:Delta Sonics Duo with Al Chesis @ El Chapultepec Piano Lounge at Dazzle\, Denver on Friday\, April 3rd at 10:30 pm.
URL:https://pikespkblues.org/event/delta-sonics-duo-with-al-chesis-ppbc-member-band-8/
LOCATION:El Chapultepec Piano Lounge at Dazzle\, 1080 14th St\, Denver\, CO\, 80202\, United States
CATEGORIES:Concerts
END:VEVENT
BEGIN:VEVENT
DTSTART;TZID=America/Denver:20260404T120000
DTEND;TZID=America/Denver:20260404T143000
DTSTAMP:20260423T130309
CREATED:20260303T160546Z
LAST-MODIFIED:20260401T143229Z
UID:10005786-1775304000-1775313000@pikespkblues.org
SUMMARY:Kids’ Matinee: Special Blend - Blues | Jazz | Rock & Roll
DESCRIPTION:Kids’ Matinee: Special Blend @ Dazzle\, Denver on Saturday\, April 4th at noon.
URL:https://pikespkblues.org/event/kids-matinee-special-blend-blues-jazz-rock-roll-2/
LOCATION:Dazzle\, 1080 14th Street\, Denver\, CO\, 80202
CATEGORIES:Concerts
END:VEVENT
BEGIN:VEVENT
DTSTART;TZID=America/Denver:20260404T190000
DTEND;TZID=America/Denver:20260404T220000
DTSTAMP:20260423T130309
CREATED:20260303T153837Z
LAST-MODIFIED:20260303T153837Z
UID:10005784-1775329200-1775340000@pikespkblues.org
SUMMARY:Delta Sonics with Al Chesis  *** PPBC Member Band ***
DESCRIPTION:Delta Sonics with Al Chesis @ Clancy’s Irish Pub\, Wheat Ridge on Saturday\, April 4th at 7:00 pm.
URL:https://pikespkblues.org/event/delta-sonics-with-al-chesis-ppbc-member-band-56/
LOCATION:Clancy’s Irish Pub\, 7000 W 38th Ave\, Wheat Ridge\, CO\, 80033\, United States
CATEGORIES:Concerts
END:VEVENT
END:VCALENDAR