BEGIN:VCALENDAR
VERSION:2.0
PRODID:-//Pikes Peak Blues Community - ECPv6.15.20//NONSGML v1.0//EN
CALSCALE:GREGORIAN
METHOD:PUBLISH
X-WR-CALNAME:Pikes Peak Blues Community
X-ORIGINAL-URL:https://pikespkblues.org
X-WR-CALDESC:Events for Pikes Peak Blues Community
REFRESH-INTERVAL;VALUE=DURATION:PT1H
X-Robots-Tag:noindex
X-PUBLISHED-TTL:PT1H
BEGIN:VTIMEZONE
TZID:America/Denver
BEGIN:DAYLIGHT
TZOFFSETFROM:-0700
TZOFFSETTO:-0600
TZNAME:MDT
DTSTART:20250309T090000
END:DAYLIGHT
BEGIN:STANDARD
TZOFFSETFROM:-0600
TZOFFSETTO:-0700
TZNAME:MST
DTSTART:20251102T080000
END:STANDARD
BEGIN:DAYLIGHT
TZOFFSETFROM:-0700
TZOFFSETTO:-0600
TZNAME:MDT
DTSTART:20260308T090000
END:DAYLIGHT
BEGIN:STANDARD
TZOFFSETFROM:-0600
TZOFFSETTO:-0700
TZNAME:MST
DTSTART:20261101T080000
END:STANDARD
BEGIN:DAYLIGHT
TZOFFSETFROM:-0700
TZOFFSETTO:-0600
TZNAME:MDT
DTSTART:20270314T090000
END:DAYLIGHT
BEGIN:STANDARD
TZOFFSETFROM:-0600
TZOFFSETTO:-0700
TZNAME:MST
DTSTART:20271107T080000
END:STANDARD
END:VTIMEZONE
BEGIN:VEVENT
DTSTART;TZID=America/Denver:20260223T120000
DTEND;TZID=America/Denver:20260223T130000
DTSTAMP:20260423T143414
CREATED:20240608T152048Z
LAST-MODIFIED:20250205T153915Z
UID:10002084-1771848000-1771851600@pikespkblues.org
SUMMARY:Jazz 93.5 Community Blues Hour with BJ Estares
DESCRIPTION:
URL:https://pikespkblues.org/event/jazz-93-5-community-blues-hour-with-bj-estares/2026-02-23/
LOCATION:CO
END:VEVENT
BEGIN:VEVENT
DTSTART;TZID=America/Denver:20260224T120000
DTEND;TZID=America/Denver:20260224T130000
DTSTAMP:20260423T143414
CREATED:20240608T152048Z
LAST-MODIFIED:20250205T153915Z
UID:10002085-1771934400-1771938000@pikespkblues.org
SUMMARY:Jazz 93.5 Community Blues Hour with BJ Estares
DESCRIPTION:
URL:https://pikespkblues.org/event/jazz-93-5-community-blues-hour-with-bj-estares/2026-02-24/
LOCATION:CO
END:VEVENT
BEGIN:VEVENT
DTSTART;TZID=America/Denver:20260224T180000
DTEND;TZID=America/Denver:20260224T210000
DTSTAMP:20260423T143414
CREATED:20251004T004608Z
LAST-MODIFIED:20251004T182250Z
UID:10004800-1771956000-1771966800@pikespkblues.org
SUMMARY:Sweet T's Rude Blues Jam on Tuesdays at PEAK 31
DESCRIPTION:Sweet T’s Rude Blues Jam @ PEAK 31\, 2419 N Union Blvd (80909) on Tuesdays\, from 6:00 pm to 9:00 pm.
URL:https://pikespkblues.org/event/sweet-ts-rude-blues-jam-on-tuesdays-at-peak-31/2026-02-24/
LOCATION:PEAK 31\, 2419 N Union Blvd\, Colorado Springs\, CO\, 80909\, United States
CATEGORIES:Jams
END:VEVENT
BEGIN:VEVENT
DTSTART;TZID=America/Denver:20260224T190000
DTEND;TZID=America/Denver:20260224T220000
DTSTAMP:20260423T143414
CREATED:20260204T230334Z
LAST-MODIFIED:20260204T230334Z
UID:10005685-1771959600-1771970400@pikespkblues.org
SUMMARY:The Tasty Tunes Jam with Hardy Wright\, Momma T & The All Star Friends
DESCRIPTION:The Tasty Tunes Jam with Hardy Wright\, Momma T & The All Star Friends @ Kinfolks\, Manitou Springs on Tuesday\, February 24th from 7:00 pm to 10:00 pm. Sign up: 6:30 pm.
URL:https://pikespkblues.org/event/the-tasty-tunes-jam-with-hardy-wright-momma-t-the-all-star-friends-3/
LOCATION:Kinsfolks\, 950 Manitou Ave\, Manitou Springs\, CO\, 80829
CATEGORIES:Jams
END:VEVENT
BEGIN:VEVENT
DTSTART;TZID=America/Denver:20260225T120000
DTEND;TZID=America/Denver:20260225T130000
DTSTAMP:20260423T143414
CREATED:20240608T152048Z
LAST-MODIFIED:20250205T153915Z
UID:10002086-1772020800-1772024400@pikespkblues.org
SUMMARY:Jazz 93.5 Community Blues Hour with BJ Estares
DESCRIPTION:
URL:https://pikespkblues.org/event/jazz-93-5-community-blues-hour-with-bj-estares/2026-02-25/
LOCATION:CO
END:VEVENT
BEGIN:VEVENT
DTSTART;TZID=America/Denver:20260226T120000
DTEND;TZID=America/Denver:20260226T130000
DTSTAMP:20260423T143414
CREATED:20240608T152048Z
LAST-MODIFIED:20250205T153915Z
UID:10002087-1772107200-1772110800@pikespkblues.org
SUMMARY:Jazz 93.5 Community Blues Hour with BJ Estares
DESCRIPTION:
URL:https://pikespkblues.org/event/jazz-93-5-community-blues-hour-with-bj-estares/2026-02-26/
LOCATION:CO
END:VEVENT
BEGIN:VEVENT
DTSTART;TZID=America/Denver:20260226T210000
DTEND;TZID=America/Denver:20260226T233000
DTSTAMP:20260423T143414
CREATED:20260204T044722Z
LAST-MODIFIED:20260204T044722Z
UID:10005681-1772139600-1772148600@pikespkblues.org
SUMMARY:Devon Allman’s Blues Summit featuring Jimmy\, Larry McCray\, and Laka Soul
DESCRIPTION:Devon Allman’s Blues Summit @ Ophelia’s Electric Soapbox\, Denver on Thursday\, February 26th at 9:00 pm.
URL:https://pikespkblues.org/event/devon-allmans-blues-summit-featuring-jimmy-larry-mccray-and-laka-soul/
LOCATION:Ophelia’s Electric Soapbox\, 1215 20th St\, Denver\, CO\, 80202\, United States
CATEGORIES:Concerts
END:VEVENT
BEGIN:VEVENT
DTSTART;TZID=America/Denver:20260227T120000
DTEND;TZID=America/Denver:20260227T130000
DTSTAMP:20260423T143414
CREATED:20240608T152048Z
LAST-MODIFIED:20250205T153915Z
UID:10002088-1772193600-1772197200@pikespkblues.org
SUMMARY:Jazz 93.5 Community Blues Hour with BJ Estares
DESCRIPTION:
URL:https://pikespkblues.org/event/jazz-93-5-community-blues-hour-with-bj-estares/2026-02-27/
LOCATION:CO
END:VEVENT
BEGIN:VEVENT
DTSTART;TZID=America/Denver:20260227T180000
DTEND;TZID=America/Denver:20260227T210000
DTSTAMP:20260423T143414
CREATED:20260113T235451Z
LAST-MODIFIED:20260113T235451Z
UID:10005659-1772215200-1772226000@pikespkblues.org
SUMMARY:Delta Sonics with Al Chesis  *** PPBC Member Band ***
DESCRIPTION:Delta Sonics with Al Chesis @ Bonacquisti Wine Company\, Denver on Friday\, February 27th at 6:00 pm.
URL:https://pikespkblues.org/event/delta-sonics-with-al-chesis-ppbc-member-band-43/
LOCATION:Bonacquisti Wine Company\, 4640 Pecos St Unit I\, Denver\, CO\, 80211\, United States
CATEGORIES:Concerts
END:VEVENT
BEGIN:VEVENT
DTSTART;TZID=America/Denver:20260227T193000
DTEND;TZID=America/Denver:20260227T220000
DTSTAMP:20260423T143414
CREATED:20260204T045148Z
LAST-MODIFIED:20260204T045148Z
UID:10005682-1772220600-1772229600@pikespkblues.org
SUMMARY:Devon Allman’s Blues Summit featuring Jimmy\, Larry McCray\, and Laka Soul
DESCRIPTION:Devon Allman’s Blues Summit @ Phil Long Music Hall\, Colorado Springs on Friday\, February 27th at 7:30 pm.
URL:https://pikespkblues.org/event/devon-allmans-blues-summit-featuring-jimmy-larry-mccray-and-laka-soul-2/
LOCATION:Phil Long Music Hall\, 13071 Bass Pro Drive\, Colorado Springs\, CO\, 80921\, United States
CATEGORIES:Concerts
END:VEVENT
BEGIN:VEVENT
DTSTART;TZID=America/Denver:20260228T180000
DTEND;TZID=America/Denver:20260228T210000
DTSTAMP:20260423T143414
CREATED:20260113T235726Z
LAST-MODIFIED:20260113T235726Z
UID:10005660-1772301600-1772312400@pikespkblues.org
SUMMARY:Delta Sonics with Al Chesis  *** PPBC Member Band ***
DESCRIPTION:Delta Sonics with Al Chesis @ Clancy’s Irish Pub\, Wheat Ridge on Saturday\, February 28th at 6:00 PM.
URL:https://pikespkblues.org/event/delta-sonics-with-al-chesis-ppbc-member-band-44/
LOCATION:CO
CATEGORIES:Concerts
END:VEVENT
END:VCALENDAR