BEGIN:VCALENDAR
VERSION:2.0
PRODID:-//Pikes Peak Blues Community - ECPv6.15.20//NONSGML v1.0//EN
CALSCALE:GREGORIAN
METHOD:PUBLISH
X-ORIGINAL-URL:https://pikespkblues.org
X-WR-CALDESC:Events for Pikes Peak Blues Community
REFRESH-INTERVAL;VALUE=DURATION:PT1H
X-Robots-Tag:noindex
X-PUBLISHED-TTL:PT1H
BEGIN:VTIMEZONE
TZID:America/Denver
BEGIN:DAYLIGHT
TZOFFSETFROM:-0700
TZOFFSETTO:-0600
TZNAME:MDT
DTSTART:20250309T090000
END:DAYLIGHT
BEGIN:STANDARD
TZOFFSETFROM:-0600
TZOFFSETTO:-0700
TZNAME:MST
DTSTART:20251102T080000
END:STANDARD
BEGIN:DAYLIGHT
TZOFFSETFROM:-0700
TZOFFSETTO:-0600
TZNAME:MDT
DTSTART:20260308T090000
END:DAYLIGHT
BEGIN:STANDARD
TZOFFSETFROM:-0600
TZOFFSETTO:-0700
TZNAME:MST
DTSTART:20261101T080000
END:STANDARD
BEGIN:DAYLIGHT
TZOFFSETFROM:-0700
TZOFFSETTO:-0600
TZNAME:MDT
DTSTART:20270314T090000
END:DAYLIGHT
BEGIN:STANDARD
TZOFFSETFROM:-0600
TZOFFSETTO:-0700
TZNAME:MST
DTSTART:20271107T080000
END:STANDARD
END:VTIMEZONE
BEGIN:VEVENT
DTSTART;TZID=America/Denver:20260126T120000
DTEND;TZID=America/Denver:20260126T130000
DTSTAMP:20260423T161959
CREATED:20240608T152048Z
LAST-MODIFIED:20250205T153915Z
UID:10002064-1769428800-1769432400@pikespkblues.org
SUMMARY:Jazz 93.5 Community Blues Hour with BJ Estares
DESCRIPTION:
URL:https://pikespkblues.org/event/jazz-93-5-community-blues-hour-with-bj-estares/2026-01-26/
LOCATION:CO
END:VEVENT
BEGIN:VEVENT
DTSTART;TZID=America/Denver:20260126T200000
DTEND;TZID=America/Denver:20260126T230000
DTSTAMP:20260423T161959
CREATED:20251009T001908Z
LAST-MODIFIED:20251009T010915Z
UID:10005317-1769457600-1769468400@pikespkblues.org
SUMMARY:Stormy Monday Blues Jam hosted by Randy Stephens & the Groove Makers
DESCRIPTION:Stormy Monday Blues Jam hosted by Randy Stephens & the Groove Makers @ Kinfolks\, 950 Manitou Ave\, Manitou Springs on Mondays from 8:00 pm to 11:00 pm. Sign up start at 7:30 pm. Bring your own axe and jam with these award winning musicians. Keys\, drums\, and amps provided. Horn players welcome.
URL:https://pikespkblues.org/event/stormy-monday-blues-jam-hosted-by-randy-stephens-the-groove-makers/2026-01-26/
LOCATION:Kinsfolks\, 950 Manitou Ave\, Manitou Springs\, CO\, 80829
CATEGORIES:Jams
END:VEVENT
BEGIN:VEVENT
DTSTART;TZID=America/Denver:20260127T120000
DTEND;TZID=America/Denver:20260127T130000
DTSTAMP:20260423T161959
CREATED:20240608T152048Z
LAST-MODIFIED:20250205T153915Z
UID:10002065-1769515200-1769518800@pikespkblues.org
SUMMARY:Jazz 93.5 Community Blues Hour with BJ Estares
DESCRIPTION:
URL:https://pikespkblues.org/event/jazz-93-5-community-blues-hour-with-bj-estares/2026-01-27/
LOCATION:CO
END:VEVENT
BEGIN:VEVENT
DTSTART;TZID=America/Denver:20260127T180000
DTEND;TZID=America/Denver:20260127T210000
DTSTAMP:20260423T161959
CREATED:20251004T004608Z
LAST-MODIFIED:20251004T182250Z
UID:10004796-1769536800-1769547600@pikespkblues.org
SUMMARY:Sweet T's Rude Blues Jam on Tuesdays at PEAK 31
DESCRIPTION:Sweet T’s Rude Blues Jam @ PEAK 31\, 2419 N Union Blvd (80909) on Tuesdays\, from 6:00 pm to 9:00 pm.
URL:https://pikespkblues.org/event/sweet-ts-rude-blues-jam-on-tuesdays-at-peak-31/2026-01-27/
LOCATION:PEAK 31\, 2419 N Union Blvd\, Colorado Springs\, CO\, 80909\, United States
CATEGORIES:Jams
END:VEVENT
BEGIN:VEVENT
DTSTART;TZID=America/Denver:20260128T120000
DTEND;TZID=America/Denver:20260128T130000
DTSTAMP:20260423T161959
CREATED:20240608T152048Z
LAST-MODIFIED:20250205T153915Z
UID:10002066-1769601600-1769605200@pikespkblues.org
SUMMARY:Jazz 93.5 Community Blues Hour with BJ Estares
DESCRIPTION:
URL:https://pikespkblues.org/event/jazz-93-5-community-blues-hour-with-bj-estares/2026-01-28/
LOCATION:CO
END:VEVENT
BEGIN:VEVENT
DTSTART;TZID=America/Denver:20260129T120000
DTEND;TZID=America/Denver:20260129T130000
DTSTAMP:20260423T161959
CREATED:20240608T152048Z
LAST-MODIFIED:20250205T153915Z
UID:10002067-1769688000-1769691600@pikespkblues.org
SUMMARY:Jazz 93.5 Community Blues Hour with BJ Estares
DESCRIPTION:
URL:https://pikespkblues.org/event/jazz-93-5-community-blues-hour-with-bj-estares/2026-01-29/
LOCATION:CO
END:VEVENT
BEGIN:VEVENT
DTSTART;TZID=America/Denver:20260130T110000
DTEND;TZID=America/Denver:20260130T130000
DTSTAMP:20260423T161959
CREATED:20260101T030756Z
LAST-MODIFIED:20260125T232054Z
UID:10005646-1769770800-1769778000@pikespkblues.org
SUMMARY:Mad Dog Friedman and Nic Clark - Dazzle Lunch Series
DESCRIPTION:Mad Dog Friedman and Nic Clark @ Dazzle Lunch Series\, Dazzle\, Denver on Friday\, January 30th at 11:00 am.
URL:https://pikespkblues.org/event/mad-dog-friedman-and-nic-clark-dazzle-lunch-series/
LOCATION:Dazzle\, 1080 14th Street\, Denver\, CO\, 80202
CATEGORIES:Concerts
END:VEVENT
BEGIN:VEVENT
DTSTART;TZID=America/Denver:20260130T120000
DTEND;TZID=America/Denver:20260130T130000
DTSTAMP:20260423T161959
CREATED:20240608T152048Z
LAST-MODIFIED:20250205T153915Z
UID:10002068-1769774400-1769778000@pikespkblues.org
SUMMARY:Jazz 93.5 Community Blues Hour with BJ Estares
DESCRIPTION:
URL:https://pikespkblues.org/event/jazz-93-5-community-blues-hour-with-bj-estares/2026-01-30/
LOCATION:CO
END:VEVENT
BEGIN:VEVENT
DTSTART;TZID=America/Denver:20260130T180000
DTEND;TZID=America/Denver:20260130T210000
DTSTAMP:20260423T161959
CREATED:20251230T191248Z
LAST-MODIFIED:20251230T191248Z
UID:10005643-1769796000-1769806800@pikespkblues.org
SUMMARY:Delta Sonics with Al Chesis   *** PPBC Member Band ***
DESCRIPTION:Delta Sonics with Al Chesis @ T-Birds Roadhouse\, Wheat Ridge on Friday\, January 30th at 6:00 pm.
URL:https://pikespkblues.org/event/delta-sonics-with-al-chesis-ppbc-member-band-36/
LOCATION:T-Birds Roadhouse\, 9701 W 44th Ave\, Wheat Ridge\, CO\, 80033\, United States
CATEGORIES:Concerts
END:VEVENT
BEGIN:VEVENT
DTSTART;TZID=America/Denver:20260130T180000
DTEND;TZID=America/Denver:20260130T210000
DTSTAMP:20260423T161959
CREATED:20260109T201424Z
LAST-MODIFIED:20260109T201424Z
UID:10005650-1769796000-1769806800@pikespkblues.org
SUMMARY:Deborah Stafford & The Night Stalkers
DESCRIPTION:Deborah Stafford & The Night Stalkers @ Bootstrap Brewery\, Longmont on Friday\, January 30th from 6:00 pm and 9:00 pm.
URL:https://pikespkblues.org/event/deborah-stafford-the-night-stalkers-4/
LOCATION:Bootstrap Brewery\, 142 Pratt St\, Longmont\, CO\, 80501\, United States
CATEGORIES:Concerts
END:VEVENT
BEGIN:VEVENT
DTSTART;TZID=America/Denver:20260130T183000
DTEND;TZID=America/Denver:20260130T213000
DTSTAMP:20260423T161959
CREATED:20260102T213854Z
LAST-MODIFIED:20260102T213854Z
UID:10005648-1769797800-1769808600@pikespkblues.org
SUMMARY:Joe Sciallo & The Deep End    *** PPBC Member Band ***
DESCRIPTION:Joe Sciallo & The Deep End @ Summa\, 817 W Colorado Ave (80905) on Friday\, January 30th from 6:30 pm to 9:30 pm.
URL:https://pikespkblues.org/event/joe-sciallo-the-deep-end-ppbc-member-band-2/
LOCATION:Summa\, 817 W. Colorado Ave\, Colorado Springs\, CO\, 80905\, United States
CATEGORIES:Concerts
END:VEVENT
BEGIN:VEVENT
DTSTART;TZID=America/Denver:20260131T180000
DTEND;TZID=America/Denver:20260131T210000
DTSTAMP:20260423T161959
CREATED:20251230T191609Z
LAST-MODIFIED:20251230T191609Z
UID:10005644-1769882400-1769893200@pikespkblues.org
SUMMARY:Delta Sonics with Al Chesis   *** PPBC Member Band ***
DESCRIPTION:Delta Sonics with Al Chesis @ Clancy’s Irish Pub\, Wheat Ridge on Saturday\, January 31st at 6:00 pm.
URL:https://pikespkblues.org/event/delta-sonics-with-al-chesis-ppbc-member-band-37/
LOCATION:Clancy’s Irish Pub\, 7000 W 38th Ave\, Wheat Ridge\, CO\, 80033\, United States
END:VEVENT
BEGIN:VEVENT
DTSTART;TZID=America/Denver:20260131T183000
DTEND;TZID=America/Denver:20260131T213000
DTSTAMP:20260423T161959
CREATED:20260118T164453Z
LAST-MODIFIED:20260118T164453Z
UID:10005661-1769884200-1769895000@pikespkblues.org
SUMMARY:Randy Stephens and The Groove Makers
DESCRIPTION:Randy Stephens and The Groove Makers @ Summa\, 817 W Colorado (80905) on Saturday\, January 31st from 6:30 pm to 9:30 pm.
URL:https://pikespkblues.org/event/randy-stephens-and-the-groove-makers-3/
LOCATION:Summa\, 817 W. Colorado Ave\, Colorado Springs\, CO\, 80905\, United States
CATEGORIES:Concerts
END:VEVENT
END:VCALENDAR