BEGIN:VCALENDAR
VERSION:2.0
PRODID:-//Pikes Peak Blues Community - ECPv6.15.20//NONSGML v1.0//EN
CALSCALE:GREGORIAN
METHOD:PUBLISH
X-WR-CALNAME:Pikes Peak Blues Community
X-ORIGINAL-URL:https://pikespkblues.org
X-WR-CALDESC:Events for Pikes Peak Blues Community
REFRESH-INTERVAL;VALUE=DURATION:PT1H
X-Robots-Tag:noindex
X-PUBLISHED-TTL:PT1H
BEGIN:VTIMEZONE
TZID:America/Denver
BEGIN:DAYLIGHT
TZOFFSETFROM:-0700
TZOFFSETTO:-0600
TZNAME:MDT
DTSTART:20250309T090000
END:DAYLIGHT
BEGIN:STANDARD
TZOFFSETFROM:-0600
TZOFFSETTO:-0700
TZNAME:MST
DTSTART:20251102T080000
END:STANDARD
BEGIN:DAYLIGHT
TZOFFSETFROM:-0700
TZOFFSETTO:-0600
TZNAME:MDT
DTSTART:20260308T090000
END:DAYLIGHT
BEGIN:STANDARD
TZOFFSETFROM:-0600
TZOFFSETTO:-0700
TZNAME:MST
DTSTART:20261101T080000
END:STANDARD
BEGIN:DAYLIGHT
TZOFFSETFROM:-0700
TZOFFSETTO:-0600
TZNAME:MDT
DTSTART:20270314T090000
END:DAYLIGHT
BEGIN:STANDARD
TZOFFSETFROM:-0600
TZOFFSETTO:-0700
TZNAME:MST
DTSTART:20271107T080000
END:STANDARD
END:VTIMEZONE
BEGIN:VEVENT
DTSTART;TZID=America/Denver:20260119T120000
DTEND;TZID=America/Denver:20260119T130000
DTSTAMP:20260423T175125
CREATED:20240608T152048Z
LAST-MODIFIED:20250205T153915Z
UID:10002059-1768824000-1768827600@pikespkblues.org
SUMMARY:Jazz 93.5 Community Blues Hour with BJ Estares
DESCRIPTION:
URL:https://pikespkblues.org/event/jazz-93-5-community-blues-hour-with-bj-estares/2026-01-19/
LOCATION:CO
END:VEVENT
BEGIN:VEVENT
DTSTART;TZID=America/Denver:20260119T200000
DTEND;TZID=America/Denver:20260119T230000
DTSTAMP:20260423T175125
CREATED:20251009T001908Z
LAST-MODIFIED:20251009T010915Z
UID:10005316-1768852800-1768863600@pikespkblues.org
SUMMARY:Stormy Monday Blues Jam hosted by Randy Stephens & the Groove Makers
DESCRIPTION:Stormy Monday Blues Jam hosted by Randy Stephens & the Groove Makers @ Kinfolks\, 950 Manitou Ave\, Manitou Springs on Mondays from 8:00 pm to 11:00 pm. Sign up start at 7:30 pm. Bring your own axe and jam with these award winning musicians. Keys\, drums\, and amps provided. Horn players welcome.
URL:https://pikespkblues.org/event/stormy-monday-blues-jam-hosted-by-randy-stephens-the-groove-makers/2026-01-19/
LOCATION:Kinsfolks\, 950 Manitou Ave\, Manitou Springs\, CO\, 80829
CATEGORIES:Jams
END:VEVENT
BEGIN:VEVENT
DTSTART;TZID=America/Denver:20260120T120000
DTEND;TZID=America/Denver:20260120T130000
DTSTAMP:20260423T175125
CREATED:20240608T152048Z
LAST-MODIFIED:20250205T153915Z
UID:10002060-1768910400-1768914000@pikespkblues.org
SUMMARY:Jazz 93.5 Community Blues Hour with BJ Estares
DESCRIPTION:
URL:https://pikespkblues.org/event/jazz-93-5-community-blues-hour-with-bj-estares/2026-01-20/
LOCATION:CO
END:VEVENT
BEGIN:VEVENT
DTSTART;TZID=America/Denver:20260120T180000
DTEND;TZID=America/Denver:20260120T210000
DTSTAMP:20260423T175125
CREATED:20251004T004608Z
LAST-MODIFIED:20251004T182250Z
UID:10004795-1768932000-1768942800@pikespkblues.org
SUMMARY:Sweet T's Rude Blues Jam on Tuesdays at PEAK 31
DESCRIPTION:Sweet T’s Rude Blues Jam @ PEAK 31\, 2419 N Union Blvd (80909) on Tuesdays\, from 6:00 pm to 9:00 pm.
URL:https://pikespkblues.org/event/sweet-ts-rude-blues-jam-on-tuesdays-at-peak-31/2026-01-20/
LOCATION:PEAK 31\, 2419 N Union Blvd\, Colorado Springs\, CO\, 80909\, United States
CATEGORIES:Jams
END:VEVENT
BEGIN:VEVENT
DTSTART;TZID=America/Denver:20260121T120000
DTEND;TZID=America/Denver:20260121T130000
DTSTAMP:20260423T175125
CREATED:20240608T152048Z
LAST-MODIFIED:20250205T153915Z
UID:10002061-1768996800-1769000400@pikespkblues.org
SUMMARY:Jazz 93.5 Community Blues Hour with BJ Estares
DESCRIPTION:
URL:https://pikespkblues.org/event/jazz-93-5-community-blues-hour-with-bj-estares/2026-01-21/
LOCATION:CO
END:VEVENT
BEGIN:VEVENT
DTSTART;TZID=America/Denver:20260121T193000
DTEND;TZID=America/Denver:20260121T223000
DTSTAMP:20260423T175125
CREATED:20251228T175527Z
LAST-MODIFIED:20251228T175527Z
UID:10005630-1769023800-1769034600@pikespkblues.org
SUMMARY:Rex Peoples & XFactr - "Nissi's Bourbon Blues & Grooves"
DESCRIPTION:Rex Peoples & XFactr @ Nissi’s\, Lafayette on Wednesday\, January 21st at 7:30 pm.
URL:https://pikespkblues.org/event/rex-peoples-xfactr-nissis-bourbon-blues-grooves/
LOCATION:Nissi’s\, 1455 Coal Creek Dr Unit T\, Lafayette\, CO\, 80026
CATEGORIES:Concerts
END:VEVENT
BEGIN:VEVENT
DTSTART;TZID=America/Denver:20260122T120000
DTEND;TZID=America/Denver:20260122T130000
DTSTAMP:20260423T175125
CREATED:20240608T152048Z
LAST-MODIFIED:20250205T153915Z
UID:10002062-1769083200-1769086800@pikespkblues.org
SUMMARY:Jazz 93.5 Community Blues Hour with BJ Estares
DESCRIPTION:
URL:https://pikespkblues.org/event/jazz-93-5-community-blues-hour-with-bj-estares/2026-01-22/
LOCATION:CO
END:VEVENT
BEGIN:VEVENT
DTSTART;TZID=America/Denver:20260123T120000
DTEND;TZID=America/Denver:20260123T130000
DTSTAMP:20260423T175125
CREATED:20240608T152048Z
LAST-MODIFIED:20250205T153915Z
UID:10002063-1769169600-1769173200@pikespkblues.org
SUMMARY:Jazz 93.5 Community Blues Hour with BJ Estares
DESCRIPTION:
URL:https://pikespkblues.org/event/jazz-93-5-community-blues-hour-with-bj-estares/2026-01-23/
LOCATION:CO
END:VEVENT
BEGIN:VEVENT
DTSTART;TZID=America/Denver:20260123T180000
DTEND;TZID=America/Denver:20260123T210000
DTSTAMP:20260423T175125
CREATED:20251228T191404Z
LAST-MODIFIED:20251228T191404Z
UID:10005636-1769191200-1769202000@pikespkblues.org
SUMMARY:Tasty House
DESCRIPTION:Tasty House @ Rico’s Café and Wine Bar\, 322 1/2 N Tejon St (80903) on Friday\, January 23rd from 6:00 pm to 9:00 pm. [No Cover]
URL:https://pikespkblues.org/event/tasty-house-2/
LOCATION:Rico’s Cafe and Wine Bar\, 322 1/2\, N Tejon St\, Colorado Springs\, CO\, 80903\, United States
CATEGORIES:Concerts
END:VEVENT
BEGIN:VEVENT
DTSTART;TZID=America/Denver:20260123T190000
DTEND;TZID=America/Denver:20260123T220000
DTSTAMP:20260423T175125
CREATED:20251230T190757Z
LAST-MODIFIED:20251230T190757Z
UID:10005642-1769194800-1769205600@pikespkblues.org
SUMMARY:Delta Sonics with Al Chesis   *** PPBC Member Band ***
DESCRIPTION:Delta Sonics with Al Chesis @ Lot 46 – Edgewater Inn\, Edgewater on Friday\, January 23rd at 7:00 pm.
URL:https://pikespkblues.org/event/delta-sonics-with-al-chesis-ppbc-member-band-35/
LOCATION:Edgewater Inn\, 5302 W 25th Ave\, Edgewater\, CO\, 80214\, United States
CATEGORIES:Concerts
END:VEVENT
BEGIN:VEVENT
DTSTART;TZID=America/Denver:20260124T180000
DTEND;TZID=America/Denver:20260124T210000
DTSTAMP:20260423T175125
CREATED:20260113T231725Z
LAST-MODIFIED:20260113T231725Z
UID:10005654-1769277600-1769288400@pikespkblues.org
SUMMARY:Delta Sonics with Al Chesis  *** PPBC Member Band ***
DESCRIPTION:Delta Sonics with Al Chesis @ Bricks on Main Street\, Longmont on Saturday\, January 24th at 6:00 pm.
URL:https://pikespkblues.org/event/delta-sonics-with-al-chesis-ppbc-member-band-39/
LOCATION:Bricks on Main Street\, 471 Main St\, Longmont\, CO\, 80501\, United States
CATEGORIES:Concerts
END:VEVENT
END:VCALENDAR