BEGIN:VCALENDAR
VERSION:2.0
PRODID:-//Pikes Peak Blues Community - ECPv6.15.20//NONSGML v1.0//EN
CALSCALE:GREGORIAN
METHOD:PUBLISH
X-WR-CALNAME:Pikes Peak Blues Community
X-ORIGINAL-URL:https://pikespkblues.org
X-WR-CALDESC:Events for Pikes Peak Blues Community
REFRESH-INTERVAL;VALUE=DURATION:PT1H
X-Robots-Tag:noindex
X-PUBLISHED-TTL:PT1H
BEGIN:VTIMEZONE
TZID:America/Denver
BEGIN:DAYLIGHT
TZOFFSETFROM:-0700
TZOFFSETTO:-0600
TZNAME:MDT
DTSTART:20240310T090000
END:DAYLIGHT
BEGIN:STANDARD
TZOFFSETFROM:-0600
TZOFFSETTO:-0700
TZNAME:MST
DTSTART:20241103T080000
END:STANDARD
BEGIN:DAYLIGHT
TZOFFSETFROM:-0700
TZOFFSETTO:-0600
TZNAME:MDT
DTSTART:20250309T090000
END:DAYLIGHT
BEGIN:STANDARD
TZOFFSETFROM:-0600
TZOFFSETTO:-0700
TZNAME:MST
DTSTART:20251102T080000
END:STANDARD
BEGIN:DAYLIGHT
TZOFFSETFROM:-0700
TZOFFSETTO:-0600
TZNAME:MDT
DTSTART:20260308T090000
END:DAYLIGHT
BEGIN:STANDARD
TZOFFSETFROM:-0600
TZOFFSETTO:-0700
TZNAME:MST
DTSTART:20261101T080000
END:STANDARD
END:VTIMEZONE
BEGIN:VEVENT
DTSTART;TZID=America/Denver:20250929T120000
DTEND;TZID=America/Denver:20250929T130000
DTSTAMP:20260424T024203
CREATED:20240608T152048Z
LAST-MODIFIED:20250205T153915Z
UID:10001979-1759147200-1759150800@pikespkblues.org
SUMMARY:Jazz 93.5 Community Blues Hour with BJ Estares
DESCRIPTION:
URL:https://pikespkblues.org/event/jazz-93-5-community-blues-hour-with-bj-estares/2025-09-29/
LOCATION:CO
END:VEVENT
BEGIN:VEVENT
DTSTART;TZID=America/Denver:20250930T120000
DTEND;TZID=America/Denver:20250930T130000
DTSTAMP:20260424T024203
CREATED:20240608T152048Z
LAST-MODIFIED:20250205T153915Z
UID:10001980-1759233600-1759237200@pikespkblues.org
SUMMARY:Jazz 93.5 Community Blues Hour with BJ Estares
DESCRIPTION:
URL:https://pikespkblues.org/event/jazz-93-5-community-blues-hour-with-bj-estares/2025-09-30/
LOCATION:CO
END:VEVENT
BEGIN:VEVENT
DTSTART;TZID=America/Denver:20250930T173000
DTEND;TZID=America/Denver:20250930T193000
DTSTAMP:20260424T024203
CREATED:20250729T195317Z
LAST-MODIFIED:20250916T161055Z
UID:10004442-1759253400-1759260600@pikespkblues.org
SUMMARY:Delta Sonics with Al Chesis
DESCRIPTION:Delta Sonics *** PPBC Member Band *** with Al Chesis\, Bob Pellegrino\, and special guest Joe Sciallo – PPBC Paint The Town Blue free public concert in Bancroft Park\, Old Colorado City on Tuesday\, September 30th at 5:30 pm
URL:https://pikespkblues.org/event/the-delta-sonics-with-al-chesis-7/
LOCATION:Bancroft Park\, 2408 W Colorado Ave\, Colorado Springs\, 80904\, United States
CATEGORIES:Concerts
END:VEVENT
BEGIN:VEVENT
DTSTART;TZID=America/Denver:20251001T120000
DTEND;TZID=America/Denver:20251001T130000
DTSTAMP:20260424T024203
CREATED:20240608T152048Z
LAST-MODIFIED:20250205T153915Z
UID:10001981-1759320000-1759323600@pikespkblues.org
SUMMARY:Jazz 93.5 Community Blues Hour with BJ Estares
DESCRIPTION:
URL:https://pikespkblues.org/event/jazz-93-5-community-blues-hour-with-bj-estares/2025-10-01/
LOCATION:CO
END:VEVENT
BEGIN:VEVENT
DTSTART;TZID=America/Denver:20251002T120000
DTEND;TZID=America/Denver:20251002T130000
DTSTAMP:20260424T024203
CREATED:20240608T152048Z
LAST-MODIFIED:20250205T153915Z
UID:10001982-1759406400-1759410000@pikespkblues.org
SUMMARY:Jazz 93.5 Community Blues Hour with BJ Estares
DESCRIPTION:
URL:https://pikespkblues.org/event/jazz-93-5-community-blues-hour-with-bj-estares/2025-10-02/
LOCATION:CO
END:VEVENT
BEGIN:VEVENT
DTSTART;TZID=America/Denver:20251002T170000
DTEND;TZID=America/Denver:20251002T200000
DTSTAMP:20260424T024203
CREATED:20250817T201810Z
LAST-MODIFIED:20250817T212809Z
UID:10004461-1759424400-1759435200@pikespkblues.org
SUMMARY:John Wise/Tribe
DESCRIPTION:John Wise/Tribe @ Rico’s Cafe and Wine Bar\, 322 1/2 N Tejon St\, Colorado Springs on Thursday\, October 2nd at 5:00 pm – No Cover
URL:https://pikespkblues.org/event/john-wise-tribe-10/
LOCATION:Rico’s Cafe and Wine Bar\, 322 1/2\, N Tejon St\, Colorado Springs\, CO\, 80903\, United States
CATEGORIES:Concerts
END:VEVENT
BEGIN:VEVENT
DTSTART;TZID=America/Denver:20251003T120000
DTEND;TZID=America/Denver:20251003T130000
DTSTAMP:20260424T024203
CREATED:20240608T152048Z
LAST-MODIFIED:20250205T153915Z
UID:10001983-1759492800-1759496400@pikespkblues.org
SUMMARY:Jazz 93.5 Community Blues Hour with BJ Estares
DESCRIPTION:
URL:https://pikespkblues.org/event/jazz-93-5-community-blues-hour-with-bj-estares/2025-10-03/
LOCATION:CO
END:VEVENT
BEGIN:VEVENT
DTSTART;TZID=America/Denver:20251003T180000
DTEND;TZID=America/Denver:20251003T210000
DTSTAMP:20260424T024203
CREATED:20250817T203317Z
LAST-MODIFIED:20250909T144908Z
UID:10004462-1759514400-1759525200@pikespkblues.org
SUMMARY:The Cleveland Experiment with Tommy Saxman
DESCRIPTION:The Cleveland Experiment with PPBC member Tommy Saxman @ Rico’s Cafe and Wine Bar\, 322 1/2 N Tejon St\, Colorado Springs on Friday\, October 3rd at 6:00 pm.  No Cover
URL:https://pikespkblues.org/event/the-cleveland-experiment-12/
LOCATION:Rico’s Cafe and Wine Bar\, 322 1/2\, N Tejon St\, Colorado Springs\, CO\, 80903\, United States
CATEGORIES:Concerts
END:VEVENT
BEGIN:VEVENT
DTSTART;TZID=America/Denver:20251003T200000
DTEND;TZID=America/Denver:20251003T223000
DTSTAMP:20260424T024203
CREATED:20250916T135224Z
LAST-MODIFIED:20250916T135224Z
UID:10004503-1759521600-1759530600@pikespkblues.org
SUMMARY:Delta Sonics with Al Chesis  *** PPBC Member Band ***
DESCRIPTION:Delta Sonics with Al Chesis @ Edgewater Inn\, Edgewater on Friday\, October 3rd at 8:00 pm.
URL:https://pikespkblues.org/event/delta-sonics-with-al-chesis-ppbc-member-band-16/
LOCATION:Edgewater Inn\, 5302 W 25th Ave\, Edgewater\, CO\, 80214\, United States
CATEGORIES:Concerts
END:VEVENT
BEGIN:VEVENT
DTSTART;TZID=America/Denver:20251003T200000
DTEND;TZID=America/Denver:20251003T230000
DTSTAMP:20260424T024203
CREATED:20250827T210554Z
LAST-MODIFIED:20250827T210554Z
UID:10004487-1759521600-1759532400@pikespkblues.org
SUMMARY:Delta Sonics with Al Chesis *** PPBC Member Band ***
DESCRIPTION:Delta Sonics with Al Chesis *** PPBC Member Band *** @ Edgewater Inn\, Edgewater on Friday\, October 3rd at 8:00 pm
URL:https://pikespkblues.org/event/delta-sonics-with-al-chesis-ppbc-member-band-13/
LOCATION:Edgewater Inn\, 5302 W 25th Ave\, Edgewater\, CO\, 80214\, United States
CATEGORIES:Concerts
END:VEVENT
BEGIN:VEVENT
DTSTART;TZID=America/Denver:20251004T130000
DTEND;TZID=America/Denver:20251004T150000
DTSTAMP:20260424T024203
CREATED:20250924T180617Z
LAST-MODIFIED:20250924T180617Z
UID:10004515-1759582800-1759590000@pikespkblues.org
SUMMARY:Lafayette Music Fest presents Mad Dog Blues Super Jam with 100 Pound Housecat\, Lionel Young\, Nic Clark\, Shack\, and Mad Dog Blues
DESCRIPTION:Lafayette Music Fest presents Mad Dog Blues Super Jam with 100 Pound Housecat\, Lionel Young\, Nic Clark\, Shack\, and Mad Dog Blues @ The District (Atrium Stage)\, Lafayette on Saturday\, November 1st from 1:00 pm to 3:00 pm. Free admission. https://www.lafayettemusicfest.com/2025-lineup/mad-dog-blues-superjam.
URL:https://pikespkblues.org/event/lafayette-music-fest-presents-mad-dog-blues-super-jam-with-100-pound-housecat-lionel-young-nic-clark-shack-and-mad-dog-blues/
LOCATION:The District\, 400 W South Boulder St\, Lafayette\, CO\, 80026\, United States
CATEGORIES:Concerts
END:VEVENT
BEGIN:VEVENT
DTSTART;TZID=America/Denver:20251004T180000
DTEND;TZID=America/Denver:20251004T210000
DTSTAMP:20260424T024203
CREATED:20250817T204504Z
LAST-MODIFIED:20250817T204603Z
UID:10004463-1759600800-1759611600@pikespkblues.org
SUMMARY:Rafiel and The Roomshakers
DESCRIPTION:Rafiel and The Roomshakers @ Rico’s Cafe and Wine Bar\, 322 1/2 N Tejon St\, Colorado Springs on Saturday\, October 4th at 6:00 pm. –  No Cover
URL:https://pikespkblues.org/event/rafiel-and-the-roomshakers-6/
LOCATION:Rico’s Cafe and Wine Bar\, 322 1/2\, N Tejon St\, Colorado Springs\, CO\, 80903\, United States
CATEGORIES:Concerts
END:VEVENT
BEGIN:VEVENT
DTSTART;TZID=America/Denver:20251004T180000
DTEND;TZID=America/Denver:20251004T210000
DTSTAMP:20260424T024203
CREATED:20250827T210951Z
LAST-MODIFIED:20250827T210951Z
UID:10004488-1759600800-1759611600@pikespkblues.org
SUMMARY:Delta Sonics with Al Chesis *** PPBC Member Band ***
DESCRIPTION:Delta Sonics with Al Chesis *** PPBC Member Band *** @ Clancy’s Irish Pub\, Wheat Ridge on Saturday\, October 4th at 6:00 pm
URL:https://pikespkblues.org/event/delta-sonics-with-al-chesis-ppbc-member-band-14/
LOCATION:Clancy’s Irish Pub\, 7000 W 38th Ave\, Wheat Ridge\, CO\, 80033\, United States
CATEGORIES:Concerts
END:VEVENT
BEGIN:VEVENT
DTSTART;TZID=America/Denver:20251004T180000
DTEND;TZID=America/Denver:20251004T210000
DTSTAMP:20260424T024203
CREATED:20250916T142514Z
LAST-MODIFIED:20250916T142514Z
UID:10004504-1759600800-1759611600@pikespkblues.org
SUMMARY:Delta Sonics with Al Chesis  *** PPBC Member Band ***
DESCRIPTION:Delta Sonics with Al Chesis @ Clancy’s Irish Pub\, Wheat Ridge on Saturday\, October 4th at 6:00 pm.
URL:https://pikespkblues.org/event/delta-sonics-with-al-chesis-ppbc-member-band-17/
LOCATION:Clancy’s Irish Pub\, 7000 W 38th Ave\, Wheat Ridge\, CO\, 80033\, United States
CATEGORIES:Concerts
END:VEVENT
BEGIN:VEVENT
DTSTART;TZID=America/Denver:20251005T170000
DTEND;TZID=America/Denver:20251005T200000
DTSTAMP:20260424T024203
CREATED:20250709T181808Z
LAST-MODIFIED:20250709T181808Z
UID:10004421-1759683600-1759694400@pikespkblues.org
SUMMARY:Colorado Blues Society 2025 Road to Memphis: Colorado IBC Competition - 2nd Challenge
DESCRIPTION:Colorado Blues Society 2025 Road to Memphis: Colorado IBC Competition – 2nd Challenge @ Roots Music Project\, Boulder on Sunday\, October 5th at 5:00 pm
URL:https://pikespkblues.org/event/colorado-blues-society-2025-road-to-memphis-colorado-ibc-competition-2nd-challenge/
LOCATION:Roots Music Project\, 4747 Pearl St Suite V3A\, Boulder\, CO\, 80301
CATEGORIES:Concerts
END:VEVENT
END:VCALENDAR