BEGIN:VCALENDAR
VERSION:2.0
PRODID:-//Pikes Peak Blues Community - ECPv6.15.20//NONSGML v1.0//EN
CALSCALE:GREGORIAN
METHOD:PUBLISH
X-ORIGINAL-URL:https://pikespkblues.org
X-WR-CALDESC:Events for Pikes Peak Blues Community
REFRESH-INTERVAL;VALUE=DURATION:PT1H
X-Robots-Tag:noindex
X-PUBLISHED-TTL:PT1H
BEGIN:VTIMEZONE
TZID:America/Denver
BEGIN:DAYLIGHT
TZOFFSETFROM:-0700
TZOFFSETTO:-0600
TZNAME:MDT
DTSTART:20240310T090000
END:DAYLIGHT
BEGIN:STANDARD
TZOFFSETFROM:-0600
TZOFFSETTO:-0700
TZNAME:MST
DTSTART:20241103T080000
END:STANDARD
BEGIN:DAYLIGHT
TZOFFSETFROM:-0700
TZOFFSETTO:-0600
TZNAME:MDT
DTSTART:20250309T090000
END:DAYLIGHT
BEGIN:STANDARD
TZOFFSETFROM:-0600
TZOFFSETTO:-0700
TZNAME:MST
DTSTART:20251102T080000
END:STANDARD
BEGIN:DAYLIGHT
TZOFFSETFROM:-0700
TZOFFSETTO:-0600
TZNAME:MDT
DTSTART:20260308T090000
END:DAYLIGHT
BEGIN:STANDARD
TZOFFSETFROM:-0600
TZOFFSETTO:-0700
TZNAME:MST
DTSTART:20261101T080000
END:STANDARD
END:VTIMEZONE
BEGIN:VEVENT
DTSTART;TZID=America/Denver:20250707T120000
DTEND;TZID=America/Denver:20250707T130000
DTSTAMP:20260425T063724
CREATED:20240608T152048Z
LAST-MODIFIED:20250205T153915Z
UID:10001919-1751889600-1751893200@pikespkblues.org
SUMMARY:Jazz 93.5 Community Blues Hour with BJ Estares
DESCRIPTION:
URL:https://pikespkblues.org/event/jazz-93-5-community-blues-hour-with-bj-estares/2025-07-07/
LOCATION:CO
END:VEVENT
BEGIN:VEVENT
DTSTART;TZID=America/Denver:20250708T120000
DTEND;TZID=America/Denver:20250708T130000
DTSTAMP:20260425T063724
CREATED:20240608T152048Z
LAST-MODIFIED:20250205T153915Z
UID:10001920-1751976000-1751979600@pikespkblues.org
SUMMARY:Jazz 93.5 Community Blues Hour with BJ Estares
DESCRIPTION:
URL:https://pikespkblues.org/event/jazz-93-5-community-blues-hour-with-bj-estares/2025-07-08/
LOCATION:CO
END:VEVENT
BEGIN:VEVENT
DTSTART;TZID=America/Denver:20250708T173000
DTEND;TZID=America/Denver:20250708T193000
DTSTAMP:20260425T063724
CREATED:20250602T172557Z
LAST-MODIFIED:20250603T162205Z
UID:10004382-1751995800-1752003000@pikespkblues.org
SUMMARY:The Vindicators
DESCRIPTION:The Vindicators @ Bancroft Park\, Old Colorado City on Tuesday\, July 8th at 5:30 pm\nPart of Dizzy Charlie’s Music & Events “Tuesdays in Bancroft Park” free Summer Music Series
URL:https://pikespkblues.org/event/the-vindicators/
LOCATION:Bancroft Park\, 2408 W Colorado Ave\, Colorado Springs\, 80904\, United States
CATEGORIES:Concerts
END:VEVENT
BEGIN:VEVENT
DTSTART;TZID=America/Denver:20250709T120000
DTEND;TZID=America/Denver:20250709T130000
DTSTAMP:20260425T063724
CREATED:20240608T152048Z
LAST-MODIFIED:20250205T153915Z
UID:10001921-1752062400-1752066000@pikespkblues.org
SUMMARY:Jazz 93.5 Community Blues Hour with BJ Estares
DESCRIPTION:
URL:https://pikespkblues.org/event/jazz-93-5-community-blues-hour-with-bj-estares/2025-07-09/
LOCATION:CO
END:VEVENT
BEGIN:VEVENT
DTSTART;TZID=America/Denver:20250709T193000
DTEND;TZID=America/Denver:20250709T223000
DTSTAMP:20260425T063724
CREATED:20250701T185654Z
LAST-MODIFIED:20250701T185654Z
UID:10004401-1752089400-1752100200@pikespkblues.org
SUMMARY:The Delta Sonics with Al Chesis
DESCRIPTION:The Delta Sonics *** PPBC Member Band *** @ Ophelia’s Free Basement Sessions at Ophelia’s Electric Soapbox\, Denver on Wednesday\, July 9th at 7:30 pm\n  
URL:https://pikespkblues.org/event/the-delta-sonics-with-al-chesis-4/
LOCATION:Ophelia’s Electric Soapbox\, 1215 20th St\, Denver\, CO\, 80202\, United States
CATEGORIES:Concerts
END:VEVENT
BEGIN:VEVENT
DTSTART;TZID=America/Denver:20250710T120000
DTEND;TZID=America/Denver:20250710T130000
DTSTAMP:20260425T063724
CREATED:20240608T152048Z
LAST-MODIFIED:20250205T153915Z
UID:10001922-1752148800-1752152400@pikespkblues.org
SUMMARY:Jazz 93.5 Community Blues Hour with BJ Estares
DESCRIPTION:
URL:https://pikespkblues.org/event/jazz-93-5-community-blues-hour-with-bj-estares/2025-07-10/
LOCATION:CO
END:VEVENT
BEGIN:VEVENT
DTSTART;TZID=America/Denver:20250710T170000
DTEND;TZID=America/Denver:20250710T200000
DTSTAMP:20260425T063724
CREATED:20250706T162608Z
LAST-MODIFIED:20250706T163942Z
UID:10004412-1752166800-1752177600@pikespkblues.org
SUMMARY:Tommy Saxman Duo
DESCRIPTION:Tommy Saxman Duo @ Art on the Mesa\, Gold Hill Mesa\, Colorado Springs on Thursday\, July 10th at 5:00 pm
URL:https://pikespkblues.org/event/tommy-saxman-duo/
LOCATION:Art on the Mesa\, 142 S Raven Mine Dr Suite 200\, Colorado Springs\, CO\, 80905\, United States
CATEGORIES:Concerts
END:VEVENT
BEGIN:VEVENT
DTSTART;TZID=America/Denver:20250711T120000
DTEND;TZID=America/Denver:20250711T130000
DTSTAMP:20260425T063724
CREATED:20240608T152048Z
LAST-MODIFIED:20250205T153915Z
UID:10001923-1752235200-1752238800@pikespkblues.org
SUMMARY:Jazz 93.5 Community Blues Hour with BJ Estares
DESCRIPTION:
URL:https://pikespkblues.org/event/jazz-93-5-community-blues-hour-with-bj-estares/2025-07-11/
LOCATION:CO
END:VEVENT
BEGIN:VEVENT
DTSTART;TZID=America/Denver:20250711T190000
DTEND;TZID=America/Denver:20250711T220000
DTSTAMP:20260425T063724
CREATED:20250708T145017Z
LAST-MODIFIED:20250708T145422Z
UID:10004416-1752260400-1752271200@pikespkblues.org
SUMMARY:Tab Benoit - 'I Hear Thunder 2025 Tour' with special guests Too Slim and the Taildraggers
DESCRIPTION:CONCERT SOLD OUT – CONCERT SOLD OUT \nTab Benoit ‘I Hear Thunder Tour 2025’ with special guests Too Slim and the Taildraggers @ Stargazers Theatre\, Colorado Springs on Friday\, July 11th at 7:00 pm. Doors open at 6:00 pm \nCONCERT SOLD OUT – CONCERT SOLD OUT
URL:https://pikespkblues.org/event/tab-benoit-i-hear-thunder-2025-tour/
LOCATION:Stargazers Theatre\, 10 S Parkside Dr\, Colorado Springs\, CO\, 80910\, United States
CATEGORIES:Concerts
END:VEVENT
BEGIN:VEVENT
DTSTART;TZID=America/Denver:20250712T160000
DTEND;TZID=America/Denver:20250712T183000
DTSTAMP:20260425T063724
CREATED:20250628T191635Z
LAST-MODIFIED:20250628T192543Z
UID:10004395-1752336000-1752345000@pikespkblues.org
SUMMARY:Stevie P and The Hard Road
DESCRIPTION:Stevie P and The Hard Road @ Woodmen Hills Recreation Center East – RCE Pavilion on Saturday\, July 12th at 4:00 pm
URL:https://pikespkblues.org/event/stevie-p-and-the-hard-road/
LOCATION:Woodmen Hills Recreation Center East – RCE Pavilion\, 9205 Meridian Ranch Blvd\, Peyton\, CO\, 80831\, United States
CATEGORIES:Concerts
END:VEVENT
BEGIN:VEVENT
DTSTART;TZID=America/Denver:20250712T180000
DTEND;TZID=America/Denver:20250712T210000
DTSTAMP:20260425T063724
CREATED:20250602T163555Z
LAST-MODIFIED:20250602T163555Z
UID:10004377-1752343200-1752354000@pikespkblues.org
SUMMARY:Hoodoo Honey
DESCRIPTION:Hoodoo Honey ** PPBC Band Member ** @ Summa Taphouse\, Colorado Springs on Saturday\, July 12th at 6:00 pm
URL:https://pikespkblues.org/event/hoodoo-honey-13/
LOCATION:Summa\, 817 W. Colorado Ave\, Colorado Springs\, CO\, 80905\, United States
CATEGORIES:Concerts
END:VEVENT
BEGIN:VEVENT
DTSTART;TZID=America/Denver:20250713T120000
DTEND;TZID=America/Denver:20250713T150000
DTSTAMP:20260425T063724
CREATED:20250701T191626Z
LAST-MODIFIED:20250701T205828Z
UID:10004402-1752408000-1752418800@pikespkblues.org
SUMMARY:The Delta Sonics Duo
DESCRIPTION:The Delta Sonics Duo *** PPBC Member Band *** @ Teller’s Taproom & Kitchen\, Lakewood on Sunday\, July 13th at 12:00 pm
URL:https://pikespkblues.org/event/delta-sonics-duo-with-al-chesis/
LOCATION:Teller’s Taproom & Kitchen\, 1990 Youngfield St\, Lakewood\, CO\, 80215\, United States
CATEGORIES:Concerts
END:VEVENT
END:VCALENDAR