BEGIN:VCALENDAR
VERSION:2.0
PRODID:-//Pikes Peak Blues Community - ECPv6.15.20//NONSGML v1.0//EN
CALSCALE:GREGORIAN
METHOD:PUBLISH
X-WR-CALNAME:Pikes Peak Blues Community
X-ORIGINAL-URL:https://pikespkblues.org
X-WR-CALDESC:Events for Pikes Peak Blues Community
REFRESH-INTERVAL;VALUE=DURATION:PT1H
X-Robots-Tag:noindex
X-PUBLISHED-TTL:PT1H
BEGIN:VTIMEZONE
TZID:America/Denver
BEGIN:DAYLIGHT
TZOFFSETFROM:-0700
TZOFFSETTO:-0600
TZNAME:MDT
DTSTART:20240310T090000
END:DAYLIGHT
BEGIN:STANDARD
TZOFFSETFROM:-0600
TZOFFSETTO:-0700
TZNAME:MST
DTSTART:20241103T080000
END:STANDARD
BEGIN:DAYLIGHT
TZOFFSETFROM:-0700
TZOFFSETTO:-0600
TZNAME:MDT
DTSTART:20250309T090000
END:DAYLIGHT
BEGIN:STANDARD
TZOFFSETFROM:-0600
TZOFFSETTO:-0700
TZNAME:MST
DTSTART:20251102T080000
END:STANDARD
BEGIN:DAYLIGHT
TZOFFSETFROM:-0700
TZOFFSETTO:-0600
TZNAME:MDT
DTSTART:20260308T090000
END:DAYLIGHT
BEGIN:STANDARD
TZOFFSETFROM:-0600
TZOFFSETTO:-0700
TZNAME:MST
DTSTART:20261101T080000
END:STANDARD
END:VTIMEZONE
BEGIN:VEVENT
DTSTART;TZID=America/Denver:20250217T120000
DTEND;TZID=America/Denver:20250217T130000
DTSTAMP:20260425T061715
CREATED:20240608T152048Z
LAST-MODIFIED:20250205T153915Z
UID:10001819-1739793600-1739797200@pikespkblues.org
SUMMARY:Jazz 93.5 Community Blues Hour with BJ Estares
DESCRIPTION:
URL:https://pikespkblues.org/event/jazz-93-5-community-blues-hour-with-bj-estares/2025-02-17/
LOCATION:CO
END:VEVENT
BEGIN:VEVENT
DTSTART;TZID=America/Denver:20250218T120000
DTEND;TZID=America/Denver:20250218T130000
DTSTAMP:20260425T061715
CREATED:20240608T152048Z
LAST-MODIFIED:20250205T153915Z
UID:10001820-1739880000-1739883600@pikespkblues.org
SUMMARY:Jazz 93.5 Community Blues Hour with BJ Estares
DESCRIPTION:
URL:https://pikespkblues.org/event/jazz-93-5-community-blues-hour-with-bj-estares/2025-02-18/
LOCATION:CO
END:VEVENT
BEGIN:VEVENT
DTSTART;TZID=America/Denver:20250219T120000
DTEND;TZID=America/Denver:20250219T130000
DTSTAMP:20260425T061715
CREATED:20240608T152048Z
LAST-MODIFIED:20250205T153915Z
UID:10001821-1739966400-1739970000@pikespkblues.org
SUMMARY:Jazz 93.5 Community Blues Hour with BJ Estares
DESCRIPTION:
URL:https://pikespkblues.org/event/jazz-93-5-community-blues-hour-with-bj-estares/2025-02-19/
LOCATION:CO
END:VEVENT
BEGIN:VEVENT
DTSTART;TZID=America/Denver:20250219T180000
DTEND;TZID=America/Denver:20250219T210000
DTSTAMP:20260425T061715
CREATED:20241230T190903Z
LAST-MODIFIED:20250218T220050Z
UID:10004106-1739988000-1739998800@pikespkblues.org
SUMMARY:PPBC "Help Save The Paint" Concert Fundraiser featuring Jake Loggins with Tasty House
DESCRIPTION:
URL:https://pikespkblues.org/event/pbbc-jam-and-concert-fundraiser-with-jake-loggins-and-tasty-house-band-at-the-public-house-at-the-alexander/
LOCATION:The Public House at The Alexander\, 3104 N Nevada Ave\, Colorado Springs\, CO\, 80907\, United States
CATEGORIES:Concerts
ORGANIZER;CN="PPBC":MAILTO:info@pikespkblues.org
END:VEVENT
BEGIN:VEVENT
DTSTART;TZID=America/Denver:20250220T120000
DTEND;TZID=America/Denver:20250220T130000
DTSTAMP:20260425T061715
CREATED:20240608T152048Z
LAST-MODIFIED:20250205T153915Z
UID:10001822-1740052800-1740056400@pikespkblues.org
SUMMARY:Jazz 93.5 Community Blues Hour with BJ Estares
DESCRIPTION:
URL:https://pikespkblues.org/event/jazz-93-5-community-blues-hour-with-bj-estares/2025-02-20/
LOCATION:CO
END:VEVENT
BEGIN:VEVENT
DTSTART;TZID=America/Denver:20250221T120000
DTEND;TZID=America/Denver:20250221T130000
DTSTAMP:20260425T061715
CREATED:20240608T152048Z
LAST-MODIFIED:20250205T153915Z
UID:10001823-1740139200-1740142800@pikespkblues.org
SUMMARY:Jazz 93.5 Community Blues Hour with BJ Estares
DESCRIPTION:
URL:https://pikespkblues.org/event/jazz-93-5-community-blues-hour-with-bj-estares/2025-02-21/
LOCATION:CO
END:VEVENT
BEGIN:VEVENT
DTSTART;TZID=America/Denver:20250222T183000
DTEND;TZID=America/Denver:20250222T210000
DTSTAMP:20260425T061715
CREATED:20250106T040530Z
LAST-MODIFIED:20250106T040530Z
UID:10004111-1740249000-1740258000@pikespkblues.org
SUMMARY:Nic Clark Band
DESCRIPTION:Nic Clark Band @ Dazzle\, Denver on February 22nd 6:30 pm
URL:https://pikespkblues.org/event/nic-clark-band/
LOCATION:Dazzle\, 1080 14th Street\, Denver\, CO\, 80202
CATEGORIES:Concerts
END:VEVENT
END:VCALENDAR