BEGIN:VCALENDAR
VERSION:2.0
PRODID:-//Pikes Peak Blues Community - ECPv6.15.20//NONSGML v1.0//EN
CALSCALE:GREGORIAN
METHOD:PUBLISH
X-ORIGINAL-URL:https://pikespkblues.org
X-WR-CALDESC:Events for Pikes Peak Blues Community
REFRESH-INTERVAL;VALUE=DURATION:PT1H
X-Robots-Tag:noindex
X-PUBLISHED-TTL:PT1H
BEGIN:VTIMEZONE
TZID:America/Denver
BEGIN:DAYLIGHT
TZOFFSETFROM:-0700
TZOFFSETTO:-0600
TZNAME:MDT
DTSTART:20230312T090000
END:DAYLIGHT
BEGIN:STANDARD
TZOFFSETFROM:-0600
TZOFFSETTO:-0700
TZNAME:MST
DTSTART:20231105T080000
END:STANDARD
BEGIN:DAYLIGHT
TZOFFSETFROM:-0700
TZOFFSETTO:-0600
TZNAME:MDT
DTSTART:20240310T090000
END:DAYLIGHT
BEGIN:STANDARD
TZOFFSETFROM:-0600
TZOFFSETTO:-0700
TZNAME:MST
DTSTART:20241103T080000
END:STANDARD
BEGIN:DAYLIGHT
TZOFFSETFROM:-0700
TZOFFSETTO:-0600
TZNAME:MDT
DTSTART:20250309T090000
END:DAYLIGHT
BEGIN:STANDARD
TZOFFSETFROM:-0600
TZOFFSETTO:-0700
TZNAME:MST
DTSTART:20251102T080000
END:STANDARD
END:VTIMEZONE
BEGIN:VEVENT
DTSTART;TZID=America/Denver:20241223T120000
DTEND;TZID=America/Denver:20241223T130000
DTSTAMP:20260425T132532
CREATED:20240608T152048Z
LAST-MODIFIED:20250205T153915Z
UID:10001779-1734955200-1734958800@pikespkblues.org
SUMMARY:Jazz 93.5 Community Blues Hour with BJ Estares
DESCRIPTION:
URL:https://pikespkblues.org/event/jazz-93-5-community-blues-hour-with-bj-estares/2024-12-23/
END:VEVENT
BEGIN:VEVENT
DTSTART;TZID=America/Denver:20241224T120000
DTEND;TZID=America/Denver:20241224T130000
DTSTAMP:20260425T132532
CREATED:20240608T152048Z
LAST-MODIFIED:20250205T153915Z
UID:10001780-1735041600-1735045200@pikespkblues.org
SUMMARY:Jazz 93.5 Community Blues Hour with BJ Estares
DESCRIPTION:
URL:https://pikespkblues.org/event/jazz-93-5-community-blues-hour-with-bj-estares/2024-12-24/
END:VEVENT
BEGIN:VEVENT
DTSTART;TZID=America/Denver:20241225T120000
DTEND;TZID=America/Denver:20241225T130000
DTSTAMP:20260425T132532
CREATED:20240608T152048Z
LAST-MODIFIED:20250205T153915Z
UID:10001781-1735128000-1735131600@pikespkblues.org
SUMMARY:Jazz 93.5 Community Blues Hour with BJ Estares
DESCRIPTION:
URL:https://pikespkblues.org/event/jazz-93-5-community-blues-hour-with-bj-estares/2024-12-25/
END:VEVENT
BEGIN:VEVENT
DTSTART;TZID=America/Denver:20241226T120000
DTEND;TZID=America/Denver:20241226T130000
DTSTAMP:20260425T132532
CREATED:20240608T152048Z
LAST-MODIFIED:20250205T153915Z
UID:10001782-1735214400-1735218000@pikespkblues.org
SUMMARY:Jazz 93.5 Community Blues Hour with BJ Estares
DESCRIPTION:
URL:https://pikespkblues.org/event/jazz-93-5-community-blues-hour-with-bj-estares/2024-12-26/
END:VEVENT
BEGIN:VEVENT
DTSTART;TZID=America/Denver:20241226T183000
DTEND;TZID=America/Denver:20241226T210000
DTSTAMP:20260425T132532
CREATED:20240911T175942Z
LAST-MODIFIED:20240911T175942Z
UID:10003797-1735237800-1735246800@pikespkblues.org
SUMMARY:Otis Taylor
DESCRIPTION:Otis Taylor @ Dazzle\, Denver 12/26 6:30pm
URL:https://pikespkblues.org/event/otis-taylor/
LOCATION:Dazzle\, 1080 14th Street\, Denver\, CO\, 80202
CATEGORIES:Concerts
END:VEVENT
BEGIN:VEVENT
DTSTART;TZID=America/Denver:20241227T120000
DTEND;TZID=America/Denver:20241227T130000
DTSTAMP:20260425T132532
CREATED:20240608T152048Z
LAST-MODIFIED:20250205T153915Z
UID:10001783-1735300800-1735304400@pikespkblues.org
SUMMARY:Jazz 93.5 Community Blues Hour with BJ Estares
DESCRIPTION:
URL:https://pikespkblues.org/event/jazz-93-5-community-blues-hour-with-bj-estares/2024-12-27/
END:VEVENT
END:VCALENDAR