BEGIN:VCALENDAR
VERSION:2.0
PRODID:-//Pikes Peak Blues Community - ECPv6.15.20//NONSGML v1.0//EN
CALSCALE:GREGORIAN
METHOD:PUBLISH
X-ORIGINAL-URL:https://pikespkblues.org
X-WR-CALDESC:Events for Pikes Peak Blues Community
REFRESH-INTERVAL;VALUE=DURATION:PT1H
X-Robots-Tag:noindex
X-PUBLISHED-TTL:PT1H
BEGIN:VTIMEZONE
TZID:America/Denver
BEGIN:DAYLIGHT
TZOFFSETFROM:-0700
TZOFFSETTO:-0600
TZNAME:MDT
DTSTART:20230312T090000
END:DAYLIGHT
BEGIN:STANDARD
TZOFFSETFROM:-0600
TZOFFSETTO:-0700
TZNAME:MST
DTSTART:20231105T080000
END:STANDARD
BEGIN:DAYLIGHT
TZOFFSETFROM:-0700
TZOFFSETTO:-0600
TZNAME:MDT
DTSTART:20240310T090000
END:DAYLIGHT
BEGIN:STANDARD
TZOFFSETFROM:-0600
TZOFFSETTO:-0700
TZNAME:MST
DTSTART:20241103T080000
END:STANDARD
BEGIN:DAYLIGHT
TZOFFSETFROM:-0700
TZOFFSETTO:-0600
TZNAME:MDT
DTSTART:20250309T090000
END:DAYLIGHT
BEGIN:STANDARD
TZOFFSETFROM:-0600
TZOFFSETTO:-0700
TZNAME:MST
DTSTART:20251102T080000
END:STANDARD
END:VTIMEZONE
BEGIN:VEVENT
DTSTART;TZID=America/Denver:20240503T190000
DTEND;TZID=America/Denver:20240503T210000
DTSTAMP:20260423T150606
CREATED:20240426T140301Z
LAST-MODIFIED:20240430T182206Z
UID:10000005-1714762800-1714770000@pikespkblues.org
SUMMARY:Coco Montoya at Stargazers
DESCRIPTION:
URL:https://pikespkblues.org/event/coco-montoya-at-stargazers/
LOCATION:Stargazers Theatre\, 10 S Parkside Dr\, Colorado Springs\, CO\, 80910\, United States
CATEGORIES:Concerts
ATTACH;FMTTYPE=image/jpeg:https://pikespkblues.org/wp-content/uploads/2024/04/Coco-Montoya-photo.jpg
END:VEVENT
BEGIN:VEVENT
DTSTART;TZID=America/Denver:20240601T190000
DTEND;TZID=America/Denver:20240601T210000
DTSTAMP:20260423T150606
CREATED:20240426T161822Z
LAST-MODIFIED:20240528T180454Z
UID:10000030-1717268400-1717275600@pikespkblues.org
SUMMARY:Alastair Green at Stargazers
DESCRIPTION:
URL:https://pikespkblues.org/event/alastair-green-at-stargazers-4/
CATEGORIES:Concerts
END:VEVENT
BEGIN:VEVENT
DTSTART;TZID=America/Denver:20240622T190000
DTEND;TZID=America/Denver:20240622T210000
DTSTAMP:20260423T150606
CREATED:20240426T140318Z
LAST-MODIFIED:20240429T174359Z
UID:10000008-1719082800-1719090000@pikespkblues.org
SUMMARY:Reminiscent Souls at Stargazers
DESCRIPTION:
URL:https://pikespkblues.org/event/reminiscent-souls-at-stargazers/
CATEGORIES:Concerts
ATTACH;FMTTYPE=image/jpeg:https://pikespkblues.org/wp-content/uploads/2024/04/ReminiscentSouls-photo.jpeg
END:VEVENT
END:VCALENDAR