BEGIN:VCALENDAR
VERSION:2.0
PRODID:-//Pikes Peak Blues Community - ECPv6.15.20//NONSGML v1.0//EN
CALSCALE:GREGORIAN
METHOD:PUBLISH
X-WR-CALNAME:Pikes Peak Blues Community
X-ORIGINAL-URL:https://pikespkblues.org
X-WR-CALDESC:Events for Pikes Peak Blues Community
REFRESH-INTERVAL;VALUE=DURATION:PT1H
X-Robots-Tag:noindex
X-PUBLISHED-TTL:PT1H
BEGIN:VTIMEZONE
TZID:America/Denver
BEGIN:DAYLIGHT
TZOFFSETFROM:-0700
TZOFFSETTO:-0600
TZNAME:MDT
DTSTART:20230312T090000
END:DAYLIGHT
BEGIN:STANDARD
TZOFFSETFROM:-0600
TZOFFSETTO:-0700
TZNAME:MST
DTSTART:20231105T080000
END:STANDARD
BEGIN:DAYLIGHT
TZOFFSETFROM:-0700
TZOFFSETTO:-0600
TZNAME:MDT
DTSTART:20240310T090000
END:DAYLIGHT
BEGIN:STANDARD
TZOFFSETFROM:-0600
TZOFFSETTO:-0700
TZNAME:MST
DTSTART:20241103T080000
END:STANDARD
BEGIN:DAYLIGHT
TZOFFSETFROM:-0700
TZOFFSETTO:-0600
TZNAME:MDT
DTSTART:20250309T090000
END:DAYLIGHT
BEGIN:STANDARD
TZOFFSETFROM:-0600
TZOFFSETTO:-0700
TZNAME:MST
DTSTART:20251102T080000
END:STANDARD
BEGIN:DAYLIGHT
TZOFFSETFROM:-0700
TZOFFSETTO:-0600
TZNAME:MDT
DTSTART:20260308T090000
END:DAYLIGHT
BEGIN:STANDARD
TZOFFSETFROM:-0600
TZOFFSETTO:-0700
TZNAME:MST
DTSTART:20261101T080000
END:STANDARD
END:VTIMEZONE
BEGIN:VEVENT
DTSTART;TZID=America/Denver:20250219T180000
DTEND;TZID=America/Denver:20250219T210000
DTSTAMP:20260423T130922
CREATED:20241230T190903Z
LAST-MODIFIED:20250218T220050Z
UID:10004106-1739988000-1739998800@pikespkblues.org
SUMMARY:PPBC "Help Save The Paint" Concert Fundraiser featuring Jake Loggins with Tasty House
DESCRIPTION:
URL:https://pikespkblues.org/event/pbbc-jam-and-concert-fundraiser-with-jake-loggins-and-tasty-house-band-at-the-public-house-at-the-alexander/
LOCATION:The Public House at The Alexander\, 3104 N Nevada Ave\, Colorado Springs\, CO\, 80907\, United States
CATEGORIES:Concerts
ORGANIZER;CN="PPBC":MAILTO:info@pikespkblues.org
END:VEVENT
BEGIN:VEVENT
DTSTART;TZID=America/Denver:20240813T173000
DTEND;TZID=America/Denver:20240813T193000
DTSTAMP:20260423T130922
CREATED:20240429T173242Z
LAST-MODIFIED:20240605T173242Z
UID:10000047-1723570200-1723577400@pikespkblues.org
SUMMARY:The King Stan Band
DESCRIPTION:Paint The Town Blue returns to Bancroft Park in 2024. Outstanding Blues artists will be playing at the bandshell this summer on alternate Tuesdays beginning June 4. This week the featured band The King Stan Band!
URL:https://pikespkblues.org/event/paint-the-town-bluefeaturing-the-king-stan-band-2/
LOCATION:Bancroft Park\, 2408 W Colorado Ave\, Colorado Springs\, 80904\, United States
CATEGORIES:Concerts
ATTACH;FMTTYPE=image/jpeg:https://pikespkblues.org/wp-content/uploads/2024/04/King-Stan-Band-photo-D3q71O.tmp_.jpg
ORGANIZER;CN="PPBC":MAILTO:info@pikespkblues.org
END:VEVENT
BEGIN:VEVENT
DTSTART;TZID=America/Denver:20240730T173000
DTEND;TZID=America/Denver:20240730T193000
DTSTAMP:20260423T130922
CREATED:20240429T173240Z
LAST-MODIFIED:20240607T231450Z
UID:10000046-1722360600-1722367800@pikespkblues.org
SUMMARY:Austin Johnson
DESCRIPTION:Paint The Town Blue returns to Bancroft Park in 2024. Outstanding Blues artists will be playing at the bandshell this summer on alternate Tuesdays beginning June 4. This week the featured artist is Austin Johnson!
URL:https://pikespkblues.org/event/paint-the-town-bluefeaturing-austin-johnson-2/
LOCATION:Bancroft Park\, 2408 W Colorado Ave\, Colorado Springs\, 80904\, United States
CATEGORIES:Concerts
ATTACH;FMTTYPE=image/jpeg:https://pikespkblues.org/wp-content/uploads/2024/06/DSC_6745-scaled.jpg
ORGANIZER;CN="PPBC":MAILTO:info@pikespkblues.org
END:VEVENT
BEGIN:VEVENT
DTSTART;TZID=America/Denver:20240716T173000
DTEND;TZID=America/Denver:20240716T193000
DTSTAMP:20260423T130922
CREATED:20240429T173240Z
LAST-MODIFIED:20240607T232803Z
UID:10000045-1721151000-1721158200@pikespkblues.org
SUMMARY:Tasty House
DESCRIPTION:Paint The Town Blue returns to Bancroft Park in 2024. Outstanding Blues artists will be playing at the bandshell this summer on alternate Tuesdays beginning June 4. This week the featured band is Tasty House!
URL:https://pikespkblues.org/event/paint-the-town-bluefeaturing-tasty-house-2/
LOCATION:Bancroft Park\, 2408 W Colorado Ave\, Colorado Springs\, 80904\, United States
CATEGORIES:Concerts
ATTACH;FMTTYPE=image/jpeg:https://pikespkblues.org/wp-content/uploads/2024/04/TastyHouse-photo2-scaled.jpg
ORGANIZER;CN="PPBC":MAILTO:info@pikespkblues.org
END:VEVENT
BEGIN:VEVENT
DTSTART;TZID=America/Denver:20240702T173000
DTEND;TZID=America/Denver:20240702T193000
DTSTAMP:20260423T130922
CREATED:20240429T173240Z
LAST-MODIFIED:20240605T172832Z
UID:10000044-1719941400-1719948600@pikespkblues.org
SUMMARY:Cous and the Brotherhood
DESCRIPTION:Paint The Town Blue returns to Bancroft Park in 2024. Outstanding Blues artists will be playing at the bandshell this summer on alternate Tuesdays beginning June 4. This week the featured band is Cous and the Brotherhood!
URL:https://pikespkblues.org/event/paint-the-town-bluefeaturing-cous-and-the-brotherhood-2/
LOCATION:Bancroft Park\, 2408 W Colorado Ave\, Colorado Springs\, 80904\, United States
CATEGORIES:Concerts
ATTACH;FMTTYPE=image/jpeg:https://pikespkblues.org/wp-content/uploads/2024/04/CousTheBrotherhood-photo.jpeg
ORGANIZER;CN="PPBC":MAILTO:info@pikespkblues.org
END:VEVENT
BEGIN:VEVENT
DTSTART;TZID=America/Denver:20240618T173000
DTEND;TZID=America/Denver:20240618T193000
DTSTAMP:20260423T130922
CREATED:20240428T152219Z
LAST-MODIFIED:20240605T172712Z
UID:10000040-1718731800-1718739000@pikespkblues.org
SUMMARY:Jake Loggins
DESCRIPTION:Paint The Town Blue returns to Bancroft Park in 2024. Outstanding Blues artists will be playing at the bandshell this summer on alternate Tuesdays beginning June 4. This week the featured artist is Jake Loggins!
URL:https://pikespkblues.org/event/paint-the-town-bluefeaturing-jake-loggins-2/
LOCATION:Bancroft Park\, 2408 W Colorado Ave\, Colorado Springs\, 80904\, United States
CATEGORIES:Concerts
ATTACH;FMTTYPE=image/jpeg:https://pikespkblues.org/wp-content/uploads/2024/04/Jake-Loggins-photo.jpg
ORGANIZER;CN="PPBC":MAILTO:info@pikespkblues.org
END:VEVENT
BEGIN:VEVENT
DTSTART;TZID=America/Denver:20240604T173000
DTEND;TZID=America/Denver:20240604T193000
DTSTAMP:20260423T130922
CREATED:20240429T173239Z
LAST-MODIFIED:20240504T211706Z
UID:10000043-1717522200-1717529400@pikespkblues.org
SUMMARY:Paint The Town Blue Featuring Al Chesis and the Delta Sonics
DESCRIPTION:Paint The Town Blue returns to Bancroft Park in 2024. Outstanding Blues artists will be playing at the bandshell this summer on alternate Tuesdays beginning June 4. This week the featured band is Al Chesis and the Delta Sonics!
URL:https://pikespkblues.org/event/paint-the-town-bluefeaturing-al-chesis-and-the-delta-sonics-2/
LOCATION:Bancroft Park\, 2408 W Colorado Ave\, Colorado Springs\, 80904\, United States
CATEGORIES:Concerts
ATTACH;FMTTYPE=image/jpeg:https://pikespkblues.org/wp-content/uploads/2024/04/DeltaSonics-photo2.jpg
ORGANIZER;CN="PPBC":MAILTO:info@pikespkblues.org
END:VEVENT
END:VCALENDAR