BEGIN:VCALENDAR
VERSION:2.0
PRODID:-//Pikes Peak Blues Community - ECPv6.15.20//NONSGML v1.0//EN
CALSCALE:GREGORIAN
METHOD:PUBLISH
X-ORIGINAL-URL:https://pikespkblues.org
X-WR-CALDESC:Events for Pikes Peak Blues Community
REFRESH-INTERVAL;VALUE=DURATION:PT1H
X-Robots-Tag:noindex
X-PUBLISHED-TTL:PT1H
BEGIN:VTIMEZONE
TZID:America/Denver
BEGIN:DAYLIGHT
TZOFFSETFROM:-0700
TZOFFSETTO:-0600
TZNAME:MDT
DTSTART:20230312T090000
END:DAYLIGHT
BEGIN:STANDARD
TZOFFSETFROM:-0600
TZOFFSETTO:-0700
TZNAME:MST
DTSTART:20231105T080000
END:STANDARD
BEGIN:DAYLIGHT
TZOFFSETFROM:-0700
TZOFFSETTO:-0600
TZNAME:MDT
DTSTART:20240310T090000
END:DAYLIGHT
BEGIN:STANDARD
TZOFFSETFROM:-0600
TZOFFSETTO:-0700
TZNAME:MST
DTSTART:20241103T080000
END:STANDARD
BEGIN:DAYLIGHT
TZOFFSETFROM:-0700
TZOFFSETTO:-0600
TZNAME:MDT
DTSTART:20250309T090000
END:DAYLIGHT
BEGIN:STANDARD
TZOFFSETFROM:-0600
TZOFFSETTO:-0700
TZNAME:MST
DTSTART:20251102T080000
END:STANDARD
END:VTIMEZONE
BEGIN:VEVENT
DTSTART;TZID=America/Denver:20240917T180000
DTEND;TZID=America/Denver:20240917T200000
DTSTAMP:20260424T041457
CREATED:20240607T230856Z
LAST-MODIFIED:20240607T230856Z
UID:10000068-1726596000-1726603200@pikespkblues.org
SUMMARY:Front Range Big Band
DESCRIPTION:
URL:https://pikespkblues.org/event/front-range-big-band/
LOCATION:Bancroft Park\, 2408 W Colorado Ave\, Colorado Springs\, 80904\, United States
CATEGORIES:Concerts
END:VEVENT
BEGIN:VEVENT
DTSTART;TZID=America/Denver:20240910T180000
DTEND;TZID=America/Denver:20240910T200000
DTSTAMP:20260424T041457
CREATED:20240607T230437Z
LAST-MODIFIED:20240607T230437Z
UID:10000067-1725991200-1725998400@pikespkblues.org
SUMMARY:New Vintage Jazz
DESCRIPTION:
URL:https://pikespkblues.org/event/new-vintage-jazz/
LOCATION:Bancroft Park\, 2408 W Colorado Ave\, Colorado Springs\, 80904\, United States
CATEGORIES:Concerts
END:VEVENT
BEGIN:VEVENT
DTSTART;TZID=America/Denver:20240903T180000
DTEND;TZID=America/Denver:20240903T200000
DTSTAMP:20260424T041457
CREATED:20240607T230309Z
LAST-MODIFIED:20240607T230309Z
UID:10000066-1725386400-1725393600@pikespkblues.org
SUMMARY:Uturn Brass
DESCRIPTION:
URL:https://pikespkblues.org/event/uturn-brass/
LOCATION:Bancroft Park\, 2408 W Colorado Ave\, Colorado Springs\, 80904\, United States
CATEGORIES:Concerts
END:VEVENT
BEGIN:VEVENT
DTSTART;TZID=America/Denver:20240827T180000
DTEND;TZID=America/Denver:20240827T200000
DTSTAMP:20260424T041457
CREATED:20240607T231225Z
LAST-MODIFIED:20240607T231225Z
UID:10000069-1724781600-1724788800@pikespkblues.org
SUMMARY:Manitou Strings
DESCRIPTION:
URL:https://pikespkblues.org/event/manitou-strings/
LOCATION:Bancroft Park\, 2408 W Colorado Ave\, Colorado Springs\, 80904\, United States
CATEGORIES:Concerts
END:VEVENT
BEGIN:VEVENT
DTSTART;TZID=America/Denver:20240820T180000
DTEND;TZID=America/Denver:20240820T200000
DTSTAMP:20260424T041457
CREATED:20240607T230139Z
LAST-MODIFIED:20240607T230139Z
UID:10000065-1724176800-1724184000@pikespkblues.org
SUMMARY:Treo
DESCRIPTION:
URL:https://pikespkblues.org/event/treo/
LOCATION:Bancroft Park\, 2408 W Colorado Ave\, Colorado Springs\, 80904\, United States
CATEGORIES:Concerts
END:VEVENT
BEGIN:VEVENT
DTSTART;TZID=America/Denver:20240806T180000
DTEND;TZID=America/Denver:20240806T200000
DTSTAMP:20260424T041457
CREATED:20240607T225929Z
LAST-MODIFIED:20240607T225929Z
UID:10000064-1722967200-1722974400@pikespkblues.org
SUMMARY:Hip Hop Is Dead
DESCRIPTION:
URL:https://pikespkblues.org/event/hip-hop-is-dead/
LOCATION:Bancroft Park\, 2408 W Colorado Ave\, Colorado Springs\, 80904\, United States
CATEGORIES:Concerts
END:VEVENT
BEGIN:VEVENT
DTSTART;TZID=America/Denver:20240723T180000
DTEND;TZID=America/Denver:20240723T200000
DTSTAMP:20260424T041457
CREATED:20240607T225548Z
LAST-MODIFIED:20240607T225630Z
UID:10000063-1721757600-1721764800@pikespkblues.org
SUMMARY:Heavy Devils
DESCRIPTION:
URL:https://pikespkblues.org/event/heavy-devils/
LOCATION:Bancroft Park\, 2408 W Colorado Ave\, Colorado Springs\, 80904\, United States
CATEGORIES:Concerts
END:VEVENT
BEGIN:VEVENT
DTSTART;TZID=America/Denver:20240709T180000
DTEND;TZID=America/Denver:20240709T200000
DTSTAMP:20260424T041457
CREATED:20240607T225427Z
LAST-MODIFIED:20240607T225427Z
UID:10000062-1720548000-1720555200@pikespkblues.org
SUMMARY:Tyler Stuckey Trio
DESCRIPTION:Music In The Park
URL:https://pikespkblues.org/event/tyler-stuckey-trio/
LOCATION:Bancroft Park\, 2408 W Colorado Ave\, Colorado Springs\, 80904\, United States
CATEGORIES:Concerts
END:VEVENT
BEGIN:VEVENT
DTSTART;TZID=America/Denver:20240625T180000
DTEND;TZID=America/Denver:20240625T200000
DTSTAMP:20260424T041457
CREATED:20240607T225247Z
LAST-MODIFIED:20240607T225247Z
UID:10000061-1719338400-1719345600@pikespkblues.org
SUMMARY:Black Hole Boogie Band
DESCRIPTION:Music In The Park
URL:https://pikespkblues.org/event/black-hole-boogie-band/
LOCATION:Bancroft Park\, 2408 W Colorado Ave\, Colorado Springs\, 80904\, United States
CATEGORIES:Concerts
END:VEVENT
BEGIN:VEVENT
DTSTART;TZID=America/Denver:20240611T180000
DTEND;TZID=America/Denver:20240611T200000
DTSTAMP:20260424T041457
CREATED:20240607T224011Z
LAST-MODIFIED:20240607T224205Z
UID:10000060-1718128800-1718136000@pikespkblues.org
SUMMARY:Rafiel & The Roomshakers
DESCRIPTION:Music In The Park
URL:https://pikespkblues.org/event/rafiel-the-roomshakers/
LOCATION:Bancroft Park\, 2408 W Colorado Ave\, Colorado Springs\, 80904\, United States
CATEGORIES:Concerts
END:VEVENT
END:VCALENDAR