BEGIN:VCALENDAR
VERSION:2.0
PRODID:-//Pikes Peak Blues Community - ECPv6.15.20//NONSGML v1.0//EN
CALSCALE:GREGORIAN
METHOD:PUBLISH
X-ORIGINAL-URL:https://pikespkblues.org
X-WR-CALDESC:Events for Pikes Peak Blues Community
REFRESH-INTERVAL;VALUE=DURATION:PT1H
X-Robots-Tag:noindex
X-PUBLISHED-TTL:PT1H
BEGIN:VTIMEZONE
TZID:America/Denver
BEGIN:DAYLIGHT
TZOFFSETFROM:-0700
TZOFFSETTO:-0600
TZNAME:MDT
DTSTART:20250309T090000
END:DAYLIGHT
BEGIN:STANDARD
TZOFFSETFROM:-0600
TZOFFSETTO:-0700
TZNAME:MST
DTSTART:20251102T080000
END:STANDARD
BEGIN:DAYLIGHT
TZOFFSETFROM:-0700
TZOFFSETTO:-0600
TZNAME:MDT
DTSTART:20260308T090000
END:DAYLIGHT
BEGIN:STANDARD
TZOFFSETFROM:-0600
TZOFFSETTO:-0700
TZNAME:MST
DTSTART:20261101T080000
END:STANDARD
BEGIN:DAYLIGHT
TZOFFSETFROM:-0700
TZOFFSETTO:-0600
TZNAME:MDT
DTSTART:20270314T090000
END:DAYLIGHT
BEGIN:STANDARD
TZOFFSETFROM:-0600
TZOFFSETTO:-0700
TZNAME:MST
DTSTART:20271107T080000
END:STANDARD
END:VTIMEZONE
BEGIN:VEVENT
DTSTART;TZID=America/Denver:20260317T140000
DTEND;TZID=America/Denver:20260317T153000
DTSTAMP:20260423T164346
CREATED:20260225T011839Z
LAST-MODIFIED:20260225T011839Z
UID:10005763-1773756000-1773761400@pikespkblues.org
SUMMARY:Delta Sonics with Al Chesis - St. Patrick’s Day Party III  *** PPBC Member Band ***
DESCRIPTION:Delta Sonics with Al Chesis – St. Patrick’s Day Party III @ Clancy’s Irish Pub\, Wheat Ridge on Tuesday\, March 17th from 2:00 pm to 3:30 pm.
URL:https://pikespkblues.org/event/delta-sonics-with-al-chesis-st-patricks-day-party-iii-ppbc-member-band/
LOCATION:Clancy’s Irish Pub\, 7000 W 38th Ave\, Wheat Ridge\, CO\, 80033\, United States
CATEGORIES:Concerts
END:VEVENT
BEGIN:VEVENT
DTSTART;TZID=America/Denver:20260317T180000
DTEND;TZID=America/Denver:20260317T210000
DTSTAMP:20260423T164346
CREATED:20251004T004608Z
LAST-MODIFIED:20251004T182250Z
UID:10004803-1773770400-1773781200@pikespkblues.org
SUMMARY:Sweet T's Rude Blues Jam on Tuesdays at PEAK 31
DESCRIPTION:Sweet T’s Rude Blues Jam @ PEAK 31\, 2419 N Union Blvd (80909) on Tuesdays\, from 6:00 pm to 9:00 pm.
URL:https://pikespkblues.org/event/sweet-ts-rude-blues-jam-on-tuesdays-at-peak-31/2026-03-17/
LOCATION:PEAK 31\, 2419 N Union Blvd\, Colorado Springs\, CO\, 80909\, United States
CATEGORIES:Jams
END:VEVENT
BEGIN:VEVENT
DTSTART;TZID=America/Denver:20260318T120000
DTEND;TZID=America/Denver:20260318T130000
DTSTAMP:20260423T164346
CREATED:20240608T152048Z
LAST-MODIFIED:20250205T153915Z
UID:10002101-1773835200-1773838800@pikespkblues.org
SUMMARY:Jazz 93.5 Community Blues Hour with BJ Estares
DESCRIPTION:
URL:https://pikespkblues.org/event/jazz-93-5-community-blues-hour-with-bj-estares/2026-03-18/
LOCATION:CO
END:VEVENT
BEGIN:VEVENT
DTSTART;TZID=America/Denver:20260319T120000
DTEND;TZID=America/Denver:20260319T130000
DTSTAMP:20260423T164346
CREATED:20240608T152048Z
LAST-MODIFIED:20250205T153915Z
UID:10002102-1773921600-1773925200@pikespkblues.org
SUMMARY:Jazz 93.5 Community Blues Hour with BJ Estares
DESCRIPTION:
URL:https://pikespkblues.org/event/jazz-93-5-community-blues-hour-with-bj-estares/2026-03-19/
LOCATION:CO
END:VEVENT
BEGIN:VEVENT
DTSTART;TZID=America/Denver:20260319T200000
DTEND;TZID=America/Denver:20260319T200000
DTSTAMP:20260423T164346
CREATED:20251025T213454Z
LAST-MODIFIED:20251025T213454Z
UID:10005581-1773950400-1773950400@pikespkblues.org
SUMMARY:Colorado Blues Dance Shimmy Shakin' Blues with Hundred Pound Housecat
DESCRIPTION:Colorado Blues Dance Shimmy Shakin’ Blues with Hundred Pound Housecat @ The Pearl\, Denver on Thursday\, March 19th from 8:00 pm to Midnight. Blues Dance Class with blues dance instructor 7:00-8:00pm.
URL:https://pikespkblues.org/event/colorado-blues-dance-shimmy-shakin-blues-with-hundred-pound-housecat/
LOCATION:The Pearl\, 2199 California St\, Denver\, CO\, 80205\, United States
CATEGORIES:Concerts,Dance
END:VEVENT
BEGIN:VEVENT
DTSTART;TZID=America/Denver:20260320T120000
DTEND;TZID=America/Denver:20260320T130000
DTSTAMP:20260423T164346
CREATED:20240608T152048Z
LAST-MODIFIED:20250205T153915Z
UID:10002103-1774008000-1774011600@pikespkblues.org
SUMMARY:Jazz 93.5 Community Blues Hour with BJ Estares
DESCRIPTION:
URL:https://pikespkblues.org/event/jazz-93-5-community-blues-hour-with-bj-estares/2026-03-20/
LOCATION:CO
END:VEVENT
BEGIN:VEVENT
DTSTART;TZID=America/Denver:20260320T190000
DTEND;TZID=America/Denver:20260320T223000
DTSTAMP:20260423T164346
CREATED:20260301T173713Z
LAST-MODIFIED:20260301T174439Z
UID:10005772-1774033200-1774045800@pikespkblues.org
SUMMARY:Marcus Motel & The Closers
DESCRIPTION:Marcus Motel & The Closers @ The Rusty Bucket Bar and Grill\, Lakewood on Friday\, March 20th at 7:00 pm.
URL:https://pikespkblues.org/event/marcus-motel-the-closers/
LOCATION:The Rusty Bucket Bar and Grill\, 3355 S Wadsworth\, Lakewood\, CO\, 80277\, United States
CATEGORIES:Concerts
END:VEVENT
BEGIN:VEVENT
DTSTART;TZID=America/Denver:20260320T200000
DTEND;TZID=America/Denver:20260320T230000
DTSTAMP:20260423T164346
CREATED:20260225T004718Z
LAST-MODIFIED:20260225T004718Z
UID:10005759-1774036800-1774047600@pikespkblues.org
SUMMARY:Delta Sonics with Al Chesis  *** PPBC Member Band ***
DESCRIPTION:Delta Sonics with Al Chesis @ Morrison Holiday Bar\, Morrison on Friday\, March 20th at 8:00 pm.
URL:https://pikespkblues.org/event/delta-sonics-with-al-chesis-ppbc-member-band-50/
LOCATION:Morrison Holiday Bar\, 403 Bear Creek Ave\, Morrison\, CO\, 80465
CATEGORIES:Concerts
END:VEVENT
BEGIN:VEVENT
DTSTART;TZID=America/Denver:20260321T120000
DTEND;TZID=America/Denver:20260321T143000
DTSTAMP:20260423T164346
CREATED:20260303T160325Z
LAST-MODIFIED:20260316T205103Z
UID:10005785-1774094400-1774103400@pikespkblues.org
SUMMARY:Kids’ Matinee: Special Blend - Blues | Jazz | Rock & Roll
DESCRIPTION:Kids’ Matinee: Special Blend @ Dazzle\, Denver on Saturday\, March 21st at noon.
URL:https://pikespkblues.org/event/kids-matinee-special-blend-blues-jazz-rock-roll/
LOCATION:Dazzle\, 1080 14th Street\, Denver\, CO\, 80202
CATEGORIES:Concerts
END:VEVENT
BEGIN:VEVENT
DTSTART;TZID=America/Denver:20260321T190000
DTEND;TZID=America/Denver:20260321T220000
DTSTAMP:20260423T164346
CREATED:20260302T204737Z
LAST-MODIFIED:20260303T175458Z
UID:10005779-1774119600-1774130400@pikespkblues.org
SUMMARY:Hurricane Dave and The Storm Chasers  *** PPBC Member Band ***
DESCRIPTION:Hurricane Dave and The Storm Chasers with 9 Left Dead\, Darkened Sun\, and Dain Silva & The Mighty Potent Force @ Sunshine Studios Live\, 3970 Clearview Frontage Rd (80911) on Saturday\, March 21st at 7:00 pm. Doors open at 5:30 pm.
URL:https://pikespkblues.org/event/hurricane-dave-and-the-storm-chasers-ppbc-member-band-2/
LOCATION:Sunshine Studios Live\, 3970 Clearview Frontage Rd\, Colorado Springs\, CO\, 80911\, United States
CATEGORIES:Concerts
END:VEVENT
BEGIN:VEVENT
DTSTART;TZID=America/Denver:20260321T190000
DTEND;TZID=America/Denver:20260321T223000
DTSTAMP:20260423T164346
CREATED:20260301T173926Z
LAST-MODIFIED:20260301T174510Z
UID:10005773-1774119600-1774132200@pikespkblues.org
SUMMARY:Vince Converse & Big Brother
DESCRIPTION:Vince Converse & Big Brother @ The Rusty Bucket Bar and Grill\, Lakewood on Saturday\, March 21st at 7:00 pm.
URL:https://pikespkblues.org/event/vince-converse-big-brother-5/
LOCATION:The Rusty Bucket Bar and Grill\, 3355 S Wadsworth\, Lakewood\, CO\, 80277\, United States
CATEGORIES:Concerts
END:VEVENT
BEGIN:VEVENT
DTSTART;TZID=America/Denver:20260321T200000
DTEND;TZID=America/Denver:20260321T230000
DTSTAMP:20260423T164346
CREATED:20260301T180400Z
LAST-MODIFIED:20260301T180400Z
UID:10005775-1774123200-1774134000@pikespkblues.org
SUMMARY:Delta Sonics with Al Chesis  *** PPBC Member Band ***
DESCRIPTION:Delta Sonics with Al Chesis @ Magic Rat in The Elizabeth Hotel\, Ft Collins on Saturday\, March 21st at 8:00 pm.
URL:https://pikespkblues.org/event/delta-sonics-with-al-chesis-ppbc-member-band-54/
LOCATION:The Magic Rat in the Elizabeth Hotel\, 111 Chestnut St\, Fort Collins\, CO\, 80524\, United States
CATEGORIES:Concerts
END:VEVENT
BEGIN:VEVENT
DTSTART;TZID=America/Denver:20260322T150000
DTEND;TZID=America/Denver:20260322T170000
DTSTAMP:20260423T164346
CREATED:20260225T005523Z
LAST-MODIFIED:20260225T005523Z
UID:10005760-1774191600-1774198800@pikespkblues.org
SUMMARY:Delta Sonics Duo with Al Chesis  *** PPBC Member Band ***
DESCRIPTION:Delta Sonics Duo with Al Chesis @ Wood’s Boss Brewing\, Denver on Sunday\, March 22nd at 3:00 pm\n.
URL:https://pikespkblues.org/event/delta-sonics-duo-with-al-chesis-ppbc-member-band-5/
LOCATION:Woods Boss Brewing Company\, 2210 California St\, Denver\, CO\, 80205\, United States
CATEGORIES:Concerts
END:VEVENT
BEGIN:VEVENT
DTSTART;TZID=America/Denver:20260323T120000
DTEND;TZID=America/Denver:20260323T130000
DTSTAMP:20260423T164346
CREATED:20240608T152048Z
LAST-MODIFIED:20250205T153915Z
UID:10002104-1774267200-1774270800@pikespkblues.org
SUMMARY:Jazz 93.5 Community Blues Hour with BJ Estares
DESCRIPTION:
URL:https://pikespkblues.org/event/jazz-93-5-community-blues-hour-with-bj-estares/2026-03-23/
LOCATION:CO
END:VEVENT
BEGIN:VEVENT
DTSTART;TZID=America/Denver:20260323T183000
DTEND;TZID=America/Denver:20260323T183000
DTSTAMP:20260423T164346
CREATED:20260225T024820Z
LAST-MODIFIED:20260227T183815Z
UID:10005769-1774290600-1774290600@pikespkblues.org
SUMMARY:Stevie P. and The Hard Road  *** PPBC Member Band ***
DESCRIPTION:PPBC presents Monday Blues Review @ Louie Louie’s Piano Bar\, 522 S Tejon St (80903)\, featuring Stevie P. and The Hard Road on Monday\, March 23rd from 6:30 pm to 10:00 pm. Doors open at 6:00 pm. Cover $10.00.
URL:https://pikespkblues.org/event/stevie-p-and-the-hard-road-ppbc-member-band/
LOCATION:Louie Louie’s Piano Bar\, 522 S Tejon St\, Colorado Springs\, CO\, 80903\, United States
CATEGORIES:Concerts
END:VEVENT
BEGIN:VEVENT
DTSTART;TZID=America/Denver:20260324T120000
DTEND;TZID=America/Denver:20260324T130000
DTSTAMP:20260423T164346
CREATED:20240608T152048Z
LAST-MODIFIED:20250205T153915Z
UID:10002105-1774353600-1774357200@pikespkblues.org
SUMMARY:Jazz 93.5 Community Blues Hour with BJ Estares
DESCRIPTION:
URL:https://pikespkblues.org/event/jazz-93-5-community-blues-hour-with-bj-estares/2026-03-24/
LOCATION:CO
END:VEVENT
BEGIN:VEVENT
DTSTART;TZID=America/Denver:20260324T180000
DTEND;TZID=America/Denver:20260324T210000
DTSTAMP:20260423T164346
CREATED:20251004T004608Z
LAST-MODIFIED:20251004T182250Z
UID:10004804-1774375200-1774386000@pikespkblues.org
SUMMARY:Sweet T's Rude Blues Jam on Tuesdays at PEAK 31
DESCRIPTION:Sweet T’s Rude Blues Jam @ PEAK 31\, 2419 N Union Blvd (80909) on Tuesdays\, from 6:00 pm to 9:00 pm.
URL:https://pikespkblues.org/event/sweet-ts-rude-blues-jam-on-tuesdays-at-peak-31/2026-03-24/
LOCATION:PEAK 31\, 2419 N Union Blvd\, Colorado Springs\, CO\, 80909\, United States
CATEGORIES:Jams
END:VEVENT
BEGIN:VEVENT
DTSTART;TZID=America/Denver:20260324T200000
DTEND;TZID=America/Denver:20260324T230000
DTSTAMP:20260423T164346
CREATED:20260219T035446Z
LAST-MODIFIED:20260219T035446Z
UID:10005696-1774382400-1774393200@pikespkblues.org
SUMMARY:Eddie 9V with guest O'Connor Brothers Band
DESCRIPTION:Eddie 9V with guest O’Connor Brothers Band @ Lulu’s Downtown\, 32 S Tejon St (80903) on Tuesday\, March 24th at 8:00 pm. Doors open at 7:30 pm.
URL:https://pikespkblues.org/event/eddie-9v-with-guest-oconnor-brothers-band/
LOCATION:Lulu’s Downtown\, 32 S. Tejon St\, Colorado Springs\, CO\, 80903\, United States
CATEGORIES:Concerts
END:VEVENT
BEGIN:VEVENT
DTSTART;TZID=America/Denver:20260325T120000
DTEND;TZID=America/Denver:20260325T130000
DTSTAMP:20260423T164346
CREATED:20240608T152048Z
LAST-MODIFIED:20250205T153915Z
UID:10002106-1774440000-1774443600@pikespkblues.org
SUMMARY:Jazz 93.5 Community Blues Hour with BJ Estares
DESCRIPTION:
URL:https://pikespkblues.org/event/jazz-93-5-community-blues-hour-with-bj-estares/2026-03-25/
LOCATION:CO
END:VEVENT
BEGIN:VEVENT
DTSTART;TZID=America/Denver:20260326T120000
DTEND;TZID=America/Denver:20260326T130000
DTSTAMP:20260423T164346
CREATED:20240608T152048Z
LAST-MODIFIED:20250205T153915Z
UID:10002107-1774526400-1774530000@pikespkblues.org
SUMMARY:Jazz 93.5 Community Blues Hour with BJ Estares
DESCRIPTION:
URL:https://pikespkblues.org/event/jazz-93-5-community-blues-hour-with-bj-estares/2026-03-26/
LOCATION:CO
END:VEVENT
BEGIN:VEVENT
DTSTART;TZID=America/Denver:20260327T120000
DTEND;TZID=America/Denver:20260327T130000
DTSTAMP:20260423T164346
CREATED:20240608T152048Z
LAST-MODIFIED:20250205T153915Z
UID:10002108-1774612800-1774616400@pikespkblues.org
SUMMARY:Jazz 93.5 Community Blues Hour with BJ Estares
DESCRIPTION:
URL:https://pikespkblues.org/event/jazz-93-5-community-blues-hour-with-bj-estares/2026-03-27/
LOCATION:CO
END:VEVENT
BEGIN:VEVENT
DTSTART;TZID=America/Denver:20260327T180000
DTEND;TZID=America/Denver:20260327T210000
DTSTAMP:20260423T164346
CREATED:20260118T170826Z
LAST-MODIFIED:20260118T170826Z
UID:10005667-1774634400-1774645200@pikespkblues.org
SUMMARY:Tasty House
DESCRIPTION:Tasty House @ Rico’s Café\, 322 1/2 N Tejon St (80903) on Friday\, March 27th from 6:00 pm to 9:00 pm. No Cover.
URL:https://pikespkblues.org/event/tasty-house-3/
LOCATION:Rico’s Cafe and Wine Bar\, 322 1/2\, N Tejon St\, Colorado Springs\, CO\, 80903\, United States
CATEGORIES:Concerts
END:VEVENT
BEGIN:VEVENT
DTSTART;TZID=America/Denver:20260327T190000
DTEND;TZID=America/Denver:20260327T220000
DTSTAMP:20260423T164346
CREATED:20260303T151702Z
LAST-MODIFIED:20260303T151702Z
UID:10005781-1774638000-1774648800@pikespkblues.org
SUMMARY:Delta Sonics with Al Chesis  *** PPBC Member Band ***
DESCRIPTION:Delta Sonics with Al Chesis @ The Barfly at Alamo Drafthouse\, Denver on Friday\, March 27th at 7:00 pm.
URL:https://pikespkblues.org/event/delta-sonics-with-al-chesis-ppbc-member-band-55/
LOCATION:The Barfly at Alamo Drafthouse\, 4255 W Colfax Ave\, Denver\, CO\, 80204\, United States
CATEGORIES:Concerts
END:VEVENT
BEGIN:VEVENT
DTSTART;TZID=America/Denver:20260327T200000
DTEND;TZID=America/Denver:20260327T230000
DTSTAMP:20260423T164346
CREATED:20260311T194220Z
LAST-MODIFIED:20260311T194220Z
UID:10005788-1774641600-1774652400@pikespkblues.org
SUMMARY:Andy Frasco & The U.N. - A benefit concert for Jam For Good
DESCRIPTION:Andy Frasco & The U.N. @ Lulu’s Downtown\, 32 S Tejon St (80903) on Friday\, March 27th at 8:00 pm. Doors open at 7:00 pm. This is a benefit concert for Jam For Good\, a Colorado nonprofit that supports kids and families battling childhood cancer through the power of live music. Proceeds will benefit the local Children’s Hospital and the programs that surround families when a child is being treated for cancer. Come out and support a great cause. Tickets available at: https://www.lulusmusic.co/shows/andy-frasco-the-u-n-27-mar.
URL:https://pikespkblues.org/event/andy-frasco-the-u-n-a-benefit-concert-for-jam-for-good/
LOCATION:Lulu’s Downtown\, 32 S. Tejon St\, Colorado Springs\, CO\, 80903\, United States
CATEGORIES:Concerts
END:VEVENT
BEGIN:VEVENT
DTSTART;TZID=America/Denver:20260327T200000
DTEND;TZID=America/Denver:20260327T230000
DTSTAMP:20260423T164346
CREATED:20260324T185036Z
LAST-MODIFIED:20260324T185036Z
UID:10005797-1774641600-1774652400@pikespkblues.org
SUMMARY:Gov't Mule
DESCRIPTION:Gov’t Mule @ Mission Ballroom\, Denver on Friday\, March 27th at 8:00 pm. Doors open 6:30 pm.
URL:https://pikespkblues.org/event/govt-mule/
LOCATION:Mission Ballroom\, 4242 Wynkoop St\, Denver\, CO\, 80216\, United States
CATEGORIES:Concerts
END:VEVENT
BEGIN:VEVENT
DTSTART;TZID=America/Denver:20260329T120000
DTEND;TZID=America/Denver:20260329T143000
DTSTAMP:20260423T164346
CREATED:20260303T152646Z
LAST-MODIFIED:20260303T152646Z
UID:10005782-1774785600-1774794600@pikespkblues.org
SUMMARY:Delta Sonics Duo with Al Chesis  *** PPBC Member Band ***
DESCRIPTION:Delta Sonics Duo with Al Chesis @ Teller Taproom\, Lakewood on Sunday\, March 29th at noon (early show).
URL:https://pikespkblues.org/event/delta-sonics-duo-with-al-chesis-ppbc-member-band-7/
LOCATION:Teller’s Taproom\, 1990 Youngfield St\, Lakewood\, CO\, 80215\, United States
CATEGORIES:Concerts
END:VEVENT
BEGIN:VEVENT
DTSTART;TZID=America/Denver:20260329T173000
DTEND;TZID=America/Denver:20260329T173000
DTSTAMP:20260423T164346
CREATED:20260124T211023Z
LAST-MODIFIED:20260124T211023Z
UID:10005670-1774805400-1774805400@pikespkblues.org
SUMMARY:Colorado Blues Society's Members Choice Awards
DESCRIPTION:Colorado Blues Society’s Members Choice Awards @ Buffalo Rose\, Golden on Sunday\, March 29th at 2:00 pm. Doors open at 12:45 pm.
URL:https://pikespkblues.org/event/colorado-blues-societys-members-choice-awards/
LOCATION:Buffalo Rose\, 1119 Washington Ave\, Golden\, CO\, 80401
CATEGORIES:Concerts
END:VEVENT
BEGIN:VEVENT
DTSTART;TZID=America/Denver:20260330T120000
DTEND;TZID=America/Denver:20260330T130000
DTSTAMP:20260423T164346
CREATED:20240608T152048Z
LAST-MODIFIED:20250205T153915Z
UID:10002109-1774872000-1774875600@pikespkblues.org
SUMMARY:Jazz 93.5 Community Blues Hour with BJ Estares
DESCRIPTION:
URL:https://pikespkblues.org/event/jazz-93-5-community-blues-hour-with-bj-estares/2026-03-30/
LOCATION:CO
END:VEVENT
BEGIN:VEVENT
DTSTART;TZID=America/Denver:20260330T183000
DTEND;TZID=America/Denver:20260330T213000
DTSTAMP:20260423T164346
CREATED:20260225T024448Z
LAST-MODIFIED:20260401T134735Z
UID:10005768-1774895400-1774906200@pikespkblues.org
SUMMARY:Randy Stephens & The Groove Makers
DESCRIPTION:PPBC presents Monday Blues Review @ Louie Louie’s Piano Bar\, 522 S Tejon St (80903) featuring Randy Stephens & The Groove Makers on Monday\, March 30th from 6:30 pm to 10:00 pm. Cover $10.00.
URL:https://pikespkblues.org/event/randy-stephens-the-groove-makers-2/
LOCATION:Louie Louie’s Piano Bar\, 522 S Tejon St\, Colorado Springs\, CO\, 80903\, United States
CATEGORIES:Concerts
END:VEVENT
BEGIN:VEVENT
DTSTART;TZID=America/Denver:20260331T120000
DTEND;TZID=America/Denver:20260331T130000
DTSTAMP:20260423T164346
CREATED:20240608T152048Z
LAST-MODIFIED:20250205T153915Z
UID:10002110-1774958400-1774962000@pikespkblues.org
SUMMARY:Jazz 93.5 Community Blues Hour with BJ Estares
DESCRIPTION:
URL:https://pikespkblues.org/event/jazz-93-5-community-blues-hour-with-bj-estares/2026-03-31/
LOCATION:CO
END:VEVENT
END:VCALENDAR