BEGIN:VCALENDAR
VERSION:2.0
PRODID:-//Pikes Peak Blues Community - ECPv6.15.20//NONSGML v1.0//EN
CALSCALE:GREGORIAN
METHOD:PUBLISH
X-ORIGINAL-URL:https://pikespkblues.org
X-WR-CALDESC:Events for Pikes Peak Blues Community
REFRESH-INTERVAL;VALUE=DURATION:PT1H
X-Robots-Tag:noindex
X-PUBLISHED-TTL:PT1H
BEGIN:VTIMEZONE
TZID:America/Denver
BEGIN:DAYLIGHT
TZOFFSETFROM:-0700
TZOFFSETTO:-0600
TZNAME:MDT
DTSTART:20240310T090000
END:DAYLIGHT
BEGIN:STANDARD
TZOFFSETFROM:-0600
TZOFFSETTO:-0700
TZNAME:MST
DTSTART:20241103T080000
END:STANDARD
BEGIN:DAYLIGHT
TZOFFSETFROM:-0700
TZOFFSETTO:-0600
TZNAME:MDT
DTSTART:20250309T090000
END:DAYLIGHT
BEGIN:STANDARD
TZOFFSETFROM:-0600
TZOFFSETTO:-0700
TZNAME:MST
DTSTART:20251102T080000
END:STANDARD
BEGIN:DAYLIGHT
TZOFFSETFROM:-0700
TZOFFSETTO:-0600
TZNAME:MDT
DTSTART:20260308T090000
END:DAYLIGHT
BEGIN:STANDARD
TZOFFSETFROM:-0600
TZOFFSETTO:-0700
TZNAME:MST
DTSTART:20261101T080000
END:STANDARD
END:VTIMEZONE
BEGIN:VEVENT
DTSTART;TZID=America/Denver:20250516T120000
DTEND;TZID=America/Denver:20250516T130000
DTSTAMP:20260425T202854
CREATED:20240608T152048Z
LAST-MODIFIED:20250205T153915Z
UID:10001883-1747396800-1747400400@pikespkblues.org
SUMMARY:Jazz 93.5 Community Blues Hour with BJ Estares
DESCRIPTION:
URL:https://pikespkblues.org/event/jazz-93-5-community-blues-hour-with-bj-estares/2025-05-16/
END:VEVENT
BEGIN:VEVENT
DTSTART;TZID=America/Denver:20250516T190000
DTEND;TZID=America/Denver:20250516T220000
DTSTAMP:20260425T202854
CREATED:20250430T182321Z
LAST-MODIFIED:20250430T182322Z
UID:10004362-1747422000-1747432800@pikespkblues.org
SUMMARY:Rafiel and The Roomshakers and Tiny Pockets
DESCRIPTION:Rafiel and The Roomshakers and Tiny Pockets @ Stargazers Theatre\, Colorado Springs on Friday\, May 16th at 7:00 pm. Doors open at 6:00 pm.
URL:https://pikespkblues.org/event/rafiel-and-the-roomshakers-and-tiny-pockets/
LOCATION:Stargazers Theatre\, 10 S Parkside Dr\, Colorado Springs\, CO\, 80910\, United States
CATEGORIES:Concerts
END:VEVENT
BEGIN:VEVENT
DTSTART;TZID=America/Denver:20250517T130000
DTEND;TZID=America/Denver:20250517T143000
DTSTAMP:20260425T202854
CREATED:20250516T222901Z
LAST-MODIFIED:20250516T222901Z
UID:10004372-1747486800-1747492200@pikespkblues.org
SUMMARY:The Delta Sonics @ Garden of the Gods Arts Festival at Historic Rock Canyon Park
DESCRIPTION:The Delta Sonics @ Garden of the Gods Arts Festival at Historic Rock Canyon Park on Saturday\, May 17\, 2025 from 1:00 pm to 2:30 pm
URL:https://pikespkblues.org/event/the-delta-sonics-garden-of-the-gods-arts-festival-at-historic-rock-canyon-park/
LOCATION:Historic Rock Canyon Park\, 3105 Gateway Rd\, Colorado Springs\, CO\, 80904\, United States
CATEGORIES:Concerts
END:VEVENT
BEGIN:VEVENT
DTSTART;TZID=America/Denver:20250518T150000
DTEND;TZID=America/Denver:20250518T163000
DTSTAMP:20260425T202854
CREATED:20250516T223154Z
LAST-MODIFIED:20250516T223154Z
UID:10004373-1747580400-1747585800@pikespkblues.org
SUMMARY:The Delta Sonics @ Garden of the Gods Arts Festival at Historic Rock Canyon Park
DESCRIPTION:The Delta Sonics @ Garden of the Gods Arts Festival at Historic Rock Canyon Park on Sunday\, May 18\, 2025 from 3:00 pm to 4:30 pm
URL:https://pikespkblues.org/event/the-delta-sonics-garden-of-the-gods-arts-festival-at-historic-rock-canyon-park-2/
LOCATION:Historic Rock Canyon Park\, 3105 Gateway Rd\, Colorado Springs\, CO\, 80904\, United States
CATEGORIES:Concerts
END:VEVENT
BEGIN:VEVENT
DTSTART;TZID=America/Denver:20250519T120000
DTEND;TZID=America/Denver:20250519T130000
DTSTAMP:20260425T202854
CREATED:20240608T152048Z
LAST-MODIFIED:20250205T153915Z
UID:10001884-1747656000-1747659600@pikespkblues.org
SUMMARY:Jazz 93.5 Community Blues Hour with BJ Estares
DESCRIPTION:
URL:https://pikespkblues.org/event/jazz-93-5-community-blues-hour-with-bj-estares/2025-05-19/
END:VEVENT
BEGIN:VEVENT
DTSTART;TZID=America/Denver:20250520T120000
DTEND;TZID=America/Denver:20250520T130000
DTSTAMP:20260425T202854
CREATED:20240608T152048Z
LAST-MODIFIED:20250205T153915Z
UID:10001885-1747742400-1747746000@pikespkblues.org
SUMMARY:Jazz 93.5 Community Blues Hour with BJ Estares
DESCRIPTION:
URL:https://pikespkblues.org/event/jazz-93-5-community-blues-hour-with-bj-estares/2025-05-20/
END:VEVENT
BEGIN:VEVENT
DTSTART;TZID=America/Denver:20250521T120000
DTEND;TZID=America/Denver:20250521T130000
DTSTAMP:20260425T202854
CREATED:20240608T152048Z
LAST-MODIFIED:20250205T153915Z
UID:10001886-1747828800-1747832400@pikespkblues.org
SUMMARY:Jazz 93.5 Community Blues Hour with BJ Estares
DESCRIPTION:
URL:https://pikespkblues.org/event/jazz-93-5-community-blues-hour-with-bj-estares/2025-05-21/
END:VEVENT
BEGIN:VEVENT
DTSTART;TZID=America/Denver:20250522T120000
DTEND;TZID=America/Denver:20250522T130000
DTSTAMP:20260425T202854
CREATED:20240608T152048Z
LAST-MODIFIED:20250205T153915Z
UID:10001887-1747915200-1747918800@pikespkblues.org
SUMMARY:Jazz 93.5 Community Blues Hour with BJ Estares
DESCRIPTION:
URL:https://pikespkblues.org/event/jazz-93-5-community-blues-hour-with-bj-estares/2025-05-22/
END:VEVENT
BEGIN:VEVENT
DTSTART;TZID=America/Denver:20250523T120000
DTEND;TZID=America/Denver:20250523T130000
DTSTAMP:20260425T202854
CREATED:20240608T152048Z
LAST-MODIFIED:20250205T153915Z
UID:10001888-1748001600-1748005200@pikespkblues.org
SUMMARY:Jazz 93.5 Community Blues Hour with BJ Estares
DESCRIPTION:
URL:https://pikespkblues.org/event/jazz-93-5-community-blues-hour-with-bj-estares/2025-05-23/
END:VEVENT
BEGIN:VEVENT
DTSTART;TZID=America/Denver:20250523T190000
DTEND;TZID=America/Denver:20250523T220000
DTSTAMP:20260425T202854
CREATED:20250507T184530Z
LAST-MODIFIED:20250507T184530Z
UID:10004370-1748026800-1748037600@pikespkblues.org
SUMMARY:Big Bill Morganfield with The Delta Sonics
DESCRIPTION:Big Bill Morganfield\, son of Muddy Waters\, backed by The Delta Sonics @ The Armory Performing Arts Center\, 300 Strong St\, Brighton on Friday\, May 23rd at 7:00 pm. Doors open at 6:30 pm. General admission $25.00
URL:https://pikespkblues.org/event/big-bill-morganfield-with-the-delta-sonics/
LOCATION:The Armory Performing Arts Center\, 300 Strong St\, Brighton\, CO\, 80601\, United States
CATEGORIES:Concerts
END:VEVENT
BEGIN:VEVENT
DTSTART;TZID=America/Denver:20250524T193000
DTEND;TZID=America/Denver:20250524T220000
DTSTAMP:20260425T202854
CREATED:20250415T230121Z
LAST-MODIFIED:20250415T230122Z
UID:10004350-1748115000-1748124000@pikespkblues.org
SUMMARY:Randy Stephens with The Street Deacons
DESCRIPTION:Randy Stephens with The Street Deacons @ The Basement at Oskar Blues Colorado Springs on Saturday\, May 24th at 7:30 pm
URL:https://pikespkblues.org/event/randy-stephens-with-the-street-deacons/
LOCATION:The Basement at Oskar Blues Colorado Springs\, 118 N Tejon St\, Colorado Springs\, CO\, 80904\, United States
CATEGORIES:Concerts
END:VEVENT
BEGIN:VEVENT
DTSTART;TZID=America/Denver:20250525T163000
DTEND;TZID=America/Denver:20250525T183000
DTSTAMP:20260425T202854
CREATED:20250514T140632Z
LAST-MODIFIED:20250517T233827Z
UID:10004371-1748190600-1748197800@pikespkblues.org
SUMMARY:Hoodoo Honey
DESCRIPTION:PPBC member band Hoodoo Honey @ TRiNiTy Brewing Co\, 1466 Garden of the Gods Rd\, Colorado Springs on Sunday\, May 25th at 4:30 pm. Admission $5.00 – a portion of the proceeds will benefit The Salvation Army’s Supportive Services Center for Veteran Families (SSVF)
URL:https://pikespkblues.org/event/hoodoo-honey-12/
LOCATION:TRiNiTy Brewing Co.\, 1466 Garden of the Gods Rd\, Colorado Springs\, CO\, 80907\, United States
CATEGORIES:Concerts
END:VEVENT
BEGIN:VEVENT
DTSTART;TZID=America/Denver:20250526T120000
DTEND;TZID=America/Denver:20250526T130000
DTSTAMP:20260425T202854
CREATED:20240608T152048Z
LAST-MODIFIED:20250205T153915Z
UID:10001889-1748260800-1748264400@pikespkblues.org
SUMMARY:Jazz 93.5 Community Blues Hour with BJ Estares
DESCRIPTION:
URL:https://pikespkblues.org/event/jazz-93-5-community-blues-hour-with-bj-estares/2025-05-26/
END:VEVENT
BEGIN:VEVENT
DTSTART;TZID=America/Denver:20250527T120000
DTEND;TZID=America/Denver:20250527T130000
DTSTAMP:20260425T202854
CREATED:20240608T152048Z
LAST-MODIFIED:20250205T153915Z
UID:10001890-1748347200-1748350800@pikespkblues.org
SUMMARY:Jazz 93.5 Community Blues Hour with BJ Estares
DESCRIPTION:
URL:https://pikespkblues.org/event/jazz-93-5-community-blues-hour-with-bj-estares/2025-05-27/
END:VEVENT
BEGIN:VEVENT
DTSTART;TZID=America/Denver:20250528T120000
DTEND;TZID=America/Denver:20250528T130000
DTSTAMP:20260425T202854
CREATED:20240608T152048Z
LAST-MODIFIED:20250205T153915Z
UID:10001891-1748433600-1748437200@pikespkblues.org
SUMMARY:Jazz 93.5 Community Blues Hour with BJ Estares
DESCRIPTION:
URL:https://pikespkblues.org/event/jazz-93-5-community-blues-hour-with-bj-estares/2025-05-28/
END:VEVENT
BEGIN:VEVENT
DTSTART;TZID=America/Denver:20250529T120000
DTEND;TZID=America/Denver:20250529T130000
DTSTAMP:20260425T202854
CREATED:20240608T152048Z
LAST-MODIFIED:20250205T153915Z
UID:10001892-1748520000-1748523600@pikespkblues.org
SUMMARY:Jazz 93.5 Community Blues Hour with BJ Estares
DESCRIPTION:
URL:https://pikespkblues.org/event/jazz-93-5-community-blues-hour-with-bj-estares/2025-05-29/
END:VEVENT
BEGIN:VEVENT
DTSTART;TZID=America/Denver:20250530T120000
DTEND;TZID=America/Denver:20250530T130000
DTSTAMP:20260425T202854
CREATED:20240608T152048Z
LAST-MODIFIED:20250205T153915Z
UID:10001893-1748606400-1748610000@pikespkblues.org
SUMMARY:Jazz 93.5 Community Blues Hour with BJ Estares
DESCRIPTION:
URL:https://pikespkblues.org/event/jazz-93-5-community-blues-hour-with-bj-estares/2025-05-30/
END:VEVENT
BEGIN:VEVENT
DTSTART;TZID=America/Denver:20250602T120000
DTEND;TZID=America/Denver:20250602T130000
DTSTAMP:20260425T202854
CREATED:20240608T152048Z
LAST-MODIFIED:20250205T153915Z
UID:10001894-1748865600-1748869200@pikespkblues.org
SUMMARY:Jazz 93.5 Community Blues Hour with BJ Estares
DESCRIPTION:
URL:https://pikespkblues.org/event/jazz-93-5-community-blues-hour-with-bj-estares/2025-06-02/
END:VEVENT
BEGIN:VEVENT
DTSTART;TZID=America/Denver:20250603T120000
DTEND;TZID=America/Denver:20250603T130000
DTSTAMP:20260425T202854
CREATED:20240608T152048Z
LAST-MODIFIED:20250205T153915Z
UID:10001895-1748952000-1748955600@pikespkblues.org
SUMMARY:Jazz 93.5 Community Blues Hour with BJ Estares
DESCRIPTION:
URL:https://pikespkblues.org/event/jazz-93-5-community-blues-hour-with-bj-estares/2025-06-03/
END:VEVENT
BEGIN:VEVENT
DTSTART;TZID=America/Denver:20250603T173000
DTEND;TZID=America/Denver:20250603T193000
DTSTAMP:20260425T202854
CREATED:20250602T171236Z
LAST-MODIFIED:20250603T161619Z
UID:10004379-1748971800-1748979000@pikespkblues.org
SUMMARY:The 719 Band
DESCRIPTION:The 719 Band @ Bancroft Park\, Old Colorado City on Tuesday\, June 3rd at 5:30 pm\nPart of Dizzy Charlie’s Music & Events “Tuesdays in Bancroft Park” free Summer Music Series
URL:https://pikespkblues.org/event/the-719-band/
LOCATION:Bancroft Park\, 2408 W Colorado Ave\, Colorado Springs\, 80904\, United States
CATEGORIES:Concerts
END:VEVENT
BEGIN:VEVENT
DTSTART;TZID=America/Denver:20250604T120000
DTEND;TZID=America/Denver:20250604T130000
DTSTAMP:20260425T202854
CREATED:20240608T152048Z
LAST-MODIFIED:20250205T153915Z
UID:10001896-1749038400-1749042000@pikespkblues.org
SUMMARY:Jazz 93.5 Community Blues Hour with BJ Estares
DESCRIPTION:
URL:https://pikespkblues.org/event/jazz-93-5-community-blues-hour-with-bj-estares/2025-06-04/
END:VEVENT
BEGIN:VEVENT
DTSTART;TZID=America/Denver:20250605T120000
DTEND;TZID=America/Denver:20250605T130000
DTSTAMP:20260425T202854
CREATED:20240608T152048Z
LAST-MODIFIED:20250205T153915Z
UID:10001897-1749124800-1749128400@pikespkblues.org
SUMMARY:Jazz 93.5 Community Blues Hour with BJ Estares
DESCRIPTION:
URL:https://pikespkblues.org/event/jazz-93-5-community-blues-hour-with-bj-estares/2025-06-05/
END:VEVENT
BEGIN:VEVENT
DTSTART;TZID=America/Denver:20250605T170000
DTEND;TZID=America/Denver:20250605T200000
DTSTAMP:20260425T202854
CREATED:20250501T192500Z
LAST-MODIFIED:20250501T192501Z
UID:10004365-1749142800-1749153600@pikespkblues.org
SUMMARY:John Wise/Tribe
DESCRIPTION:John Wise/Tribe @ Rico’s Café and Wine Bar\, \, 322 1/2 N Tejon St\, Colorado Springs on Thursday\, June 5th at 5:00 pm.
URL:https://pikespkblues.org/event/john-wise-tribe-8/
LOCATION:Rico’s Cafe and Wine Bar\, 322 1/2\, N Tejon St\, Colorado Springs\, CO\, 80903\, United States
CATEGORIES:Concerts
END:VEVENT
BEGIN:VEVENT
DTSTART;TZID=America/Denver:20250605T174500
DTEND;TZID=America/Denver:20250605T221500
DTSTAMP:20260425T202854
CREATED:20250429T213218Z
LAST-MODIFIED:20250430T013148Z
UID:10004360-1749145500-1749161700@pikespkblues.org
SUMMARY:Blues FlashJam at the Buzzed Crow Bistro
DESCRIPTION:Blues FlashJam @ Buzzed Crow Bistro\, 5853 Palmer Park Blvd\, Colorado Springs on Thursday\, June 5th from 5:45 pm to 10:15 pm. Advanced registration is required to participate at https://www.flashjam.com/venues#h.6eox5ptyvr15 or use the QR code below.
URL:https://pikespkblues.org/event/blues-flashjam-at-the-buzzed-crow-bistro/
LOCATION:Buzzed Crow Bistro\, 5853 Palmer Park Blvd\, Colorado Springs\, CO\, United States
CATEGORIES:Jams
END:VEVENT
BEGIN:VEVENT
DTSTART;TZID=America/Denver:20250605T183000
DTEND;TZID=America/Denver:20250605T213000
DTSTAMP:20260425T202854
CREATED:20250505T162333Z
LAST-MODIFIED:20250520T002704Z
UID:10004368-1749148200-1749159000@pikespkblues.org
SUMMARY:PPBC benefit concert featuring Joe Sciallo and Al Chesis at Thunder & Buttons
DESCRIPTION:  \nPPBC benefit concert featuring Joe Sciallo and Al Chesis @ Thunder & Buttons\, 2415 W Colorado Ave\, Colorado Springs 80904 on Thursday\, June 5th at 6:30 pm. Doors open at 6:00 pm. Tickets are $10.00 in advance and $15.00 at the door. Tickets can be purchased below. Proceeds will benefit PPBC’s free Paint The Town Blue concert series this summer in Bancroft Park\, Old Colorado City.
URL:https://pikespkblues.org/event/ppbc-benefit-concert-featuring-joe-sciallo-and-al-chesis/
LOCATION:Thunder & Buttons\, 2415 W Colorado Ave\, Colorado Springs\, CO\, 80904
CATEGORIES:Concerts
END:VEVENT
BEGIN:VEVENT
DTSTART;TZID=America/Denver:20250605T193000
DTEND;TZID=America/Denver:20250605T220000
DTSTAMP:20260425T202854
CREATED:20250415T231333Z
LAST-MODIFIED:20250415T231333Z
UID:10004351-1749151800-1749160800@pikespkblues.org
SUMMARY:Ben Chapman and Meg McCree
DESCRIPTION:Ben Chapman and Meg McCree @ The Basement at Oskar Blues Colorado Springs on Thursday\, June 5th at 7:30 pm
URL:https://pikespkblues.org/event/ben-chapman-and-meg-mccree/
LOCATION:The Basement at Oskar Blues Colorado Springs\, 118 N Tejon St\, Colorado Springs\, CO\, 80904\, United States
CATEGORIES:Concerts
END:VEVENT
BEGIN:VEVENT
DTSTART;TZID=America/Denver:20250606T120000
DTEND;TZID=America/Denver:20250606T130000
DTSTAMP:20260425T202854
CREATED:20240608T152048Z
LAST-MODIFIED:20250205T153915Z
UID:10001898-1749211200-1749214800@pikespkblues.org
SUMMARY:Jazz 93.5 Community Blues Hour with BJ Estares
DESCRIPTION:
URL:https://pikespkblues.org/event/jazz-93-5-community-blues-hour-with-bj-estares/2025-06-06/
END:VEVENT
BEGIN:VEVENT
DTSTART;TZID=America/Denver:20250606T173000
DTEND;TZID=America/Denver:20250606T210000
DTSTAMP:20260425T202854
CREATED:20250416T204651Z
LAST-MODIFIED:20250416T205445Z
UID:10004352-1749231000-1749243600@pikespkblues.org
SUMMARY:Greeley Blues Jam Music Festival - Day 1
DESCRIPTION:Greeley Blues Jam Music Festival – Day 1\, featuring Blackcat Zydeco\, Dwight Carrier and Erica Brown @ 9th Street Plaza\, Historic Downtown Greeley on Friday\, June 6th at 5:30 pm
URL:https://pikespkblues.org/event/greeley-blues-jam-music-festival-day-1/
LOCATION:Historic Downtown Greeley\, 9th Street Plaza\, Greeley\, CO\, 80631\, United States
CATEGORIES:Concerts
END:VEVENT
BEGIN:VEVENT
DTSTART;TZID=America/Denver:20250606T180000
DTEND;TZID=America/Denver:20250606T210000
DTSTAMP:20260425T202854
CREATED:20250501T192803Z
LAST-MODIFIED:20250501T192804Z
UID:10004366-1749232800-1749243600@pikespkblues.org
SUMMARY:The Cleveland Experiment
DESCRIPTION:The Cleveland Experiment @ Rico’s Café and Wine Bar\, 322 1/2 N Tejon St\, Colorado Springs on Friday\, June 6th at 6:00 pm.
URL:https://pikespkblues.org/event/the-cleveland-experiment-11/
LOCATION:Rico’s Cafe and Wine Bar\, 322 1/2\, N Tejon St\, Colorado Springs\, CO\, 80903\, United States
CATEGORIES:Concerts
END:VEVENT
BEGIN:VEVENT
DTSTART;TZID=America/Denver:20250606T200000
DTEND;TZID=America/Denver:20250606T223000
DTSTAMP:20260425T202854
CREATED:20250601T182244Z
LAST-MODIFIED:20250601T182244Z
UID:10004374-1749240000-1749249000@pikespkblues.org
SUMMARY:Hazel Miller & The Collective
DESCRIPTION:Hazel Miller & The Collective @ Buffalo Rose\, Golden on Friday\, June 6th at 8:00 pm
URL:https://pikespkblues.org/event/hazel-miller-the-collective/
LOCATION:Buffalo Rose\, 1119 Washington Ave\, Golden\, CO\, 80401
CATEGORIES:Concerts
END:VEVENT
END:VCALENDAR