BEGIN:VCALENDAR
VERSION:2.0
PRODID:-//Pikes Peak Blues Community - ECPv6.15.20//NONSGML v1.0//EN
CALSCALE:GREGORIAN
METHOD:PUBLISH
X-WR-CALNAME:Pikes Peak Blues Community
X-ORIGINAL-URL:https://pikespkblues.org
X-WR-CALDESC:Events for Pikes Peak Blues Community
REFRESH-INTERVAL;VALUE=DURATION:PT1H
X-Robots-Tag:noindex
X-PUBLISHED-TTL:PT1H
BEGIN:VTIMEZONE
TZID:America/Denver
BEGIN:DAYLIGHT
TZOFFSETFROM:-0700
TZOFFSETTO:-0600
TZNAME:MDT
DTSTART:20250309T090000
END:DAYLIGHT
BEGIN:STANDARD
TZOFFSETFROM:-0600
TZOFFSETTO:-0700
TZNAME:MST
DTSTART:20251102T080000
END:STANDARD
BEGIN:DAYLIGHT
TZOFFSETFROM:-0700
TZOFFSETTO:-0600
TZNAME:MDT
DTSTART:20260308T090000
END:DAYLIGHT
BEGIN:STANDARD
TZOFFSETFROM:-0600
TZOFFSETTO:-0700
TZNAME:MST
DTSTART:20261101T080000
END:STANDARD
BEGIN:DAYLIGHT
TZOFFSETFROM:-0700
TZOFFSETTO:-0600
TZNAME:MDT
DTSTART:20270314T090000
END:DAYLIGHT
BEGIN:STANDARD
TZOFFSETFROM:-0600
TZOFFSETTO:-0700
TZNAME:MST
DTSTART:20271107T080000
END:STANDARD
END:VTIMEZONE
BEGIN:VEVENT
DTSTART;TZID=America/Denver:20260928T120000
DTEND;TZID=America/Denver:20260928T130000
DTSTAMP:20260424T042421
CREATED:20240608T152048Z
LAST-MODIFIED:20250205T153915Z
UID:10002239-1790596800-1790600400@pikespkblues.org
SUMMARY:Jazz 93.5 Community Blues Hour with BJ Estares
DESCRIPTION:
URL:https://pikespkblues.org/event/jazz-93-5-community-blues-hour-with-bj-estares/2026-09-28/
LOCATION:CO
END:VEVENT
BEGIN:VEVENT
DTSTART;TZID=America/Denver:20260929T120000
DTEND;TZID=America/Denver:20260929T130000
DTSTAMP:20260424T042421
CREATED:20240608T152048Z
LAST-MODIFIED:20250205T153915Z
UID:10002240-1790683200-1790686800@pikespkblues.org
SUMMARY:Jazz 93.5 Community Blues Hour with BJ Estares
DESCRIPTION:
URL:https://pikespkblues.org/event/jazz-93-5-community-blues-hour-with-bj-estares/2026-09-29/
LOCATION:CO
END:VEVENT
BEGIN:VEVENT
DTSTART;TZID=America/Denver:20260929T180000
DTEND;TZID=America/Denver:20260929T210000
DTSTAMP:20260424T042421
CREATED:20251004T004608Z
LAST-MODIFIED:20251004T182250Z
UID:10004831-1790704800-1790715600@pikespkblues.org
SUMMARY:Sweet T's Rude Blues Jam on Tuesdays at PEAK 31
DESCRIPTION:Sweet T’s Rude Blues Jam @ PEAK 31\, 2419 N Union Blvd (80909) on Tuesdays\, from 6:00 pm to 9:00 pm.
URL:https://pikespkblues.org/event/sweet-ts-rude-blues-jam-on-tuesdays-at-peak-31/2026-09-29/
LOCATION:PEAK 31\, 2419 N Union Blvd\, Colorado Springs\, CO\, 80909\, United States
CATEGORIES:Jams
END:VEVENT
BEGIN:VEVENT
DTSTART;TZID=America/Denver:20260930T120000
DTEND;TZID=America/Denver:20260930T130000
DTSTAMP:20260424T042421
CREATED:20240608T152048Z
LAST-MODIFIED:20250205T153915Z
UID:10002241-1790769600-1790773200@pikespkblues.org
SUMMARY:Jazz 93.5 Community Blues Hour with BJ Estares
DESCRIPTION:
URL:https://pikespkblues.org/event/jazz-93-5-community-blues-hour-with-bj-estares/2026-09-30/
LOCATION:CO
END:VEVENT
BEGIN:VEVENT
DTSTART;TZID=America/Denver:20261001T120000
DTEND;TZID=America/Denver:20261001T130000
DTSTAMP:20260424T042421
CREATED:20240608T152048Z
LAST-MODIFIED:20250205T153915Z
UID:10002242-1790856000-1790859600@pikespkblues.org
SUMMARY:Jazz 93.5 Community Blues Hour with BJ Estares
DESCRIPTION:
URL:https://pikespkblues.org/event/jazz-93-5-community-blues-hour-with-bj-estares/2026-10-01/
LOCATION:CO
END:VEVENT
BEGIN:VEVENT
DTSTART;TZID=America/Denver:20261001T200000
DTEND;TZID=America/Denver:20261001T230000
DTSTAMP:20260424T042421
CREATED:20260221T045616Z
LAST-MODIFIED:20260221T045617Z
UID:10005705-1790884800-1790895600@pikespkblues.org
SUMMARY:Blues Jam hosted by Randy Stephens & the Groove Makers
DESCRIPTION:Blues Jam hosted by Randy Stephens & the Groove Makers @ Kinfolks\, 950 Manitou Ave\, Manitou Springs on the first Thursday of  the month from 8:00 pm to 11:00 pm. Sign up start at 7:30 pm. Bring your own axe and jam with these award winning musicians. Keys\, drums\, and amps provided. Horn players welcome.
URL:https://pikespkblues.org/event/stormy-monday-blues-jam-hosted-by-randy-stephens-the-groove-makers-2-2/2026-10-01/
LOCATION:Kinsfolks\, 950 Manitou Ave\, Manitou Springs\, CO\, 80829
CATEGORIES:Jams
END:VEVENT
BEGIN:VEVENT
DTSTART;TZID=America/Denver:20261002T120000
DTEND;TZID=America/Denver:20261002T130000
DTSTAMP:20260424T042421
CREATED:20240608T152048Z
LAST-MODIFIED:20250205T153915Z
UID:10002243-1790942400-1790946000@pikespkblues.org
SUMMARY:Jazz 93.5 Community Blues Hour with BJ Estares
DESCRIPTION:
URL:https://pikespkblues.org/event/jazz-93-5-community-blues-hour-with-bj-estares/2026-10-02/
LOCATION:CO
END:VEVENT
BEGIN:VEVENT
DTSTART;TZID=America/Denver:20261005T120000
DTEND;TZID=America/Denver:20261005T130000
DTSTAMP:20260424T042421
CREATED:20240608T152048Z
LAST-MODIFIED:20250205T153915Z
UID:10002244-1791201600-1791205200@pikespkblues.org
SUMMARY:Jazz 93.5 Community Blues Hour with BJ Estares
DESCRIPTION:
URL:https://pikespkblues.org/event/jazz-93-5-community-blues-hour-with-bj-estares/2026-10-05/
LOCATION:CO
END:VEVENT
BEGIN:VEVENT
DTSTART;TZID=America/Denver:20261006T120000
DTEND;TZID=America/Denver:20261006T130000
DTSTAMP:20260424T042421
CREATED:20240608T152048Z
LAST-MODIFIED:20250205T153915Z
UID:10002245-1791288000-1791291600@pikespkblues.org
SUMMARY:Jazz 93.5 Community Blues Hour with BJ Estares
DESCRIPTION:
URL:https://pikespkblues.org/event/jazz-93-5-community-blues-hour-with-bj-estares/2026-10-06/
LOCATION:CO
END:VEVENT
BEGIN:VEVENT
DTSTART;TZID=America/Denver:20261006T180000
DTEND;TZID=America/Denver:20261006T210000
DTSTAMP:20260424T042421
CREATED:20251004T004608Z
LAST-MODIFIED:20251004T182250Z
UID:10004832-1791309600-1791320400@pikespkblues.org
SUMMARY:Sweet T's Rude Blues Jam on Tuesdays at PEAK 31
DESCRIPTION:Sweet T’s Rude Blues Jam @ PEAK 31\, 2419 N Union Blvd (80909) on Tuesdays\, from 6:00 pm to 9:00 pm.
URL:https://pikespkblues.org/event/sweet-ts-rude-blues-jam-on-tuesdays-at-peak-31/2026-10-06/
LOCATION:PEAK 31\, 2419 N Union Blvd\, Colorado Springs\, CO\, 80909\, United States
CATEGORIES:Jams
END:VEVENT
BEGIN:VEVENT
DTSTART;TZID=America/Denver:20261007T120000
DTEND;TZID=America/Denver:20261007T130000
DTSTAMP:20260424T042421
CREATED:20240608T152048Z
LAST-MODIFIED:20250205T153915Z
UID:10002246-1791374400-1791378000@pikespkblues.org
SUMMARY:Jazz 93.5 Community Blues Hour with BJ Estares
DESCRIPTION:
URL:https://pikespkblues.org/event/jazz-93-5-community-blues-hour-with-bj-estares/2026-10-07/
LOCATION:CO
END:VEVENT
BEGIN:VEVENT
DTSTART;TZID=America/Denver:20261008T120000
DTEND;TZID=America/Denver:20261008T130000
DTSTAMP:20260424T042421
CREATED:20240608T152048Z
LAST-MODIFIED:20250205T153915Z
UID:10002247-1791460800-1791464400@pikespkblues.org
SUMMARY:Jazz 93.5 Community Blues Hour with BJ Estares
DESCRIPTION:
URL:https://pikespkblues.org/event/jazz-93-5-community-blues-hour-with-bj-estares/2026-10-08/
LOCATION:CO
END:VEVENT
BEGIN:VEVENT
DTSTART;TZID=America/Denver:20261009T120000
DTEND;TZID=America/Denver:20261009T130000
DTSTAMP:20260424T042421
CREATED:20240608T152048Z
LAST-MODIFIED:20250205T153915Z
UID:10002248-1791547200-1791550800@pikespkblues.org
SUMMARY:Jazz 93.5 Community Blues Hour with BJ Estares
DESCRIPTION:
URL:https://pikespkblues.org/event/jazz-93-5-community-blues-hour-with-bj-estares/2026-10-09/
LOCATION:CO
END:VEVENT
BEGIN:VEVENT
DTSTART;TZID=America/Denver:20261012T120000
DTEND;TZID=America/Denver:20261012T130000
DTSTAMP:20260424T042421
CREATED:20240608T152048Z
LAST-MODIFIED:20250205T153915Z
UID:10002249-1791806400-1791810000@pikespkblues.org
SUMMARY:Jazz 93.5 Community Blues Hour with BJ Estares
DESCRIPTION:
URL:https://pikespkblues.org/event/jazz-93-5-community-blues-hour-with-bj-estares/2026-10-12/
LOCATION:CO
END:VEVENT
BEGIN:VEVENT
DTSTART;TZID=America/Denver:20261013T120000
DTEND;TZID=America/Denver:20261013T130000
DTSTAMP:20260424T042421
CREATED:20240608T152048Z
LAST-MODIFIED:20250205T153915Z
UID:10002250-1791892800-1791896400@pikespkblues.org
SUMMARY:Jazz 93.5 Community Blues Hour with BJ Estares
DESCRIPTION:
URL:https://pikespkblues.org/event/jazz-93-5-community-blues-hour-with-bj-estares/2026-10-13/
LOCATION:CO
END:VEVENT
BEGIN:VEVENT
DTSTART;TZID=America/Denver:20261013T180000
DTEND;TZID=America/Denver:20261013T210000
DTSTAMP:20260424T042421
CREATED:20251004T004608Z
LAST-MODIFIED:20251004T182250Z
UID:10004833-1791914400-1791925200@pikespkblues.org
SUMMARY:Sweet T's Rude Blues Jam on Tuesdays at PEAK 31
DESCRIPTION:Sweet T’s Rude Blues Jam @ PEAK 31\, 2419 N Union Blvd (80909) on Tuesdays\, from 6:00 pm to 9:00 pm.
URL:https://pikespkblues.org/event/sweet-ts-rude-blues-jam-on-tuesdays-at-peak-31/2026-10-13/
LOCATION:PEAK 31\, 2419 N Union Blvd\, Colorado Springs\, CO\, 80909\, United States
CATEGORIES:Jams
END:VEVENT
BEGIN:VEVENT
DTSTART;TZID=America/Denver:20261014T120000
DTEND;TZID=America/Denver:20261014T130000
DTSTAMP:20260424T042421
CREATED:20240608T152048Z
LAST-MODIFIED:20250205T153915Z
UID:10002251-1791979200-1791982800@pikespkblues.org
SUMMARY:Jazz 93.5 Community Blues Hour with BJ Estares
DESCRIPTION:
URL:https://pikespkblues.org/event/jazz-93-5-community-blues-hour-with-bj-estares/2026-10-14/
LOCATION:CO
END:VEVENT
BEGIN:VEVENT
DTSTART;TZID=America/Denver:20261015T120000
DTEND;TZID=America/Denver:20261015T130000
DTSTAMP:20260424T042421
CREATED:20240608T152048Z
LAST-MODIFIED:20250205T153915Z
UID:10002252-1792065600-1792069200@pikespkblues.org
SUMMARY:Jazz 93.5 Community Blues Hour with BJ Estares
DESCRIPTION:
URL:https://pikespkblues.org/event/jazz-93-5-community-blues-hour-with-bj-estares/2026-10-15/
LOCATION:CO
END:VEVENT
BEGIN:VEVENT
DTSTART;TZID=America/Denver:20261016T120000
DTEND;TZID=America/Denver:20261016T130000
DTSTAMP:20260424T042421
CREATED:20240608T152048Z
LAST-MODIFIED:20250205T153915Z
UID:10002253-1792152000-1792155600@pikespkblues.org
SUMMARY:Jazz 93.5 Community Blues Hour with BJ Estares
DESCRIPTION:
URL:https://pikespkblues.org/event/jazz-93-5-community-blues-hour-with-bj-estares/2026-10-16/
LOCATION:CO
END:VEVENT
BEGIN:VEVENT
DTSTART;TZID=America/Denver:20261019T120000
DTEND;TZID=America/Denver:20261019T130000
DTSTAMP:20260424T042421
CREATED:20240608T152048Z
LAST-MODIFIED:20250205T153915Z
UID:10002254-1792411200-1792414800@pikespkblues.org
SUMMARY:Jazz 93.5 Community Blues Hour with BJ Estares
DESCRIPTION:
URL:https://pikespkblues.org/event/jazz-93-5-community-blues-hour-with-bj-estares/2026-10-19/
LOCATION:CO
END:VEVENT
BEGIN:VEVENT
DTSTART;TZID=America/Denver:20261020T120000
DTEND;TZID=America/Denver:20261020T130000
DTSTAMP:20260424T042421
CREATED:20240608T152048Z
LAST-MODIFIED:20250205T153915Z
UID:10002255-1792497600-1792501200@pikespkblues.org
SUMMARY:Jazz 93.5 Community Blues Hour with BJ Estares
DESCRIPTION:
URL:https://pikespkblues.org/event/jazz-93-5-community-blues-hour-with-bj-estares/2026-10-20/
LOCATION:CO
END:VEVENT
BEGIN:VEVENT
DTSTART;TZID=America/Denver:20261020T180000
DTEND;TZID=America/Denver:20261020T210000
DTSTAMP:20260424T042421
CREATED:20251004T004608Z
LAST-MODIFIED:20251004T182250Z
UID:10004834-1792519200-1792530000@pikespkblues.org
SUMMARY:Sweet T's Rude Blues Jam on Tuesdays at PEAK 31
DESCRIPTION:Sweet T’s Rude Blues Jam @ PEAK 31\, 2419 N Union Blvd (80909) on Tuesdays\, from 6:00 pm to 9:00 pm.
URL:https://pikespkblues.org/event/sweet-ts-rude-blues-jam-on-tuesdays-at-peak-31/2026-10-20/
LOCATION:PEAK 31\, 2419 N Union Blvd\, Colorado Springs\, CO\, 80909\, United States
CATEGORIES:Jams
END:VEVENT
BEGIN:VEVENT
DTSTART;TZID=America/Denver:20261021T120000
DTEND;TZID=America/Denver:20261021T130000
DTSTAMP:20260424T042421
CREATED:20240608T152048Z
LAST-MODIFIED:20250205T153915Z
UID:10002256-1792584000-1792587600@pikespkblues.org
SUMMARY:Jazz 93.5 Community Blues Hour with BJ Estares
DESCRIPTION:
URL:https://pikespkblues.org/event/jazz-93-5-community-blues-hour-with-bj-estares/2026-10-21/
LOCATION:CO
END:VEVENT
BEGIN:VEVENT
DTSTART;TZID=America/Denver:20261022T120000
DTEND;TZID=America/Denver:20261022T130000
DTSTAMP:20260424T042421
CREATED:20240608T152048Z
LAST-MODIFIED:20250205T153915Z
UID:10002257-1792670400-1792674000@pikespkblues.org
SUMMARY:Jazz 93.5 Community Blues Hour with BJ Estares
DESCRIPTION:
URL:https://pikespkblues.org/event/jazz-93-5-community-blues-hour-with-bj-estares/2026-10-22/
LOCATION:CO
END:VEVENT
BEGIN:VEVENT
DTSTART;TZID=America/Denver:20261023T120000
DTEND;TZID=America/Denver:20261023T130000
DTSTAMP:20260424T042421
CREATED:20240608T152048Z
LAST-MODIFIED:20250205T153915Z
UID:10002258-1792756800-1792760400@pikespkblues.org
SUMMARY:Jazz 93.5 Community Blues Hour with BJ Estares
DESCRIPTION:
URL:https://pikespkblues.org/event/jazz-93-5-community-blues-hour-with-bj-estares/2026-10-23/
LOCATION:CO
END:VEVENT
BEGIN:VEVENT
DTSTART;TZID=America/Denver:20261026T120000
DTEND;TZID=America/Denver:20261026T130000
DTSTAMP:20260424T042421
CREATED:20240608T152048Z
LAST-MODIFIED:20250205T153915Z
UID:10002259-1793016000-1793019600@pikespkblues.org
SUMMARY:Jazz 93.5 Community Blues Hour with BJ Estares
DESCRIPTION:
URL:https://pikespkblues.org/event/jazz-93-5-community-blues-hour-with-bj-estares/2026-10-26/
LOCATION:CO
END:VEVENT
BEGIN:VEVENT
DTSTART;TZID=America/Denver:20261027T120000
DTEND;TZID=America/Denver:20261027T130000
DTSTAMP:20260424T042421
CREATED:20240608T152048Z
LAST-MODIFIED:20250205T153915Z
UID:10002260-1793102400-1793106000@pikespkblues.org
SUMMARY:Jazz 93.5 Community Blues Hour with BJ Estares
DESCRIPTION:
URL:https://pikespkblues.org/event/jazz-93-5-community-blues-hour-with-bj-estares/2026-10-27/
LOCATION:CO
END:VEVENT
BEGIN:VEVENT
DTSTART;TZID=America/Denver:20261027T180000
DTEND;TZID=America/Denver:20261027T210000
DTSTAMP:20260424T042421
CREATED:20251004T004608Z
LAST-MODIFIED:20251004T182250Z
UID:10004835-1793124000-1793134800@pikespkblues.org
SUMMARY:Sweet T's Rude Blues Jam on Tuesdays at PEAK 31
DESCRIPTION:Sweet T’s Rude Blues Jam @ PEAK 31\, 2419 N Union Blvd (80909) on Tuesdays\, from 6:00 pm to 9:00 pm.
URL:https://pikespkblues.org/event/sweet-ts-rude-blues-jam-on-tuesdays-at-peak-31/2026-10-27/
LOCATION:PEAK 31\, 2419 N Union Blvd\, Colorado Springs\, CO\, 80909\, United States
CATEGORIES:Jams
END:VEVENT
BEGIN:VEVENT
DTSTART;TZID=America/Denver:20261028T120000
DTEND;TZID=America/Denver:20261028T130000
DTSTAMP:20260424T042421
CREATED:20240608T152048Z
LAST-MODIFIED:20250205T153915Z
UID:10002261-1793188800-1793192400@pikespkblues.org
SUMMARY:Jazz 93.5 Community Blues Hour with BJ Estares
DESCRIPTION:
URL:https://pikespkblues.org/event/jazz-93-5-community-blues-hour-with-bj-estares/2026-10-28/
LOCATION:CO
END:VEVENT
BEGIN:VEVENT
DTSTART;TZID=America/Denver:20261029T120000
DTEND;TZID=America/Denver:20261029T130000
DTSTAMP:20260424T042421
CREATED:20240608T152048Z
LAST-MODIFIED:20250205T153915Z
UID:10002262-1793275200-1793278800@pikespkblues.org
SUMMARY:Jazz 93.5 Community Blues Hour with BJ Estares
DESCRIPTION:
URL:https://pikespkblues.org/event/jazz-93-5-community-blues-hour-with-bj-estares/2026-10-29/
LOCATION:CO
END:VEVENT
END:VCALENDAR