BEGIN:VCALENDAR
VERSION:2.0
PRODID:-//Pikes Peak Blues Community - ECPv6.15.20//NONSGML v1.0//EN
CALSCALE:GREGORIAN
METHOD:PUBLISH
X-WR-CALNAME:Pikes Peak Blues Community
X-ORIGINAL-URL:https://pikespkblues.org
X-WR-CALDESC:Events for Pikes Peak Blues Community
REFRESH-INTERVAL;VALUE=DURATION:PT1H
X-Robots-Tag:noindex
X-PUBLISHED-TTL:PT1H
BEGIN:VTIMEZONE
TZID:America/Denver
BEGIN:DAYLIGHT
TZOFFSETFROM:-0700
TZOFFSETTO:-0600
TZNAME:MDT
DTSTART:20250309T090000
END:DAYLIGHT
BEGIN:STANDARD
TZOFFSETFROM:-0600
TZOFFSETTO:-0700
TZNAME:MST
DTSTART:20251102T080000
END:STANDARD
BEGIN:DAYLIGHT
TZOFFSETFROM:-0700
TZOFFSETTO:-0600
TZNAME:MDT
DTSTART:20260308T090000
END:DAYLIGHT
BEGIN:STANDARD
TZOFFSETFROM:-0600
TZOFFSETTO:-0700
TZNAME:MST
DTSTART:20261101T080000
END:STANDARD
BEGIN:DAYLIGHT
TZOFFSETFROM:-0700
TZOFFSETTO:-0600
TZNAME:MDT
DTSTART:20270314T090000
END:DAYLIGHT
BEGIN:STANDARD
TZOFFSETFROM:-0600
TZOFFSETTO:-0700
TZNAME:MST
DTSTART:20271107T080000
END:STANDARD
END:VTIMEZONE
BEGIN:VEVENT
DTSTART;TZID=America/Denver:20260511T120000
DTEND;TZID=America/Denver:20260511T130000
DTSTAMP:20260423T145111
CREATED:20240608T152048Z
LAST-MODIFIED:20250205T153915Z
UID:10002139-1778500800-1778504400@pikespkblues.org
SUMMARY:Jazz 93.5 Community Blues Hour with BJ Estares
DESCRIPTION:
URL:https://pikespkblues.org/event/jazz-93-5-community-blues-hour-with-bj-estares/2026-05-11/
LOCATION:CO
END:VEVENT
BEGIN:VEVENT
DTSTART;TZID=America/Denver:20260512T120000
DTEND;TZID=America/Denver:20260512T130000
DTSTAMP:20260423T145111
CREATED:20240608T152048Z
LAST-MODIFIED:20250205T153915Z
UID:10002140-1778587200-1778590800@pikespkblues.org
SUMMARY:Jazz 93.5 Community Blues Hour with BJ Estares
DESCRIPTION:
URL:https://pikespkblues.org/event/jazz-93-5-community-blues-hour-with-bj-estares/2026-05-12/
LOCATION:CO
END:VEVENT
BEGIN:VEVENT
DTSTART;TZID=America/Denver:20260512T180000
DTEND;TZID=America/Denver:20260512T210000
DTSTAMP:20260423T145111
CREATED:20251004T004608Z
LAST-MODIFIED:20251004T182250Z
UID:10004811-1778608800-1778619600@pikespkblues.org
SUMMARY:Sweet T's Rude Blues Jam on Tuesdays at PEAK 31
DESCRIPTION:Sweet T’s Rude Blues Jam @ PEAK 31\, 2419 N Union Blvd (80909) on Tuesdays\, from 6:00 pm to 9:00 pm.
URL:https://pikespkblues.org/event/sweet-ts-rude-blues-jam-on-tuesdays-at-peak-31/2026-05-12/
LOCATION:PEAK 31\, 2419 N Union Blvd\, Colorado Springs\, CO\, 80909\, United States
CATEGORIES:Jams
END:VEVENT
BEGIN:VEVENT
DTSTART;TZID=America/Denver:20260513T120000
DTEND;TZID=America/Denver:20260513T130000
DTSTAMP:20260423T145111
CREATED:20240608T152048Z
LAST-MODIFIED:20250205T153915Z
UID:10002141-1778673600-1778677200@pikespkblues.org
SUMMARY:Jazz 93.5 Community Blues Hour with BJ Estares
DESCRIPTION:
URL:https://pikespkblues.org/event/jazz-93-5-community-blues-hour-with-bj-estares/2026-05-13/
LOCATION:CO
END:VEVENT
BEGIN:VEVENT
DTSTART;TZID=America/Denver:20260513T173000
DTEND;TZID=America/Denver:20260513T173000
DTSTAMP:20260423T145111
CREATED:20260420T004024Z
LAST-MODIFIED:20260420T004837Z
UID:10005822-1778693400-1778693400@pikespkblues.org
SUMMARY:Delta Sonics with Al Chesis  *** PPBC Member Band ***
DESCRIPTION:Delta Sonics with Al Chesis @ Foothills Animal Shelter (Watering Bowl Social Fundraising Event)\, Golden on Wednesday\, May 13th at 5:30 pm.
URL:https://pikespkblues.org/event/delta-sonics-with-al-chesis-ppbc-member-band-68/
LOCATION:Foothillls Animal Shelter\, 580 McIntyre St\, Golden\, CO\, 80401\, United States
CATEGORIES:Concerts
END:VEVENT
BEGIN:VEVENT
DTSTART;TZID=America/Denver:20260514T120000
DTEND;TZID=America/Denver:20260514T130000
DTSTAMP:20260423T145111
CREATED:20240608T152048Z
LAST-MODIFIED:20250205T153915Z
UID:10002142-1778760000-1778763600@pikespkblues.org
SUMMARY:Jazz 93.5 Community Blues Hour with BJ Estares
DESCRIPTION:
URL:https://pikespkblues.org/event/jazz-93-5-community-blues-hour-with-bj-estares/2026-05-14/
LOCATION:CO
END:VEVENT
BEGIN:VEVENT
DTSTART;TZID=America/Denver:20260515T120000
DTEND;TZID=America/Denver:20260515T130000
DTSTAMP:20260423T145111
CREATED:20240608T152048Z
LAST-MODIFIED:20250205T153915Z
UID:10002143-1778846400-1778850000@pikespkblues.org
SUMMARY:Jazz 93.5 Community Blues Hour with BJ Estares
DESCRIPTION:
URL:https://pikespkblues.org/event/jazz-93-5-community-blues-hour-with-bj-estares/2026-05-15/
LOCATION:CO
END:VEVENT
BEGIN:VEVENT
DTSTART;TZID=America/Denver:20260515T180000
DTEND;TZID=America/Denver:20260515T210000
DTSTAMP:20260423T145111
CREATED:20260419T233845Z
LAST-MODIFIED:20260419T233845Z
UID:10005819-1778868000-1778878800@pikespkblues.org
SUMMARY:Delta Sonics with Al Chesis  *** PPBC Member Band ***
DESCRIPTION:Delta Sonics with Al Chesis @ Bricks on Main Street\, Longmont on Friday\, May 15th at 6:00 pm.
URL:https://pikespkblues.org/event/delta-sonics-with-al-chesis-ppbc-member-band-65/
LOCATION:Bricks on Main Street\, 471 Main St\, Longmont\, CO\, 80501\, United States
CATEGORIES:Concerts
END:VEVENT
BEGIN:VEVENT
DTSTART;TZID=America/Denver:20260516T120000
DTEND;TZID=America/Denver:20260516T143000
DTSTAMP:20260423T145111
CREATED:20260303T160751Z
LAST-MODIFIED:20260401T143344Z
UID:10005787-1778932800-1778941800@pikespkblues.org
SUMMARY:Kids’ Matinee: Special Blend - Blues | Jazz | Rock & Roll
DESCRIPTION:Kids’ Matinee: Special Blend @ Dazzle\, Denver on Saturday\, May 16th at noon.
URL:https://pikespkblues.org/event/kids-matinee-special-blend-blues-jazz-rock-roll-3/
LOCATION:Dazzle\, 1080 14th Street\, Denver\, CO\, 80202
CATEGORIES:Concerts
END:VEVENT
BEGIN:VEVENT
DTSTART;TZID=America/Denver:20260516T133000
DTEND;TZID=America/Denver:20260516T143000
DTSTAMP:20260423T145111
CREATED:20260420T003320Z
LAST-MODIFIED:20260420T003320Z
UID:10005821-1778938200-1778941800@pikespkblues.org
SUMMARY:Delta Sonics with Al Chesis  *** PPBC Member Band ***
DESCRIPTION:Delta Sonics with Al Chesis @ Garden of the Gods Art Festival\, Rock Ledge Ranch Historic Site\, Colorado Springs on Saturday\, March 16th at 1:30 pm.
URL:https://pikespkblues.org/event/delta-sonics-with-al-chesis-ppbc-member-band-67/
LOCATION:Rock Ledge Ranch Historic Site\, Delta Sonics with Al Chesis\, Colorado Springs\, CO\, 80904\, United States
CATEGORIES:Concerts
END:VEVENT
BEGIN:VEVENT
DTSTART;TZID=America/Denver:20260516T193000
DTEND;TZID=America/Denver:20260516T223000
DTSTAMP:20260423T145111
CREATED:20260419T234210Z
LAST-MODIFIED:20260419T234210Z
UID:10005820-1778959800-1778970600@pikespkblues.org
SUMMARY:Delta Sonics with Al Chesis  *** PPBC Member Band ***
DESCRIPTION:Delta Sonics with Al Chesis @ The Studio on Main Street\, Parker on Saturday\, May 16th at 7:30 pm.
URL:https://pikespkblues.org/event/delta-sonics-with-al-chesis-ppbc-member-band-66/
LOCATION:The Studio at Mainstreet\, 19604 E Mainstreet\, Parker\, CO\, 80138\, United States
CATEGORIES:Concerts
END:VEVENT
BEGIN:VEVENT
DTSTART;TZID=America/Denver:20260518T120000
DTEND;TZID=America/Denver:20260518T130000
DTSTAMP:20260423T145111
CREATED:20240608T152048Z
LAST-MODIFIED:20250205T153915Z
UID:10002144-1779105600-1779109200@pikespkblues.org
SUMMARY:Jazz 93.5 Community Blues Hour with BJ Estares
DESCRIPTION:
URL:https://pikespkblues.org/event/jazz-93-5-community-blues-hour-with-bj-estares/2026-05-18/
LOCATION:CO
END:VEVENT
BEGIN:VEVENT
DTSTART;TZID=America/Denver:20260519T120000
DTEND;TZID=America/Denver:20260519T130000
DTSTAMP:20260423T145111
CREATED:20240608T152048Z
LAST-MODIFIED:20250205T153915Z
UID:10002145-1779192000-1779195600@pikespkblues.org
SUMMARY:Jazz 93.5 Community Blues Hour with BJ Estares
DESCRIPTION:
URL:https://pikespkblues.org/event/jazz-93-5-community-blues-hour-with-bj-estares/2026-05-19/
LOCATION:CO
END:VEVENT
BEGIN:VEVENT
DTSTART;TZID=America/Denver:20260519T180000
DTEND;TZID=America/Denver:20260519T210000
DTSTAMP:20260423T145111
CREATED:20251004T004608Z
LAST-MODIFIED:20251004T182250Z
UID:10004812-1779213600-1779224400@pikespkblues.org
SUMMARY:Sweet T's Rude Blues Jam on Tuesdays at PEAK 31
DESCRIPTION:Sweet T’s Rude Blues Jam @ PEAK 31\, 2419 N Union Blvd (80909) on Tuesdays\, from 6:00 pm to 9:00 pm.
URL:https://pikespkblues.org/event/sweet-ts-rude-blues-jam-on-tuesdays-at-peak-31/2026-05-19/
LOCATION:PEAK 31\, 2419 N Union Blvd\, Colorado Springs\, CO\, 80909\, United States
CATEGORIES:Jams
END:VEVENT
BEGIN:VEVENT
DTSTART;TZID=America/Denver:20260520T120000
DTEND;TZID=America/Denver:20260520T130000
DTSTAMP:20260423T145111
CREATED:20240608T152048Z
LAST-MODIFIED:20250205T153915Z
UID:10002146-1779278400-1779282000@pikespkblues.org
SUMMARY:Jazz 93.5 Community Blues Hour with BJ Estares
DESCRIPTION:
URL:https://pikespkblues.org/event/jazz-93-5-community-blues-hour-with-bj-estares/2026-05-20/
LOCATION:CO
END:VEVENT
BEGIN:VEVENT
DTSTART;TZID=America/Denver:20260521T120000
DTEND;TZID=America/Denver:20260521T130000
DTSTAMP:20260423T145111
CREATED:20240608T152048Z
LAST-MODIFIED:20250205T153915Z
UID:10002147-1779364800-1779368400@pikespkblues.org
SUMMARY:Jazz 93.5 Community Blues Hour with BJ Estares
DESCRIPTION:
URL:https://pikespkblues.org/event/jazz-93-5-community-blues-hour-with-bj-estares/2026-05-21/
LOCATION:CO
END:VEVENT
BEGIN:VEVENT
DTSTART;TZID=America/Denver:20260522T120000
DTEND;TZID=America/Denver:20260522T130000
DTSTAMP:20260423T145111
CREATED:20240608T152048Z
LAST-MODIFIED:20250205T153915Z
UID:10002148-1779451200-1779454800@pikespkblues.org
SUMMARY:Jazz 93.5 Community Blues Hour with BJ Estares
DESCRIPTION:
URL:https://pikespkblues.org/event/jazz-93-5-community-blues-hour-with-bj-estares/2026-05-22/
LOCATION:CO
END:VEVENT
BEGIN:VEVENT
DTSTART;TZID=America/Denver:20260522T170000
DTEND;TZID=America/Denver:20260522T210000
DTSTAMP:20260423T145111
CREATED:20260405T143914Z
LAST-MODIFIED:20260405T143914Z
UID:10005810-1779469200-1779483600@pikespkblues.org
SUMMARY:Stanley Milton’s MeanStreak   *** PPBC Member Band ***
DESCRIPTION:Stanley Milton’s MeanStreak @ Whitewater Bar and Grill\, Cañon City on Saturday\, May 22nd from 5:00 pm to 9:00 pm.
URL:https://pikespkblues.org/event/stanley-miltons-meanstreak-ppbc-member-band/
LOCATION:Whitewater Bar and Grill\, 45045 Hwy 50 West\, Cañon City\, CO\, 81212\, United States
CATEGORIES:Concerts
END:VEVENT
BEGIN:VEVENT
DTSTART;TZID=America/Denver:20260522T180000
DTEND;TZID=America/Denver:20260522T210000
DTSTAMP:20260423T145111
CREATED:20260301T185523Z
LAST-MODIFIED:20260301T185523Z
UID:10005777-1779472800-1779483600@pikespkblues.org
SUMMARY:Tab Benoit with special guest Ghalia Volt - Soul of the Swamp Tour
DESCRIPTION:Tab Benoit with special guest Ghalia Volt – Soul of the Swamp Tour @ Phil Long Music Hall at Bourbon Brothers\, 13071 Bass Pro Dr (80921) on Friday\, May 22nd at 6:00 pm.
URL:https://pikespkblues.org/event/tab-benoit-with-special-guest-ghalia-volt-soul-of-the-swamp-tour/
LOCATION:Phil Long Music Hall\, 13071 Bass Pro Drive\, Colorado Springs\, CO\, 80921\, United States
CATEGORIES:Concerts
END:VEVENT
BEGIN:VEVENT
DTSTART;TZID=America/Denver:20260522T190000
DTEND;TZID=America/Denver:20260522T220000
DTSTAMP:20260423T145111
CREATED:20260416T184630Z
LAST-MODIFIED:20260416T184630Z
UID:10005813-1779476400-1779487200@pikespkblues.org
SUMMARY:Kara Grainger and The Michael Hornbuckle Band
DESCRIPTION:Kara Grainger and The Michael Hornbuckle Band @ Buffalo Rose\, 1119 Washington Ave\, Golden on Friday\, May 22nd at 7:00 pm.
URL:https://pikespkblues.org/event/kara-grainger-and-the-michael-hornbuckle-band/
LOCATION:Buffalo Rose\, 1119 Washington Ave\, Golden\, CO\, 80401
CATEGORIES:Concerts
END:VEVENT
BEGIN:VEVENT
DTSTART;TZID=America/Denver:20260523T180000
DTEND;TZID=America/Denver:20260523T210000
DTSTAMP:20260423T145111
CREATED:20260415T203654Z
LAST-MODIFIED:20260415T203654Z
UID:10005812-1779559200-1779570000@pikespkblues.org
SUMMARY:Bubbles & Blues featuring Brazilian blues band Prado Brothers featuring Igor Prado\, Omar Coleman and John Brown\, plus PPBC Member Band Al Chesis' Delta Sonics
DESCRIPTION:Bubbles & Blues featuring Brazilian blues band Prado Brothers\, featuring guitarist Igor Prado\, West Side Chicago vocalist and harpist Omar Coleman\, and John Brown. Al Chesis’ Delta Sonics will open the show @ Carboy Winery at Mt. Garfield Estates Vineyard & Tasting\, 3572 G Rd\, Palisade on Saturday\, May 23rd from 6:00 pm to 9:00 pm. Doors open at 5:00 pm.
URL:https://pikespkblues.org/event/bubbles-blues-featuring-brazilian-blues-band-prado-brothers-featuring-igor-prado-omar-coleman-and-john-brown-plus-ppbc-member-band-al-chesis-delta-sonics/
LOCATION:Carboy Winery at Mt. Garfield Estates Vineyard & Tasting\, 3572 G Rd\, Palisade\, CO\, 81526\, United States
CATEGORIES:Concerts
END:VEVENT
BEGIN:VEVENT
DTSTART;TZID=America/Denver:20260523T190000
DTEND;TZID=America/Denver:20260523T220000
DTSTAMP:20260423T145111
CREATED:20260416T184921Z
LAST-MODIFIED:20260416T184921Z
UID:10005814-1779562800-1779573600@pikespkblues.org
SUMMARY:Ana Popovic with special guest Austin Young Band
DESCRIPTION:Ana Popovic with special guest Austin Young Band @ Buffalo Rose\, 1119 Washington Ave\, Golden on Saturday\, May 23rd at 7:00 pm.
URL:https://pikespkblues.org/event/ana-popovic-with-special-guest-austin-young-band/
LOCATION:Buffalo Rose\, 1119 Washington Ave\, Golden\, CO\, 80401
CATEGORIES:Concerts
END:VEVENT
BEGIN:VEVENT
DTSTART;TZID=America/Denver:20260525T120000
DTEND;TZID=America/Denver:20260525T130000
DTSTAMP:20260423T145111
CREATED:20240608T152048Z
LAST-MODIFIED:20250205T153915Z
UID:10002149-1779710400-1779714000@pikespkblues.org
SUMMARY:Jazz 93.5 Community Blues Hour with BJ Estares
DESCRIPTION:
URL:https://pikespkblues.org/event/jazz-93-5-community-blues-hour-with-bj-estares/2026-05-25/
LOCATION:CO
END:VEVENT
BEGIN:VEVENT
DTSTART;TZID=America/Denver:20260526T120000
DTEND;TZID=America/Denver:20260526T130000
DTSTAMP:20260423T145111
CREATED:20240608T152048Z
LAST-MODIFIED:20250205T153915Z
UID:10002150-1779796800-1779800400@pikespkblues.org
SUMMARY:Jazz 93.5 Community Blues Hour with BJ Estares
DESCRIPTION:
URL:https://pikespkblues.org/event/jazz-93-5-community-blues-hour-with-bj-estares/2026-05-26/
LOCATION:CO
END:VEVENT
BEGIN:VEVENT
DTSTART;TZID=America/Denver:20260526T180000
DTEND;TZID=America/Denver:20260526T210000
DTSTAMP:20260423T145111
CREATED:20251004T004608Z
LAST-MODIFIED:20251004T182250Z
UID:10004813-1779818400-1779829200@pikespkblues.org
SUMMARY:Sweet T's Rude Blues Jam on Tuesdays at PEAK 31
DESCRIPTION:Sweet T’s Rude Blues Jam @ PEAK 31\, 2419 N Union Blvd (80909) on Tuesdays\, from 6:00 pm to 9:00 pm.
URL:https://pikespkblues.org/event/sweet-ts-rude-blues-jam-on-tuesdays-at-peak-31/2026-05-26/
LOCATION:PEAK 31\, 2419 N Union Blvd\, Colorado Springs\, CO\, 80909\, United States
CATEGORIES:Jams
END:VEVENT
BEGIN:VEVENT
DTSTART;TZID=America/Denver:20260527T120000
DTEND;TZID=America/Denver:20260527T130000
DTSTAMP:20260423T145111
CREATED:20240608T152048Z
LAST-MODIFIED:20250205T153915Z
UID:10002151-1779883200-1779886800@pikespkblues.org
SUMMARY:Jazz 93.5 Community Blues Hour with BJ Estares
DESCRIPTION:
URL:https://pikespkblues.org/event/jazz-93-5-community-blues-hour-with-bj-estares/2026-05-27/
LOCATION:CO
END:VEVENT
BEGIN:VEVENT
DTSTART;TZID=America/Denver:20260528T120000
DTEND;TZID=America/Denver:20260528T130000
DTSTAMP:20260423T145111
CREATED:20240608T152048Z
LAST-MODIFIED:20250205T153915Z
UID:10002152-1779969600-1779973200@pikespkblues.org
SUMMARY:Jazz 93.5 Community Blues Hour with BJ Estares
DESCRIPTION:
URL:https://pikespkblues.org/event/jazz-93-5-community-blues-hour-with-bj-estares/2026-05-28/
LOCATION:CO
END:VEVENT
BEGIN:VEVENT
DTSTART;TZID=America/Denver:20260529T120000
DTEND;TZID=America/Denver:20260529T130000
DTSTAMP:20260423T145111
CREATED:20240608T152048Z
LAST-MODIFIED:20250205T153915Z
UID:10002153-1780056000-1780059600@pikespkblues.org
SUMMARY:Jazz 93.5 Community Blues Hour with BJ Estares
DESCRIPTION:
URL:https://pikespkblues.org/event/jazz-93-5-community-blues-hour-with-bj-estares/2026-05-29/
LOCATION:CO
END:VEVENT
BEGIN:VEVENT
DTSTART;TZID=America/Denver:20260601T120000
DTEND;TZID=America/Denver:20260601T130000
DTSTAMP:20260423T145111
CREATED:20240608T152048Z
LAST-MODIFIED:20250205T153915Z
UID:10002154-1780315200-1780318800@pikespkblues.org
SUMMARY:Jazz 93.5 Community Blues Hour with BJ Estares
DESCRIPTION:
URL:https://pikespkblues.org/event/jazz-93-5-community-blues-hour-with-bj-estares/2026-06-01/
LOCATION:CO
END:VEVENT
BEGIN:VEVENT
DTSTART;TZID=America/Denver:20260602T120000
DTEND;TZID=America/Denver:20260602T130000
DTSTAMP:20260423T145111
CREATED:20240608T152048Z
LAST-MODIFIED:20250205T153915Z
UID:10002155-1780401600-1780405200@pikespkblues.org
SUMMARY:Jazz 93.5 Community Blues Hour with BJ Estares
DESCRIPTION:
URL:https://pikespkblues.org/event/jazz-93-5-community-blues-hour-with-bj-estares/2026-06-02/
LOCATION:CO
END:VEVENT
END:VCALENDAR