BEGIN:VCALENDAR
VERSION:2.0
PRODID:-//Pikes Peak Blues Community - ECPv6.15.20//NONSGML v1.0//EN
CALSCALE:GREGORIAN
METHOD:PUBLISH
X-WR-CALNAME:Pikes Peak Blues Community
X-ORIGINAL-URL:https://pikespkblues.org
X-WR-CALDESC:Events for Pikes Peak Blues Community
REFRESH-INTERVAL;VALUE=DURATION:PT1H
X-Robots-Tag:noindex
X-PUBLISHED-TTL:PT1H
BEGIN:VTIMEZONE
TZID:America/Denver
BEGIN:DAYLIGHT
TZOFFSETFROM:-0700
TZOFFSETTO:-0600
TZNAME:MDT
DTSTART:20240310T090000
END:DAYLIGHT
BEGIN:STANDARD
TZOFFSETFROM:-0600
TZOFFSETTO:-0700
TZNAME:MST
DTSTART:20241103T080000
END:STANDARD
BEGIN:DAYLIGHT
TZOFFSETFROM:-0700
TZOFFSETTO:-0600
TZNAME:MDT
DTSTART:20250309T090000
END:DAYLIGHT
BEGIN:STANDARD
TZOFFSETFROM:-0600
TZOFFSETTO:-0700
TZNAME:MST
DTSTART:20251102T080000
END:STANDARD
BEGIN:DAYLIGHT
TZOFFSETFROM:-0700
TZOFFSETTO:-0600
TZNAME:MDT
DTSTART:20260308T090000
END:DAYLIGHT
BEGIN:STANDARD
TZOFFSETFROM:-0600
TZOFFSETTO:-0700
TZNAME:MST
DTSTART:20261101T080000
END:STANDARD
END:VTIMEZONE
BEGIN:VEVENT
DTSTART;TZID=America/Denver:20250424T120000
DTEND;TZID=America/Denver:20250424T130000
DTSTAMP:20260425T042446
CREATED:20240608T152048Z
LAST-MODIFIED:20250205T153915Z
UID:10001867-1745496000-1745499600@pikespkblues.org
SUMMARY:Jazz 93.5 Community Blues Hour with BJ Estares
DESCRIPTION:
URL:https://pikespkblues.org/event/jazz-93-5-community-blues-hour-with-bj-estares/2025-04-24/
LOCATION:CO
END:VEVENT
BEGIN:VEVENT
DTSTART;TZID=America/Denver:20250424T190000
DTEND;TZID=America/Denver:20250424T220000
DTSTAMP:20260425T042446
CREATED:20250416T211250Z
LAST-MODIFIED:20250416T211250Z
UID:10004356-1745521200-1745532000@pikespkblues.org
SUMMARY:The Delta Sonics
DESCRIPTION:The Delta Sonics with Al Chesis @ Two Moons Music Hall\, Denver on Thursday\, April 24th at 7:00 pm
URL:https://pikespkblues.org/event/the-delta-sonics-8/
LOCATION:Two Moons Music Hall\, 2944 Larimer St\, Denver\, CO\, 80205\, United States
CATEGORIES:Concerts
END:VEVENT
BEGIN:VEVENT
DTSTART;TZID=America/Denver:20250425T120000
DTEND;TZID=America/Denver:20250425T130000
DTSTAMP:20260425T042446
CREATED:20240608T152048Z
LAST-MODIFIED:20250205T153915Z
UID:10001868-1745582400-1745586000@pikespkblues.org
SUMMARY:Jazz 93.5 Community Blues Hour with BJ Estares
DESCRIPTION:
URL:https://pikespkblues.org/event/jazz-93-5-community-blues-hour-with-bj-estares/2025-04-25/
LOCATION:CO
END:VEVENT
BEGIN:VEVENT
DTSTART;TZID=America/Denver:20250425T190000
DTEND;TZID=America/Denver:20250425T220000
DTSTAMP:20260425T042446
CREATED:20250416T211611Z
LAST-MODIFIED:20250416T211611Z
UID:10004357-1745607600-1745618400@pikespkblues.org
SUMMARY:The Delta Sonics and Rex Peoples
DESCRIPTION:The Delta Sonics with Al Chesis and Rex Peoples @ Roots Music Project\, Boulder on Friday\, April 25th at 7:00 pm
URL:https://pikespkblues.org/event/the-delta-sonics-and-rex-peoples/
LOCATION:Roots Music Project\, 4747 Pearl St Suite V3A\, Boulder\, CO\, 80301
CATEGORIES:Concerts
END:VEVENT
BEGIN:VEVENT
DTSTART;TZID=America/Denver:20250426T130000
DTEND;TZID=America/Denver:20250426T160000
DTSTAMP:20260425T042446
CREATED:20250402T204115Z
LAST-MODIFIED:20250402T223859Z
UID:10004328-1745672400-1745683200@pikespkblues.org
SUMMARY:The Randall Dubis Band
DESCRIPTION:The Randall Dubis Band @ The Crawfish Boil at Rockabillies Bar & Grill\, Arvada on Saturday\, April 26th at 1:00 pm
URL:https://pikespkblues.org/event/the-randall-dubis-band-2/
LOCATION:Rockabillies Bar & Grill\, 12363 W 64th Ave\, Arvada\, CO\, 80004\, United States
CATEGORIES:Concerts
END:VEVENT
BEGIN:VEVENT
DTSTART;TZID=America/Denver:20250426T183000
DTEND;TZID=America/Denver:20250426T210000
DTSTAMP:20260425T042446
CREATED:20250328T010730Z
LAST-MODIFIED:20250402T222250Z
UID:10004322-1745692200-1745701200@pikespkblues.org
SUMMARY:PPBC/Dizzy Charlie’s Joint Blues/Jazz concert with Heavy Devils and Hoodoo Honey
DESCRIPTION:Pikes Peak Blues Community/Dizzy Charlie’s Pop Up Jazz Joint Blues/Jazz concert with Heavy Devils and Hoodoo Honey @ Summa Taphouse\, 817 W Colorado Ave on Saturday\, April 26th at 6:30 pm.  Tickets ($10.00 each) can be purchased at the door or in advance at https://dizzycharlies.com/tickets/pblues-jazz-nite-1?.
URL:https://pikespkblues.org/event/ppbc-dizzy-charlies-joint-blues-jazz-concert-with-heavy-devils-and-hoodoo-honey/
LOCATION:Summa\, 817 W. Colorado Ave\, Colorado Springs\, CO\, 80905\, United States
CATEGORIES:Concerts
END:VEVENT
BEGIN:VEVENT
DTSTART;TZID=America/Denver:20250426T190000
DTEND;TZID=America/Denver:20250426T190000
DTSTAMP:20260425T042446
CREATED:20250307T150950Z
LAST-MODIFIED:20250402T224919Z
UID:10004307-1745694000-1745694000@pikespkblues.org
SUMMARY:Hurricane Dave and The Storm Chasers
DESCRIPTION:Hurricane Dave and The Storm Chasers @ Mother Muffs\, Old Colorado City\, on Saturday\, April 26th at 7:00 pm
URL:https://pikespkblues.org/event/hurricane-dave-and-the-storm-chasers-5/
LOCATION:Mother Muff’s Kitchen and Spirits\, 2432 W Colorado Ave\, Colorado Springs\, CO\, 80904
CATEGORIES:Concerts
END:VEVENT
BEGIN:VEVENT
DTSTART;TZID=America/Denver:20250426T190000
DTEND;TZID=America/Denver:20250426T220000
DTSTAMP:20260425T042446
CREATED:20250402T210406Z
LAST-MODIFIED:20250402T210406Z
UID:10004332-1745694000-1745704800@pikespkblues.org
SUMMARY:The Randall Dubis Band
DESCRIPTION:The Randall Dubis Band @ Horseshoe Black Hawk Casino\, Black Hawk on Saturday\, April 26th at 7:00 pm
URL:https://pikespkblues.org/event/the-randall-dubis-band-3/
LOCATION:Horseshoe Black Hawk Casino\, 401 Main St\, Black Hawk\, CO\, 80422\, United States
CATEGORIES:Concerts
END:VEVENT
BEGIN:VEVENT
DTSTART;TZID=America/Denver:20250426T193000
DTEND;TZID=America/Denver:20250426T220000
DTSTAMP:20260425T042446
CREATED:20250402T211628Z
LAST-MODIFIED:20250402T211628Z
UID:10004333-1745695800-1745704800@pikespkblues.org
SUMMARY:Deborah Stafford and the Night Stalkers
DESCRIPTION:Deborah Stafford and the Night Stalkers @ Full Cycle Cafe & Bar Supper Club\, Boulder on Friday\, April 26th at 7:30 pm
URL:https://pikespkblues.org/event/deborah-stafford-and-the-night-stalkers-2/
LOCATION:Full Cycle Cafe & Bar\, 2355 30th St\, Boulder\, 80301
CATEGORIES:Concerts
END:VEVENT
BEGIN:VEVENT
DTSTART;TZID=America/Denver:20250426T200000
DTEND;TZID=America/Denver:20250426T230000
DTSTAMP:20260425T042446
CREATED:20250416T211837Z
LAST-MODIFIED:20250416T211837Z
UID:10004358-1745697600-1745708400@pikespkblues.org
SUMMARY:The Delta Sonics
DESCRIPTION:The Delta Sonics with Al Chesis @ Lincoln’s Roadhouse\, Denver on Saturday\, April 26th at 8:00 pm
URL:https://pikespkblues.org/event/the-delta-sonics-9/
LOCATION:Lincoln’s Roadhouse\, 1201 S Pearl St\, Denver\, CO\, 80210\, United States
CATEGORIES:Concerts
END:VEVENT
BEGIN:VEVENT
DTSTART;TZID=America/Denver:20250428T120000
DTEND;TZID=America/Denver:20250428T130000
DTSTAMP:20260425T042446
CREATED:20240608T152048Z
LAST-MODIFIED:20250205T153915Z
UID:10001869-1745841600-1745845200@pikespkblues.org
SUMMARY:Jazz 93.5 Community Blues Hour with BJ Estares
DESCRIPTION:
URL:https://pikespkblues.org/event/jazz-93-5-community-blues-hour-with-bj-estares/2025-04-28/
LOCATION:CO
END:VEVENT
BEGIN:VEVENT
DTSTART;TZID=America/Denver:20250429T120000
DTEND;TZID=America/Denver:20250429T130000
DTSTAMP:20260425T042446
CREATED:20240608T152048Z
LAST-MODIFIED:20250205T153915Z
UID:10001870-1745928000-1745931600@pikespkblues.org
SUMMARY:Jazz 93.5 Community Blues Hour with BJ Estares
DESCRIPTION:
URL:https://pikespkblues.org/event/jazz-93-5-community-blues-hour-with-bj-estares/2025-04-29/
LOCATION:CO
END:VEVENT
BEGIN:VEVENT
DTSTART;TZID=America/Denver:20250430T120000
DTEND;TZID=America/Denver:20250430T130000
DTSTAMP:20260425T042446
CREATED:20240608T152048Z
LAST-MODIFIED:20250205T153915Z
UID:10001871-1746014400-1746018000@pikespkblues.org
SUMMARY:Jazz 93.5 Community Blues Hour with BJ Estares
DESCRIPTION:
URL:https://pikespkblues.org/event/jazz-93-5-community-blues-hour-with-bj-estares/2025-04-30/
LOCATION:CO
END:VEVENT
BEGIN:VEVENT
DTSTART;TZID=America/Denver:20250501T120000
DTEND;TZID=America/Denver:20250501T130000
DTSTAMP:20260425T042446
CREATED:20240608T152048Z
LAST-MODIFIED:20250205T153915Z
UID:10001872-1746100800-1746104400@pikespkblues.org
SUMMARY:Jazz 93.5 Community Blues Hour with BJ Estares
DESCRIPTION:
URL:https://pikespkblues.org/event/jazz-93-5-community-blues-hour-with-bj-estares/2025-05-01/
LOCATION:CO
END:VEVENT
BEGIN:VEVENT
DTSTART;TZID=America/Denver:20250501T170000
DTEND;TZID=America/Denver:20250501T200000
DTSTAMP:20260425T042446
CREATED:20250402T220929Z
LAST-MODIFIED:20250402T220930Z
UID:10004341-1746118800-1746129600@pikespkblues.org
SUMMARY:John Wise/Tribe
DESCRIPTION:John Wise/Tribe @ Rico’s Café and Wine Bar\, Colorado Springs on Thursday\, May 1st at 5:00 pm
URL:https://pikespkblues.org/event/john-wise-tribe-6/
LOCATION:Rico’s Cafe and Wine Bar\, 322 1/2\, N Tejon St\, Colorado Springs\, CO\, 80903\, United States
CATEGORIES:Concerts
END:VEVENT
BEGIN:VEVENT
DTSTART;TZID=America/Denver:20250502T120000
DTEND;TZID=America/Denver:20250502T130000
DTSTAMP:20260425T042446
CREATED:20240608T152048Z
LAST-MODIFIED:20250205T153915Z
UID:10001873-1746187200-1746190800@pikespkblues.org
SUMMARY:Jazz 93.5 Community Blues Hour with BJ Estares
DESCRIPTION:
URL:https://pikespkblues.org/event/jazz-93-5-community-blues-hour-with-bj-estares/2025-05-02/
LOCATION:CO
END:VEVENT
BEGIN:VEVENT
DTSTART;TZID=America/Denver:20250502T180000
DTEND;TZID=America/Denver:20250502T210000
DTSTAMP:20260425T042446
CREATED:20250402T221158Z
LAST-MODIFIED:20250402T221158Z
UID:10004342-1746208800-1746219600@pikespkblues.org
SUMMARY:The Cleveland Experiment
DESCRIPTION:The Cleveland Experiment @ Rico’s Café and Wine Bar\, Colorado Springs on Friday\, May 2nd at 6:00 pm
URL:https://pikespkblues.org/event/the-cleveland-experiment-9/
LOCATION:Rico’s Cafe and Wine Bar\, 322 1/2\, N Tejon St\, Colorado Springs\, CO\, 80903\, United States
CATEGORIES:Concerts
END:VEVENT
BEGIN:VEVENT
DTSTART;TZID=America/Denver:20250503T180000
DTEND;TZID=America/Denver:20250503T210000
DTSTAMP:20260425T042446
CREATED:20250402T221503Z
LAST-MODIFIED:20250402T221503Z
UID:10004343-1746295200-1746306000@pikespkblues.org
SUMMARY:Rafiel and The Roomshakers
DESCRIPTION:Rafiel and The Roomshakers @ Rico’s Café and Wine Bar\, Colorado Springs on Saturday\, May 3rd at 6:00 pm
URL:https://pikespkblues.org/event/rafiel-and-the-roomshakers/
LOCATION:Rico’s Cafe and Wine Bar\, 322 1/2\, N Tejon St\, Colorado Springs\, CO\, 80903\, United States
CATEGORIES:Concerts
END:VEVENT
BEGIN:VEVENT
DTSTART;TZID=America/Denver:20250505T120000
DTEND;TZID=America/Denver:20250505T130000
DTSTAMP:20260425T042446
CREATED:20240608T152048Z
LAST-MODIFIED:20250205T153915Z
UID:10001874-1746446400-1746450000@pikespkblues.org
SUMMARY:Jazz 93.5 Community Blues Hour with BJ Estares
DESCRIPTION:
URL:https://pikespkblues.org/event/jazz-93-5-community-blues-hour-with-bj-estares/2025-05-05/
LOCATION:CO
END:VEVENT
BEGIN:VEVENT
DTSTART;TZID=America/Denver:20250506T120000
DTEND;TZID=America/Denver:20250506T130000
DTSTAMP:20260425T042446
CREATED:20240608T152048Z
LAST-MODIFIED:20250205T153915Z
UID:10001875-1746532800-1746536400@pikespkblues.org
SUMMARY:Jazz 93.5 Community Blues Hour with BJ Estares
DESCRIPTION:
URL:https://pikespkblues.org/event/jazz-93-5-community-blues-hour-with-bj-estares/2025-05-06/
LOCATION:CO
END:VEVENT
BEGIN:VEVENT
DTSTART;TZID=America/Denver:20250507T120000
DTEND;TZID=America/Denver:20250507T130000
DTSTAMP:20260425T042446
CREATED:20240608T152048Z
LAST-MODIFIED:20250205T153915Z
UID:10001876-1746619200-1746622800@pikespkblues.org
SUMMARY:Jazz 93.5 Community Blues Hour with BJ Estares
DESCRIPTION:
URL:https://pikespkblues.org/event/jazz-93-5-community-blues-hour-with-bj-estares/2025-05-07/
LOCATION:CO
END:VEVENT
BEGIN:VEVENT
DTSTART;TZID=America/Denver:20250508T120000
DTEND;TZID=America/Denver:20250508T130000
DTSTAMP:20260425T042446
CREATED:20240608T152048Z
LAST-MODIFIED:20250205T153915Z
UID:10001877-1746705600-1746709200@pikespkblues.org
SUMMARY:Jazz 93.5 Community Blues Hour with BJ Estares
DESCRIPTION:
URL:https://pikespkblues.org/event/jazz-93-5-community-blues-hour-with-bj-estares/2025-05-08/
LOCATION:CO
END:VEVENT
BEGIN:VEVENT
DTSTART;TZID=America/Denver:20250509T120000
DTEND;TZID=America/Denver:20250509T130000
DTSTAMP:20260425T042446
CREATED:20240608T152048Z
LAST-MODIFIED:20250205T153915Z
UID:10001878-1746792000-1746795600@pikespkblues.org
SUMMARY:Jazz 93.5 Community Blues Hour with BJ Estares
DESCRIPTION:
URL:https://pikespkblues.org/event/jazz-93-5-community-blues-hour-with-bj-estares/2025-05-09/
LOCATION:CO
END:VEVENT
BEGIN:VEVENT
DTSTART;TZID=America/Denver:20250509T163000
DTEND;TZID=America/Denver:20250509T173000
DTSTAMP:20260425T042446
CREATED:20250501T185837Z
LAST-MODIFIED:20250501T185837Z
UID:10004363-1746808200-1746811800@pikespkblues.org
SUMMARY:Pikes Peak Blues Community’s Blues in the Schools Program Kickoff
DESCRIPTION:Pikes Peak Blues Community’s Blues in the Schools Program Kickoff @ Meadows Park Community Center\, 1943 South El Paso Ave\, Colorado Springs on Friday\, May 9th at 4:30 pm.
URL:https://pikespkblues.org/event/pikes-peak-blues-communitys-blues-in-the-schools-program-kickoff/
LOCATION:Meadows Park Community Center\, 1943 South El Paso Ave\, Colorado Springs\, CO\, 80905\, United States
CATEGORIES:Concerts
END:VEVENT
BEGIN:VEVENT
DTSTART;TZID=America/Denver:20250509T180000
DTEND;TZID=America/Denver:20250509T210000
DTSTAMP:20260425T042446
CREATED:20250416T210326Z
LAST-MODIFIED:20250416T210326Z
UID:10004354-1746813600-1746824400@pikespkblues.org
SUMMARY:The Delta Sonics
DESCRIPTION:The Delta Sonics with Al Chesis @ Bricks on Main\, Longmont on Friday\, May 9th at 6:00 pm
URL:https://pikespkblues.org/event/the-delta-sonics-6/
LOCATION:Bricks on Main Street\, 471 Main St\, Longmont\, CO\, 80501\, United States
CATEGORIES:Concerts
END:VEVENT
BEGIN:VEVENT
DTSTART;TZID=America/Denver:20250512T120000
DTEND;TZID=America/Denver:20250512T130000
DTSTAMP:20260425T042446
CREATED:20240608T152048Z
LAST-MODIFIED:20250205T153915Z
UID:10001879-1747051200-1747054800@pikespkblues.org
SUMMARY:Jazz 93.5 Community Blues Hour with BJ Estares
DESCRIPTION:
URL:https://pikespkblues.org/event/jazz-93-5-community-blues-hour-with-bj-estares/2025-05-12/
LOCATION:CO
END:VEVENT
BEGIN:VEVENT
DTSTART;TZID=America/Denver:20250513T120000
DTEND;TZID=America/Denver:20250513T130000
DTSTAMP:20260425T042446
CREATED:20240608T152048Z
LAST-MODIFIED:20250205T153915Z
UID:10001880-1747137600-1747141200@pikespkblues.org
SUMMARY:Jazz 93.5 Community Blues Hour with BJ Estares
DESCRIPTION:
URL:https://pikespkblues.org/event/jazz-93-5-community-blues-hour-with-bj-estares/2025-05-13/
LOCATION:CO
END:VEVENT
BEGIN:VEVENT
DTSTART;TZID=America/Denver:20250514T120000
DTEND;TZID=America/Denver:20250514T130000
DTSTAMP:20260425T042446
CREATED:20240608T152048Z
LAST-MODIFIED:20250205T153915Z
UID:10001881-1747224000-1747227600@pikespkblues.org
SUMMARY:Jazz 93.5 Community Blues Hour with BJ Estares
DESCRIPTION:
URL:https://pikespkblues.org/event/jazz-93-5-community-blues-hour-with-bj-estares/2025-05-14/
LOCATION:CO
END:VEVENT
BEGIN:VEVENT
DTSTART;TZID=America/Denver:20250514T193000
DTEND;TZID=America/Denver:20250514T220000
DTSTAMP:20260425T042446
CREATED:20250402T213737Z
LAST-MODIFIED:20250402T213737Z
UID:10004335-1747251000-1747260000@pikespkblues.org
SUMMARY:The Randall Dubis Band
DESCRIPTION:The Randall Dubis Band @ Nissi’s\, Lafayette\, CO on Wednesday\, May 14th at 7:30 pm
URL:https://pikespkblues.org/event/the-randall-dubis-band-4/
LOCATION:Nissi’s\, 1455 Coal Creek Dr Unit T\, Lafayette\, CO\, 80026
CATEGORIES:Concerts
END:VEVENT
BEGIN:VEVENT
DTSTART;TZID=America/Denver:20250515T120000
DTEND;TZID=America/Denver:20250515T130000
DTSTAMP:20260425T042446
CREATED:20240608T152048Z
LAST-MODIFIED:20250205T153915Z
UID:10001882-1747310400-1747314000@pikespkblues.org
SUMMARY:Jazz 93.5 Community Blues Hour with BJ Estares
DESCRIPTION:
URL:https://pikespkblues.org/event/jazz-93-5-community-blues-hour-with-bj-estares/2025-05-15/
LOCATION:CO
END:VEVENT
END:VCALENDAR