BEGIN:VCALENDAR
VERSION:2.0
PRODID:-//Pikes Peak Blues Community - ECPv6.15.20//NONSGML v1.0//EN
CALSCALE:GREGORIAN
METHOD:PUBLISH
X-WR-CALNAME:Pikes Peak Blues Community
X-ORIGINAL-URL:https://pikespkblues.org
X-WR-CALDESC:Events for Pikes Peak Blues Community
REFRESH-INTERVAL;VALUE=DURATION:PT1H
X-Robots-Tag:noindex
X-PUBLISHED-TTL:PT1H
BEGIN:VTIMEZONE
TZID:America/Denver
BEGIN:DAYLIGHT
TZOFFSETFROM:-0700
TZOFFSETTO:-0600
TZNAME:MDT
DTSTART:20240310T090000
END:DAYLIGHT
BEGIN:STANDARD
TZOFFSETFROM:-0600
TZOFFSETTO:-0700
TZNAME:MST
DTSTART:20241103T080000
END:STANDARD
BEGIN:DAYLIGHT
TZOFFSETFROM:-0700
TZOFFSETTO:-0600
TZNAME:MDT
DTSTART:20250309T090000
END:DAYLIGHT
BEGIN:STANDARD
TZOFFSETFROM:-0600
TZOFFSETTO:-0700
TZNAME:MST
DTSTART:20251102T080000
END:STANDARD
BEGIN:DAYLIGHT
TZOFFSETFROM:-0700
TZOFFSETTO:-0600
TZNAME:MDT
DTSTART:20260308T090000
END:DAYLIGHT
BEGIN:STANDARD
TZOFFSETFROM:-0600
TZOFFSETTO:-0700
TZNAME:MST
DTSTART:20261101T080000
END:STANDARD
END:VTIMEZONE
BEGIN:VEVENT
DTSTART;TZID=America/Denver:20251003T200000
DTEND;TZID=America/Denver:20251003T230000
DTSTAMP:20260425T173426
CREATED:20250827T210554Z
LAST-MODIFIED:20250827T210554Z
UID:10004487-1759521600-1759532400@pikespkblues.org
SUMMARY:Delta Sonics with Al Chesis *** PPBC Member Band ***
DESCRIPTION:Delta Sonics with Al Chesis *** PPBC Member Band *** @ Edgewater Inn\, Edgewater on Friday\, October 3rd at 8:00 pm
URL:https://pikespkblues.org/event/delta-sonics-with-al-chesis-ppbc-member-band-13/
LOCATION:Edgewater Inn\, 5302 W 25th Ave\, Edgewater\, CO\, 80214\, United States
CATEGORIES:Concerts
END:VEVENT
BEGIN:VEVENT
DTSTART;TZID=America/Denver:20251003T200000
DTEND;TZID=America/Denver:20251003T223000
DTSTAMP:20260425T173426
CREATED:20250916T135224Z
LAST-MODIFIED:20250916T135224Z
UID:10004503-1759521600-1759530600@pikespkblues.org
SUMMARY:Delta Sonics with Al Chesis  *** PPBC Member Band ***
DESCRIPTION:Delta Sonics with Al Chesis @ Edgewater Inn\, Edgewater on Friday\, October 3rd at 8:00 pm.
URL:https://pikespkblues.org/event/delta-sonics-with-al-chesis-ppbc-member-band-16/
LOCATION:Edgewater Inn\, 5302 W 25th Ave\, Edgewater\, CO\, 80214\, United States
CATEGORIES:Concerts
END:VEVENT
BEGIN:VEVENT
DTSTART;TZID=America/Denver:20251003T180000
DTEND;TZID=America/Denver:20251003T210000
DTSTAMP:20260425T173426
CREATED:20250817T203317Z
LAST-MODIFIED:20250909T144908Z
UID:10004462-1759514400-1759525200@pikespkblues.org
SUMMARY:The Cleveland Experiment with Tommy Saxman
DESCRIPTION:The Cleveland Experiment with PPBC member Tommy Saxman @ Rico’s Cafe and Wine Bar\, 322 1/2 N Tejon St\, Colorado Springs on Friday\, October 3rd at 6:00 pm.  No Cover
URL:https://pikespkblues.org/event/the-cleveland-experiment-12/
LOCATION:Rico’s Cafe and Wine Bar\, 322 1/2\, N Tejon St\, Colorado Springs\, CO\, 80903\, United States
CATEGORIES:Concerts
END:VEVENT
BEGIN:VEVENT
DTSTART;TZID=America/Denver:20251003T120000
DTEND;TZID=America/Denver:20251003T130000
DTSTAMP:20260425T173426
CREATED:20240608T152048Z
LAST-MODIFIED:20250205T153915Z
UID:10001983-1759492800-1759496400@pikespkblues.org
SUMMARY:Jazz 93.5 Community Blues Hour with BJ Estares
DESCRIPTION:
URL:https://pikespkblues.org/event/jazz-93-5-community-blues-hour-with-bj-estares/2025-10-03/
END:VEVENT
BEGIN:VEVENT
DTSTART;TZID=America/Denver:20251002T170000
DTEND;TZID=America/Denver:20251002T200000
DTSTAMP:20260425T173426
CREATED:20250817T201810Z
LAST-MODIFIED:20250817T212809Z
UID:10004461-1759424400-1759435200@pikespkblues.org
SUMMARY:John Wise/Tribe
DESCRIPTION:John Wise/Tribe @ Rico’s Cafe and Wine Bar\, 322 1/2 N Tejon St\, Colorado Springs on Thursday\, October 2nd at 5:00 pm – No Cover
URL:https://pikespkblues.org/event/john-wise-tribe-10/
LOCATION:Rico’s Cafe and Wine Bar\, 322 1/2\, N Tejon St\, Colorado Springs\, CO\, 80903\, United States
CATEGORIES:Concerts
END:VEVENT
BEGIN:VEVENT
DTSTART;TZID=America/Denver:20251002T120000
DTEND;TZID=America/Denver:20251002T130000
DTSTAMP:20260425T173426
CREATED:20240608T152048Z
LAST-MODIFIED:20250205T153915Z
UID:10001982-1759406400-1759410000@pikespkblues.org
SUMMARY:Jazz 93.5 Community Blues Hour with BJ Estares
DESCRIPTION:
URL:https://pikespkblues.org/event/jazz-93-5-community-blues-hour-with-bj-estares/2025-10-02/
END:VEVENT
BEGIN:VEVENT
DTSTART;TZID=America/Denver:20251001T120000
DTEND;TZID=America/Denver:20251001T130000
DTSTAMP:20260425T173426
CREATED:20240608T152048Z
LAST-MODIFIED:20250205T153915Z
UID:10001981-1759320000-1759323600@pikespkblues.org
SUMMARY:Jazz 93.5 Community Blues Hour with BJ Estares
DESCRIPTION:
URL:https://pikespkblues.org/event/jazz-93-5-community-blues-hour-with-bj-estares/2025-10-01/
END:VEVENT
BEGIN:VEVENT
DTSTART;TZID=America/Denver:20250930T173000
DTEND;TZID=America/Denver:20250930T193000
DTSTAMP:20260425T173426
CREATED:20250729T195317Z
LAST-MODIFIED:20250916T161055Z
UID:10004442-1759253400-1759260600@pikespkblues.org
SUMMARY:Delta Sonics with Al Chesis
DESCRIPTION:Delta Sonics *** PPBC Member Band *** with Al Chesis\, Bob Pellegrino\, and special guest Joe Sciallo – PPBC Paint The Town Blue free public concert in Bancroft Park\, Old Colorado City on Tuesday\, September 30th at 5:30 pm
URL:https://pikespkblues.org/event/the-delta-sonics-with-al-chesis-7/
LOCATION:Bancroft Park\, 2408 W Colorado Ave\, Colorado Springs\, 80904\, United States
CATEGORIES:Concerts
END:VEVENT
BEGIN:VEVENT
DTSTART;TZID=America/Denver:20250930T120000
DTEND;TZID=America/Denver:20250930T130000
DTSTAMP:20260425T173426
CREATED:20240608T152048Z
LAST-MODIFIED:20250205T153915Z
UID:10001980-1759233600-1759237200@pikespkblues.org
SUMMARY:Jazz 93.5 Community Blues Hour with BJ Estares
DESCRIPTION:
URL:https://pikespkblues.org/event/jazz-93-5-community-blues-hour-with-bj-estares/2025-09-30/
END:VEVENT
BEGIN:VEVENT
DTSTART;TZID=America/Denver:20250929T120000
DTEND;TZID=America/Denver:20250929T130000
DTSTAMP:20260425T173426
CREATED:20240608T152048Z
LAST-MODIFIED:20250205T153915Z
UID:10001979-1759147200-1759150800@pikespkblues.org
SUMMARY:Jazz 93.5 Community Blues Hour with BJ Estares
DESCRIPTION:
URL:https://pikespkblues.org/event/jazz-93-5-community-blues-hour-with-bj-estares/2025-09-29/
END:VEVENT
BEGIN:VEVENT
DTSTART;TZID=America/Denver:20250928T170000
DTEND;TZID=America/Denver:20250928T200000
DTSTAMP:20260425T173426
CREATED:20250709T173327Z
LAST-MODIFIED:20250709T173327Z
UID:10004417-1759078800-1759089600@pikespkblues.org
SUMMARY:Ruthie Foster with special guest Hazel Miller
DESCRIPTION:Ruthie Foster with special guest Hazel Miller @ The Buffalo Rose\, Golden on Sunday\, September 28th at 5:00 pm
URL:https://pikespkblues.org/event/ruthie-foster-with-special-guest-hazel-miller/
LOCATION:Buffalo Rose\, 1119 Washington Ave\, Golden\, CO\, 80401
CATEGORIES:Concerts
END:VEVENT
BEGIN:VEVENT
DTSTART;TZID=America/Denver:20250928T110000
DTEND;TZID=America/Denver:20250928T140000
DTSTAMP:20260425T173426
CREATED:20250909T142644Z
LAST-MODIFIED:20250909T142645Z
UID:10004499-1759057200-1759068000@pikespkblues.org
SUMMARY:Tommy Saxman *** PPBC Member ***
DESCRIPTION:Tommy Saxman @ The Grand View Restaurant at the Garden of the Gods Resort and Club\, 3320 Mesa Rd (80904) on Sunday\, September 28th at 11:00 am. Reservations are a MUST for tables (719) 329-6901. No reservations needed for spacious bar.
URL:https://pikespkblues.org/event/tommy-saxman-ppbc-member-3/
LOCATION:Grand View Restaurant in GOG Resort and Club\, 3320 Mesa Rd\, Colorado Springs\, CO\, 80904\, United States
CATEGORIES:Concerts
END:VEVENT
BEGIN:VEVENT
DTSTART;TZID=America/Denver:20250927T103000
DTEND;TZID=America/Denver:20250927T180000
DTSTAMP:20260425T173426
CREATED:20250416T214846Z
LAST-MODIFIED:20250724T202205Z
UID:10004359-1758969000-1758996000@pikespkblues.org
SUMMARY:5th Annual Blues on the Mesa 2025 with Ruthie Foster\, Mike Zito\, Eden Brent\, Jack Hadley Band\, and Grant Sabin
DESCRIPTION:5th Annual Blues on the Mesa 2025 @ Gold Hill Mesa\, Colorado Springs on Saturday\, September 27th\, featuring Ruthie Foster\, Mike Zito\, Eden Brent\, Jack Hadley Band\, and Grant Sabin. Doors open at 10:30 am with the music starting at 11:00 am to 6:00 pm
URL:https://pikespkblues.org/event/blues-on-the-mesa-2025/
LOCATION:Gold Hill Mesa Park\, 142 S. Raven Mine Dr\, Colorado Springs\, CO\, 80905\, United States
CATEGORIES:Concerts
END:VEVENT
BEGIN:VEVENT
DTSTART;TZID=America/Denver:20250926T200000
DTEND;TZID=America/Denver:20250926T230000
DTSTAMP:20260425T173426
CREATED:20250827T210008Z
LAST-MODIFIED:20250916T155122Z
UID:10004486-1758916800-1758927600@pikespkblues.org
SUMMARY:Delta Sonics with Al Chesis *** PPBC Member Band ***
DESCRIPTION:Delta Sonics with Al Chesis\, Bob Pellegrino\, and special guest Joe Sciallo  *** PPBC Member Band *** @ Lincoln’s Roadhouse\, Denver on Friday\, September 20th at 8:00 pm
URL:https://pikespkblues.org/event/delta-sonics-with-al-chesis-ppbc-member-band-12/
LOCATION:Lincoln’s Roadhouse\, 1201 S Pearl St\, Denver\, CO\, 80210\, United States
CATEGORIES:Concerts
END:VEVENT
BEGIN:VEVENT
DTSTART;TZID=America/Denver:20250926T183000
DTEND;TZID=America/Denver:20250926T213000
DTSTAMP:20260425T173426
CREATED:20250827T182836Z
LAST-MODIFIED:20250827T182836Z
UID:10004471-1758911400-1758922200@pikespkblues.org
SUMMARY:Joe Sciallo and The Deep End *** PPBC Band Member ***
DESCRIPTION:Joe Sciallo and The Deep End *** PPBC Band Member *** @ Summa Taphouse\, 817 W Colorado Ave (80904) on Friday\, September 26th at 6:30 pm
URL:https://pikespkblues.org/event/joe-sciallo-and-the-deep-end-ppbc-band-member/
LOCATION:Summa\, 817 W. Colorado Ave\, Colorado Springs\, CO\, 80905\, United States
CATEGORIES:Concerts
END:VEVENT
BEGIN:VEVENT
DTSTART;TZID=America/Denver:20250926T180000
DTEND;TZID=America/Denver:20250926T210000
DTSTAMP:20260425T173426
CREATED:20250909T142342Z
LAST-MODIFIED:20250909T142736Z
UID:10004498-1758909600-1758920400@pikespkblues.org
SUMMARY:Tommy Saxman  *** PPBC Member ***
DESCRIPTION:Tommy Saxman @ The Grand View Restaurant at the Garden of the Gods Resort and Club\, 3320 Mesa Rd (80904) on Friday\, September 26th at 6:00 pm. Reservations are a MUST for tables (719) 329-6901. No reservations needed for spacious bar.
URL:https://pikespkblues.org/event/tommy-saxman-ppbc-member-2/
LOCATION:Grand View Restaurant in GOG Resort and Club\, 3320 Mesa Rd\, Colorado Springs\, CO\, 80904\, United States
CATEGORIES:Concerts
END:VEVENT
BEGIN:VEVENT
DTSTART;TZID=America/Denver:20250926T120000
DTEND;TZID=America/Denver:20250926T130000
DTSTAMP:20260425T173426
CREATED:20240608T152048Z
LAST-MODIFIED:20250205T153915Z
UID:10001978-1758888000-1758891600@pikespkblues.org
SUMMARY:Jazz 93.5 Community Blues Hour with BJ Estares
DESCRIPTION:
URL:https://pikespkblues.org/event/jazz-93-5-community-blues-hour-with-bj-estares/2025-09-26/
END:VEVENT
BEGIN:VEVENT
DTSTART;TZID=America/Denver:20250925T120000
DTEND;TZID=America/Denver:20250925T130000
DTSTAMP:20260425T173426
CREATED:20240608T152048Z
LAST-MODIFIED:20250205T153915Z
UID:10001977-1758801600-1758805200@pikespkblues.org
SUMMARY:Jazz 93.5 Community Blues Hour with BJ Estares
DESCRIPTION:
URL:https://pikespkblues.org/event/jazz-93-5-community-blues-hour-with-bj-estares/2025-09-25/
END:VEVENT
BEGIN:VEVENT
DTSTART;TZID=America/Denver:20250924T120000
DTEND;TZID=America/Denver:20250924T130000
DTSTAMP:20260425T173426
CREATED:20240608T152048Z
LAST-MODIFIED:20250205T153915Z
UID:10001976-1758715200-1758718800@pikespkblues.org
SUMMARY:Jazz 93.5 Community Blues Hour with BJ Estares
DESCRIPTION:
URL:https://pikespkblues.org/event/jazz-93-5-community-blues-hour-with-bj-estares/2025-09-24/
END:VEVENT
BEGIN:VEVENT
DTSTART;TZID=America/Denver:20250923T173000
DTEND;TZID=America/Denver:20250923T193000
DTSTAMP:20260425T173426
CREATED:20250623T172109Z
LAST-MODIFIED:20250923T181643Z
UID:10004392-1758648600-1758655800@pikespkblues.org
SUMMARY:Jake Loggins Band *** CANCELLED ***
DESCRIPTION:  \nTONIGHT’S PAINT THE TOWN BLUE CONCERT WITH JAKE LOGGINS BAND HAS BEEN CANCELLED DUE TO WEATHER AND OTHER FACTORS.
URL:https://pikespkblues.org/event/jake-loggins-band-2/
LOCATION:Bancroft Park\, 2408 W Colorado Ave\, Colorado Springs\, 80904\, United States
CATEGORIES:Concerts
END:VEVENT
BEGIN:VEVENT
DTSTART;TZID=America/Denver:20250923T120000
DTEND;TZID=America/Denver:20250923T130000
DTSTAMP:20260425T173426
CREATED:20240608T152048Z
LAST-MODIFIED:20250205T153915Z
UID:10001975-1758628800-1758632400@pikespkblues.org
SUMMARY:Jazz 93.5 Community Blues Hour with BJ Estares
DESCRIPTION:
URL:https://pikespkblues.org/event/jazz-93-5-community-blues-hour-with-bj-estares/2025-09-23/
END:VEVENT
BEGIN:VEVENT
DTSTART;TZID=America/Denver:20250922T120000
DTEND;TZID=America/Denver:20250922T130000
DTSTAMP:20260425T173426
CREATED:20240608T152048Z
LAST-MODIFIED:20250205T153915Z
UID:10001974-1758542400-1758546000@pikespkblues.org
SUMMARY:Jazz 93.5 Community Blues Hour with BJ Estares
DESCRIPTION:
URL:https://pikespkblues.org/event/jazz-93-5-community-blues-hour-with-bj-estares/2025-09-22/
END:VEVENT
BEGIN:VEVENT
DTSTART;TZID=America/Denver:20250921T190000
DTEND;TZID=America/Denver:20250921T220000
DTSTAMP:20260425T173426
CREATED:20250602T164743Z
LAST-MODIFIED:20250602T164854Z
UID:10004378-1758481200-1758492000@pikespkblues.org
SUMMARY:Coco Montoya
DESCRIPTION:Coco Montoya @ Swallow Hill Music – Daniels Hall\, Denver on Sunday\, September 21st at 7:00 pm
URL:https://pikespkblues.org/event/coco-montoya-2/
LOCATION:Swallow Hill Music\, 71 E Yale Ave\, Denver\, CO\, 80210
CATEGORIES:Concerts
END:VEVENT
BEGIN:VEVENT
DTSTART;TZID=America/Denver:20250921T190000
DTEND;TZID=America/Denver:20250921T213000
DTSTAMP:20260425T173426
CREATED:20250826T023713Z
LAST-MODIFIED:20250826T023713Z
UID:10004470-1758481200-1758490200@pikespkblues.org
SUMMARY:Corky Siegel
DESCRIPTION:Corky Siegel @ Swallow Hill Music-Tuft Theatre\, Denver on Sunday\, September 21st at 7:00 pm
URL:https://pikespkblues.org/event/corky-siegel-3/
LOCATION:Swallow Hill Music\, 71 E Yale Ave\, Denver\, CO\, 80210
CATEGORIES:Concerts
END:VEVENT
BEGIN:VEVENT
DTSTART;TZID=America/Denver:20250921T180000
DTEND;TZID=America/Denver:20250921T220000
DTSTAMP:20260425T173426
CREATED:20250917T175933Z
LAST-MODIFIED:20250917T175933Z
UID:10004513-1758477600-1758492000@pikespkblues.org
SUMMARY:Billy Hoke's XTRAV XIX Super Pro Invite Jam
DESCRIPTION:Billy Hoke’s XTRAV XIX Super Pro Invite Jam @ Roots Music Project\, Boulder on Sunday\, September 21st from 6:00 pm to 10:00 pm.
URL:https://pikespkblues.org/event/billy-hokes-xtrav-xix-super-pro-invite-jam/
LOCATION:Roots Music Project\, 4747 Pearl St Suite V3A\, Boulder\, CO\, 80301
CATEGORIES:Concerts
END:VEVENT
BEGIN:VEVENT
DTSTART;TZID=America/Denver:20250921T100000
DTEND;TZID=America/Denver:20250921T120000
DTSTAMP:20260425T173426
CREATED:20250902T204135Z
LAST-MODIFIED:20250902T204135Z
UID:10004494-1758448800-1758456000@pikespkblues.org
SUMMARY:The Cleveland Experiment
DESCRIPTION:The Cleveland Experiment @ Coyote’s Coffee Den\, Penrose on Sunday\, September 21st at 10:00 am
URL:https://pikespkblues.org/event/the-cleveland-experiment-14/
LOCATION:Coyote’s Coffee Den\, 675 Hwy 115\, Penrose\, CO\, 81240
CATEGORIES:Concerts
END:VEVENT
BEGIN:VEVENT
DTSTART;TZID=America/Denver:20250920T180000
DTEND;TZID=America/Denver:20250920T210000
DTSTAMP:20260425T173426
CREATED:20250827T205759Z
LAST-MODIFIED:20250827T205759Z
UID:10004485-1758391200-1758402000@pikespkblues.org
SUMMARY:Delta Sonics with Al Chesis *** PPBC Member Band ***
DESCRIPTION:Delta Sonics with Al Chesis *** PPBC Member Band *** @ Clancy’s Irish Pub\, Wheat Ridge on Saturday\, September 20th at 6:00 pm
URL:https://pikespkblues.org/event/delta-sonics-with-al-chesis-ppbc-member-band-11/
LOCATION:Clancy’s Irish Pub\, 7000 W 38th Ave\, Wheat Ridge\, CO\, 80033\, United States
CATEGORIES:Concerts
END:VEVENT
BEGIN:VEVENT
DTSTART;TZID=America/Denver:20250920T120000
DTEND;TZID=America/Denver:20250920T143000
DTSTAMP:20260425T173426
CREATED:20250907T160829Z
LAST-MODIFIED:20250907T160829Z
UID:10004496-1758369600-1758378600@pikespkblues.org
SUMMARY:Kids' Matinee: Special Blend (Blues)
DESCRIPTION:Kids’ Matinee featuring Special Blend (Blues) @ Dazzle\, Denver on Saturday\, September 20th at noon.
URL:https://pikespkblues.org/event/kids-matinee-special-blend-blues/
LOCATION:Dazzle\, 1080 14th Street\, Denver\, CO\, 80202
CATEGORIES:Concerts
END:VEVENT
BEGIN:VEVENT
DTSTART;TZID=America/Denver:20250919T203000
DTEND;TZID=America/Denver:20250919T230000
DTSTAMP:20260425T173426
CREATED:20250917T170811Z
LAST-MODIFIED:20250917T170811Z
UID:10004512-1758313800-1758322800@pikespkblues.org
SUMMARY:Deborah Stafford & the Night Stalkers
DESCRIPTION:Deborah Stafford & the Night Stalkers @ Avogadro’s Number\, Fort Collins on Friday\, September 19th at 8:30 pm.  Free Beginning Blues Dance Lessons with Kevin Kim 7:30 pm – 8:30 pm.
URL:https://pikespkblues.org/event/deborah-stafford-the-night-stalkers/
LOCATION:Avogadro’s Number\, 605 S Mason St\, Fort Collins\, CO\, 80524\, United States
CATEGORIES:Concerts
END:VEVENT
BEGIN:VEVENT
DTSTART;TZID=America/Denver:20250919T190000
DTEND;TZID=America/Denver:20250919T220000
DTSTAMP:20260425T173426
CREATED:20250829T055026Z
LAST-MODIFIED:20250829T055026Z
UID:10004492-1758308400-1758319200@pikespkblues.org
SUMMARY:Hoodoo Honey   *** PPBC Member Band ***
DESCRIPTION:Hoodoo Honey *** PPBC Member Band *** @ The Crystola Roadhouse\, Woodland Park on Friday\, September 19th at 7:00 pm
URL:https://pikespkblues.org/event/hoodoo-honey-ppbc-member-band-3/
LOCATION:The Crystola Roadhouse\, 20918 US 40\, Woodland Park\, CO\, 80863\, United States
CATEGORIES:Concerts
END:VEVENT
END:VCALENDAR