BEGIN:VCALENDAR
VERSION:2.0
PRODID:-//Pikes Peak Blues Community - ECPv6.15.20//NONSGML v1.0//EN
CALSCALE:GREGORIAN
METHOD:PUBLISH
X-WR-CALNAME:Pikes Peak Blues Community
X-ORIGINAL-URL:https://pikespkblues.org
X-WR-CALDESC:Events for Pikes Peak Blues Community
REFRESH-INTERVAL;VALUE=DURATION:PT1H
X-Robots-Tag:noindex
X-PUBLISHED-TTL:PT1H
BEGIN:VTIMEZONE
TZID:America/Denver
BEGIN:DAYLIGHT
TZOFFSETFROM:-0700
TZOFFSETTO:-0600
TZNAME:MDT
DTSTART:20230312T090000
END:DAYLIGHT
BEGIN:STANDARD
TZOFFSETFROM:-0600
TZOFFSETTO:-0700
TZNAME:MST
DTSTART:20231105T080000
END:STANDARD
BEGIN:DAYLIGHT
TZOFFSETFROM:-0700
TZOFFSETTO:-0600
TZNAME:MDT
DTSTART:20240310T090000
END:DAYLIGHT
BEGIN:STANDARD
TZOFFSETFROM:-0600
TZOFFSETTO:-0700
TZNAME:MST
DTSTART:20241103T080000
END:STANDARD
BEGIN:DAYLIGHT
TZOFFSETFROM:-0700
TZOFFSETTO:-0600
TZNAME:MDT
DTSTART:20250309T090000
END:DAYLIGHT
BEGIN:STANDARD
TZOFFSETFROM:-0600
TZOFFSETTO:-0700
TZNAME:MST
DTSTART:20251102T080000
END:STANDARD
BEGIN:DAYLIGHT
TZOFFSETFROM:-0700
TZOFFSETTO:-0600
TZNAME:MDT
DTSTART:20260308T090000
END:DAYLIGHT
BEGIN:STANDARD
TZOFFSETFROM:-0600
TZOFFSETTO:-0700
TZNAME:MST
DTSTART:20261101T080000
END:STANDARD
END:VTIMEZONE
BEGIN:VEVENT
DTSTART;TZID=America/Denver:20250123T120000
DTEND;TZID=America/Denver:20250123T130000
DTSTAMP:20260425T095816
CREATED:20240608T152048Z
LAST-MODIFIED:20250205T153915Z
UID:10001802-1737633600-1737637200@pikespkblues.org
SUMMARY:Jazz 93.5 Community Blues Hour with BJ Estares
DESCRIPTION:
URL:https://pikespkblues.org/event/jazz-93-5-community-blues-hour-with-bj-estares/2025-01-23/
LOCATION:CO
END:VEVENT
BEGIN:VEVENT
DTSTART;TZID=America/Denver:20250122T120000
DTEND;TZID=America/Denver:20250122T130000
DTSTAMP:20260425T095816
CREATED:20240608T152048Z
LAST-MODIFIED:20250205T153915Z
UID:10001801-1737547200-1737550800@pikespkblues.org
SUMMARY:Jazz 93.5 Community Blues Hour with BJ Estares
DESCRIPTION:
URL:https://pikespkblues.org/event/jazz-93-5-community-blues-hour-with-bj-estares/2025-01-22/
LOCATION:CO
END:VEVENT
BEGIN:VEVENT
DTSTART;TZID=America/Denver:20250121T120000
DTEND;TZID=America/Denver:20250121T130000
DTSTAMP:20260425T095816
CREATED:20240608T152048Z
LAST-MODIFIED:20250205T153915Z
UID:10001800-1737460800-1737464400@pikespkblues.org
SUMMARY:Jazz 93.5 Community Blues Hour with BJ Estares
DESCRIPTION:
URL:https://pikespkblues.org/event/jazz-93-5-community-blues-hour-with-bj-estares/2025-01-21/
LOCATION:CO
END:VEVENT
BEGIN:VEVENT
DTSTART;TZID=America/Denver:20250120T120000
DTEND;TZID=America/Denver:20250120T130000
DTSTAMP:20260425T095816
CREATED:20240608T152048Z
LAST-MODIFIED:20250205T153915Z
UID:10001799-1737374400-1737378000@pikespkblues.org
SUMMARY:Jazz 93.5 Community Blues Hour with BJ Estares
DESCRIPTION:
URL:https://pikespkblues.org/event/jazz-93-5-community-blues-hour-with-bj-estares/2025-01-20/
LOCATION:CO
END:VEVENT
BEGIN:VEVENT
DTSTART;TZID=America/Denver:20250118T180000
DTEND;TZID=America/Denver:20250118T210000
DTSTAMP:20260425T095816
CREATED:20250102T000025Z
LAST-MODIFIED:20250102T000635Z
UID:10004109-1737223200-1737234000@pikespkblues.org
SUMMARY:Hoodoo Honey Trio
DESCRIPTION:Hoodoo Honey Trio @ Solution Tavern\, Colorado Springs on January 18th 6:00 pm
URL:https://pikespkblues.org/event/hoodoo-honey-trio-2/
LOCATION:Solution Tavern\, 3352 Templeton Gap Rd\, Colorado Springs\, CO\, 80907\, United States
CATEGORIES:Concerts
END:VEVENT
BEGIN:VEVENT
DTSTART;TZID=America/Denver:20250117T200000
DTEND;TZID=America/Denver:20250117T223000
DTSTAMP:20260425T095816
CREATED:20250109T165305Z
LAST-MODIFIED:20250109T165339Z
UID:10004115-1737144000-1737153000@pikespkblues.org
SUMMARY:The Delta Sonics
DESCRIPTION:The Delta Sonics with Al Chesis @ The Magic Rat in the Elizabeth Hotel\, Fort Collins January 17th 8:00 pm
URL:https://pikespkblues.org/event/the-delta-sonics-2/
LOCATION:The Magic Rat in the Elizabeth Hotel\, 111 Chestnut St\, Fort Collins\, CO\, 80524\, United States
CATEGORIES:Concerts
END:VEVENT
BEGIN:VEVENT
DTSTART;TZID=America/Denver:20250117T180000
DTEND;TZID=America/Denver:20250117T210000
DTSTAMP:20260425T095816
CREATED:20241230T182208Z
LAST-MODIFIED:20241230T182208Z
UID:10004105-1737136800-1737147600@pikespkblues.org
SUMMARY:Old School Cool
DESCRIPTION:Old School Cool @ PizzAmoré\, Colorado Springs on January 17th 6:00 pm
URL:https://pikespkblues.org/event/old-school-cool-6/
LOCATION:PizzAmoré\, 236 E Cheyenne Mountain Blvd\, Colorado Springs\, 80906\, United States
CATEGORIES:Concerts
END:VEVENT
BEGIN:VEVENT
DTSTART;TZID=America/Denver:20250117T120000
DTEND;TZID=America/Denver:20250117T130000
DTSTAMP:20260425T095816
CREATED:20240608T152048Z
LAST-MODIFIED:20250205T153915Z
UID:10001798-1737115200-1737118800@pikespkblues.org
SUMMARY:Jazz 93.5 Community Blues Hour with BJ Estares
DESCRIPTION:
URL:https://pikespkblues.org/event/jazz-93-5-community-blues-hour-with-bj-estares/2025-01-17/
LOCATION:CO
END:VEVENT
BEGIN:VEVENT
DTSTART;TZID=America/Denver:20250116T120000
DTEND;TZID=America/Denver:20250116T130000
DTSTAMP:20260425T095816
CREATED:20240608T152048Z
LAST-MODIFIED:20250205T153915Z
UID:10001797-1737028800-1737032400@pikespkblues.org
SUMMARY:Jazz 93.5 Community Blues Hour with BJ Estares
DESCRIPTION:
URL:https://pikespkblues.org/event/jazz-93-5-community-blues-hour-with-bj-estares/2025-01-16/
LOCATION:CO
END:VEVENT
BEGIN:VEVENT
DTSTART;TZID=America/Denver:20250115T120000
DTEND;TZID=America/Denver:20250115T130000
DTSTAMP:20260425T095816
CREATED:20240608T152048Z
LAST-MODIFIED:20250205T153915Z
UID:10001796-1736942400-1736946000@pikespkblues.org
SUMMARY:Jazz 93.5 Community Blues Hour with BJ Estares
DESCRIPTION:
URL:https://pikespkblues.org/event/jazz-93-5-community-blues-hour-with-bj-estares/2025-01-15/
LOCATION:CO
END:VEVENT
BEGIN:VEVENT
DTSTART;TZID=America/Denver:20250114T120000
DTEND;TZID=America/Denver:20250114T130000
DTSTAMP:20260425T095816
CREATED:20240608T152048Z
LAST-MODIFIED:20250205T153915Z
UID:10001795-1736856000-1736859600@pikespkblues.org
SUMMARY:Jazz 93.5 Community Blues Hour with BJ Estares
DESCRIPTION:
URL:https://pikespkblues.org/event/jazz-93-5-community-blues-hour-with-bj-estares/2025-01-14/
LOCATION:CO
END:VEVENT
BEGIN:VEVENT
DTSTART;TZID=America/Denver:20250113T120000
DTEND;TZID=America/Denver:20250113T130000
DTSTAMP:20260425T095816
CREATED:20240608T152048Z
LAST-MODIFIED:20250205T153915Z
UID:10001794-1736769600-1736773200@pikespkblues.org
SUMMARY:Jazz 93.5 Community Blues Hour with BJ Estares
DESCRIPTION:
URL:https://pikespkblues.org/event/jazz-93-5-community-blues-hour-with-bj-estares/2025-01-13/
LOCATION:CO
END:VEVENT
BEGIN:VEVENT
DTSTART;TZID=America/Denver:20250111T200000
DTEND;TZID=America/Denver:20250111T230000
DTSTAMP:20260425T095816
CREATED:20241230T175104Z
LAST-MODIFIED:20241230T175104Z
UID:10004101-1736625600-1736636400@pikespkblues.org
SUMMARY:Reckless and Blue
DESCRIPTION:Reckless and Blue @ Lincoln’s Roadhouse\, Denver on January 11th 8:00 pm
URL:https://pikespkblues.org/event/reckless-and-blue-2/
LOCATION:Lincoln’s Roadhouse\, 1201 S Pearl St\, Denver\, CO\, 80210\, United States
CATEGORIES:Concerts
END:VEVENT
BEGIN:VEVENT
DTSTART;TZID=America/Denver:20250111T180000
DTEND;TZID=America/Denver:20250111T213000
DTSTAMP:20260425T095816
CREATED:20241201T233205Z
LAST-MODIFIED:20241201T233205Z
UID:10004096-1736618400-1736631000@pikespkblues.org
SUMMARY:Pikes Peak Blues Community Blues Music Jam Fundraiser for the Austin Young family featuring Old School Cool\, Hoodoo Honey\, Austin Johnson Band\, and special guests
DESCRIPTION:Pikes Peak Blues Community Blues Music Jam Fundraiser for the Austin Young family featuring Old School Cool\, Hoodoo Honey\, Austin Johnson Band\, and special guests @ Whistle Pig Brewery 1/11 6:00 pm Tickets $10.00
URL:https://pikespkblues.org/event/pikes-peak-blues-community-blues-music-jam-fundraiser-for-the-austin-young-family-featuring-old-school-cool-hoodoo-honey-austin-johnson-band-and-special-guests/
LOCATION:Whistle Pig Brewery\, 2117 Templeton Gap Rd\, Suite 130 \, CO\, Colorado Springs\, CO\, 80907\, United States
CATEGORIES:Concerts
END:VEVENT
BEGIN:VEVENT
DTSTART;TZID=America/Denver:20250110T190000
DTEND;TZID=America/Denver:20250110T213000
DTSTAMP:20260425T095816
CREATED:20241230T224556Z
LAST-MODIFIED:20241230T224556Z
UID:10004107-1736535600-1736544600@pikespkblues.org
SUMMARY:Musketeer Gripweed with Erik Lunde
DESCRIPTION:Musketeer Gripweed with Erik Lunde @ The Coast\, Fort Collins on January 10th 7:00 pm
URL:https://pikespkblues.org/event/musketeer-gripweed-with-erik-lunde/
LOCATION:The Coast\, 254 Linden St\, Fort Collins\, CO\, 80524\, United States
CATEGORIES:Concerts
END:VEVENT
BEGIN:VEVENT
DTSTART;TZID=America/Denver:20250110T183000
DTEND;TZID=America/Denver:20250110T203000
DTSTAMP:20260425T095816
CREATED:20250101T235513Z
LAST-MODIFIED:20250101T235513Z
UID:10004108-1736533800-1736541000@pikespkblues.org
SUMMARY:Hoodoo Honey Trio
DESCRIPTION:Hoodoo Honey Trio @ Buffalo Lodge Bicycle Resort\, Colorado Springs on January 10th 6:30 pm
URL:https://pikespkblues.org/event/hoodoo-honey-trio/
LOCATION:Buffalo Lodge Bicycle Resort\, 2 El Paso Blvd\, Colorado Springs\, CO\, 80904\, United States
CATEGORIES:Concerts
END:VEVENT
BEGIN:VEVENT
DTSTART;TZID=America/Denver:20250110T120000
DTEND;TZID=America/Denver:20250110T130000
DTSTAMP:20260425T095816
CREATED:20240608T152048Z
LAST-MODIFIED:20250205T153915Z
UID:10001793-1736510400-1736514000@pikespkblues.org
SUMMARY:Jazz 93.5 Community Blues Hour with BJ Estares
DESCRIPTION:
URL:https://pikespkblues.org/event/jazz-93-5-community-blues-hour-with-bj-estares/2025-01-10/
LOCATION:CO
END:VEVENT
BEGIN:VEVENT
DTSTART;TZID=America/Denver:20250109T120000
DTEND;TZID=America/Denver:20250109T130000
DTSTAMP:20260425T095816
CREATED:20240608T152048Z
LAST-MODIFIED:20250205T153915Z
UID:10001792-1736424000-1736427600@pikespkblues.org
SUMMARY:Jazz 93.5 Community Blues Hour with BJ Estares
DESCRIPTION:
URL:https://pikespkblues.org/event/jazz-93-5-community-blues-hour-with-bj-estares/2025-01-09/
LOCATION:CO
END:VEVENT
BEGIN:VEVENT
DTSTART;TZID=America/Denver:20250108T120000
DTEND;TZID=America/Denver:20250108T130000
DTSTAMP:20260425T095816
CREATED:20240608T152048Z
LAST-MODIFIED:20250205T153915Z
UID:10001791-1736337600-1736341200@pikespkblues.org
SUMMARY:Jazz 93.5 Community Blues Hour with BJ Estares
DESCRIPTION:
URL:https://pikespkblues.org/event/jazz-93-5-community-blues-hour-with-bj-estares/2025-01-08/
LOCATION:CO
END:VEVENT
BEGIN:VEVENT
DTSTART;TZID=America/Denver:20250107T120000
DTEND;TZID=America/Denver:20250107T130000
DTSTAMP:20260425T095816
CREATED:20240608T152048Z
LAST-MODIFIED:20250205T153915Z
UID:10001790-1736251200-1736254800@pikespkblues.org
SUMMARY:Jazz 93.5 Community Blues Hour with BJ Estares
DESCRIPTION:
URL:https://pikespkblues.org/event/jazz-93-5-community-blues-hour-with-bj-estares/2025-01-07/
LOCATION:CO
END:VEVENT
BEGIN:VEVENT
DTSTART;TZID=America/Denver:20250106T120000
DTEND;TZID=America/Denver:20250106T130000
DTSTAMP:20260425T095816
CREATED:20240608T152048Z
LAST-MODIFIED:20250205T153915Z
UID:10001789-1736164800-1736168400@pikespkblues.org
SUMMARY:Jazz 93.5 Community Blues Hour with BJ Estares
DESCRIPTION:
URL:https://pikespkblues.org/event/jazz-93-5-community-blues-hour-with-bj-estares/2025-01-06/
LOCATION:CO
END:VEVENT
BEGIN:VEVENT
DTSTART;TZID=America/Denver:20250105T140000
DTEND;TZID=America/Denver:20250105T180000
DTSTAMP:20260425T095816
CREATED:20241201T232251Z
LAST-MODIFIED:20241230T222230Z
UID:10004095-1736085600-1736100000@pikespkblues.org
SUMMARY:"Making a Difference: A Hand Up for Austin Young & Family" Fundraiser featuring Jake Loggins Band\, Danielle Nicole & Brandon Miller\, A.J. Fullerton with Nic Clark\, and Special Guest Appearance by Hazel Miller
DESCRIPTION:“Making a Difference: A Hand Up for Austin Young & Family” Fundraiser featuring Jake Loggins Band\, Danielle Nicole & Brandon Miller\, A.J. Fullerton with Nic Clark\, and Special Guest Appearance by Hazel Miller @ Buffalo Rose\, Golden 2:00 pm (Doors open at 12:30 pm). Tickets at https://holdmyticket.com/event/441285.
URL:https://pikespkblues.org/event/making-a-difference-a-hand-up-for-austin-young-family-fundraiser-featuring-jake-loggins-band-danielle-nicole-brandon-miller-a-j-fullerton-with-nic-clark-and-special-guest-appearance-by-ha/
LOCATION:Buffalo Rose\, 1119 Washington Ave\, Golden\, CO\, 80401
CATEGORIES:Concerts
END:VEVENT
BEGIN:VEVENT
DTSTART;TZID=America/Denver:20250104T180000
DTEND;TZID=America/Denver:20250104T210000
DTSTAMP:20260425T095816
CREATED:20241230T180040Z
LAST-MODIFIED:20241230T180040Z
UID:10004104-1736013600-1736024400@pikespkblues.org
SUMMARY:Rafiel & the Roomshakers
DESCRIPTION:Rafiel & the Roomshakers @ Rico’s Cafe and Wine Bar\, Colorado Springs on January 4th 6:00 pm
URL:https://pikespkblues.org/event/rafiel-the-roomshakers-5/
LOCATION:Rico’s Cafe and Wine Bar\, 322 1/2\, N Tejon St\, Colorado Springs\, CO\, 80903\, United States
CATEGORIES:Concerts
END:VEVENT
BEGIN:VEVENT
DTSTART;TZID=America/Denver:20250103T180000
DTEND;TZID=America/Denver:20250103T210000
DTSTAMP:20260425T095816
CREATED:20241230T175736Z
LAST-MODIFIED:20241230T175829Z
UID:10004103-1735927200-1735938000@pikespkblues.org
SUMMARY:The Cleveland Experiment
DESCRIPTION:The Cleveland Experiment @ Rico’s Cafe and Wine Bar\, Colorado Springs on January 3rd 6:00 pm
URL:https://pikespkblues.org/event/the-cleveland-experiment-7/
LOCATION:Rico’s Cafe and Wine Bar\, 322 1/2\, N Tejon St\, Colorado Springs\, CO\, 80903\, United States
CATEGORIES:Concerts
END:VEVENT
BEGIN:VEVENT
DTSTART;TZID=America/Denver:20250103T120000
DTEND;TZID=America/Denver:20250103T130000
DTSTAMP:20260425T095816
CREATED:20240608T152048Z
LAST-MODIFIED:20250205T153915Z
UID:10001788-1735905600-1735909200@pikespkblues.org
SUMMARY:Jazz 93.5 Community Blues Hour with BJ Estares
DESCRIPTION:
URL:https://pikespkblues.org/event/jazz-93-5-community-blues-hour-with-bj-estares/2025-01-03/
LOCATION:CO
END:VEVENT
BEGIN:VEVENT
DTSTART;TZID=America/Denver:20250102T170000
DTEND;TZID=America/Denver:20250102T200000
DTSTAMP:20260425T095816
CREATED:20241230T175452Z
LAST-MODIFIED:20241230T180201Z
UID:10004102-1735837200-1735848000@pikespkblues.org
SUMMARY:John Wise/Tribe
DESCRIPTION:John Wise/Tribe @ Rico’s Cafe and Wine Bar\, Colorado Springs on January 2nd 5:00 pm
URL:https://pikespkblues.org/event/john-wise-tribe-4/
LOCATION:Rico’s Cafe and Wine Bar\, 322 1/2\, N Tejon St\, Colorado Springs\, CO\, 80903\, United States
CATEGORIES:Concerts
END:VEVENT
BEGIN:VEVENT
DTSTART;TZID=America/Denver:20250102T120000
DTEND;TZID=America/Denver:20250102T130000
DTSTAMP:20260425T095816
CREATED:20240608T152048Z
LAST-MODIFIED:20250205T153915Z
UID:10001787-1735819200-1735822800@pikespkblues.org
SUMMARY:Jazz 93.5 Community Blues Hour with BJ Estares
DESCRIPTION:
URL:https://pikespkblues.org/event/jazz-93-5-community-blues-hour-with-bj-estares/2025-01-02/
LOCATION:CO
END:VEVENT
BEGIN:VEVENT
DTSTART;TZID=America/Denver:20250101T120000
DTEND;TZID=America/Denver:20250101T130000
DTSTAMP:20260425T095816
CREATED:20240608T152048Z
LAST-MODIFIED:20250205T153915Z
UID:10001786-1735732800-1735736400@pikespkblues.org
SUMMARY:Jazz 93.5 Community Blues Hour with BJ Estares
DESCRIPTION:
URL:https://pikespkblues.org/event/jazz-93-5-community-blues-hour-with-bj-estares/2025-01-01/
LOCATION:CO
END:VEVENT
BEGIN:VEVENT
DTSTART;TZID=America/Denver:20241231T120000
DTEND;TZID=America/Denver:20241231T130000
DTSTAMP:20260425T095816
CREATED:20240608T152048Z
LAST-MODIFIED:20250205T153915Z
UID:10001785-1735646400-1735650000@pikespkblues.org
SUMMARY:Jazz 93.5 Community Blues Hour with BJ Estares
DESCRIPTION:
URL:https://pikespkblues.org/event/jazz-93-5-community-blues-hour-with-bj-estares/2024-12-31/
LOCATION:CO
END:VEVENT
BEGIN:VEVENT
DTSTART;TZID=America/Denver:20241230T120000
DTEND;TZID=America/Denver:20241230T130000
DTSTAMP:20260425T095816
CREATED:20240608T152048Z
LAST-MODIFIED:20250205T153915Z
UID:10001784-1735560000-1735563600@pikespkblues.org
SUMMARY:Jazz 93.5 Community Blues Hour with BJ Estares
DESCRIPTION:
URL:https://pikespkblues.org/event/jazz-93-5-community-blues-hour-with-bj-estares/2024-12-30/
LOCATION:CO
END:VEVENT
END:VCALENDAR