BEGIN:VCALENDAR
VERSION:2.0
PRODID:-//Pikes Peak Blues Community - ECPv6.15.20//NONSGML v1.0//EN
CALSCALE:GREGORIAN
METHOD:PUBLISH
X-WR-CALNAME:Pikes Peak Blues Community
X-ORIGINAL-URL:https://pikespkblues.org
X-WR-CALDESC:Events for Pikes Peak Blues Community
REFRESH-INTERVAL;VALUE=DURATION:PT1H
X-Robots-Tag:noindex
X-PUBLISHED-TTL:PT1H
BEGIN:VTIMEZONE
TZID:America/Denver
BEGIN:DAYLIGHT
TZOFFSETFROM:-0700
TZOFFSETTO:-0600
TZNAME:MDT
DTSTART:20260308T090000
END:DAYLIGHT
BEGIN:STANDARD
TZOFFSETFROM:-0600
TZOFFSETTO:-0700
TZNAME:MST
DTSTART:20261101T080000
END:STANDARD
BEGIN:DAYLIGHT
TZOFFSETFROM:-0700
TZOFFSETTO:-0600
TZNAME:MDT
DTSTART:20270314T090000
END:DAYLIGHT
BEGIN:STANDARD
TZOFFSETFROM:-0600
TZOFFSETTO:-0700
TZNAME:MST
DTSTART:20271107T080000
END:STANDARD
BEGIN:DAYLIGHT
TZOFFSETFROM:-0700
TZOFFSETTO:-0600
TZNAME:MDT
DTSTART:20280312T090000
END:DAYLIGHT
BEGIN:STANDARD
TZOFFSETFROM:-0600
TZOFFSETTO:-0700
TZNAME:MST
DTSTART:20281105T080000
END:STANDARD
END:VTIMEZONE
BEGIN:VEVENT
DTSTART;TZID=America/Denver:20270927T120000
DTEND;TZID=America/Denver:20270927T130000
DTSTAMP:20260425T190725
CREATED:20240608T152048Z
LAST-MODIFIED:20250205T153915Z
UID:10002499-1822046400-1822050000@pikespkblues.org
SUMMARY:Jazz 93.5 Community Blues Hour with BJ Estares
DESCRIPTION:
URL:https://pikespkblues.org/event/jazz-93-5-community-blues-hour-with-bj-estares/2027-09-27/
END:VEVENT
BEGIN:VEVENT
DTSTART;TZID=America/Denver:20270928T120000
DTEND;TZID=America/Denver:20270928T130000
DTSTAMP:20260425T190725
CREATED:20240608T152048Z
LAST-MODIFIED:20250205T153915Z
UID:10002500-1822132800-1822136400@pikespkblues.org
SUMMARY:Jazz 93.5 Community Blues Hour with BJ Estares
DESCRIPTION:
URL:https://pikespkblues.org/event/jazz-93-5-community-blues-hour-with-bj-estares/2027-09-28/
END:VEVENT
BEGIN:VEVENT
DTSTART;TZID=America/Denver:20270928T180000
DTEND;TZID=America/Denver:20270928T210000
DTSTAMP:20260425T190725
CREATED:20251004T004608Z
LAST-MODIFIED:20251004T182250Z
UID:10004883-1822154400-1822165200@pikespkblues.org
SUMMARY:Sweet T's Rude Blues Jam on Tuesdays at PEAK 31
DESCRIPTION:Sweet T’s Rude Blues Jam @ PEAK 31\, 2419 N Union Blvd (80909) on Tuesdays\, from 6:00 pm to 9:00 pm.
URL:https://pikespkblues.org/event/sweet-ts-rude-blues-jam-on-tuesdays-at-peak-31/2027-09-28/
LOCATION:PEAK 31\, 2419 N Union Blvd\, Colorado Springs\, CO\, 80909\, United States
CATEGORIES:Jams
END:VEVENT
BEGIN:VEVENT
DTSTART;TZID=America/Denver:20270929T120000
DTEND;TZID=America/Denver:20270929T130000
DTSTAMP:20260425T190725
CREATED:20240608T152048Z
LAST-MODIFIED:20250205T153915Z
UID:10002501-1822219200-1822222800@pikespkblues.org
SUMMARY:Jazz 93.5 Community Blues Hour with BJ Estares
DESCRIPTION:
URL:https://pikespkblues.org/event/jazz-93-5-community-blues-hour-with-bj-estares/2027-09-29/
END:VEVENT
BEGIN:VEVENT
DTSTART;TZID=America/Denver:20270930T120000
DTEND;TZID=America/Denver:20270930T130000
DTSTAMP:20260425T190725
CREATED:20240608T152048Z
LAST-MODIFIED:20250205T153915Z
UID:10002502-1822305600-1822309200@pikespkblues.org
SUMMARY:Jazz 93.5 Community Blues Hour with BJ Estares
DESCRIPTION:
URL:https://pikespkblues.org/event/jazz-93-5-community-blues-hour-with-bj-estares/2027-09-30/
END:VEVENT
BEGIN:VEVENT
DTSTART;TZID=America/Denver:20271001T120000
DTEND;TZID=America/Denver:20271001T130000
DTSTAMP:20260425T190725
CREATED:20240608T152048Z
LAST-MODIFIED:20250205T153915Z
UID:10002503-1822392000-1822395600@pikespkblues.org
SUMMARY:Jazz 93.5 Community Blues Hour with BJ Estares
DESCRIPTION:
URL:https://pikespkblues.org/event/jazz-93-5-community-blues-hour-with-bj-estares/2027-10-01/
END:VEVENT
BEGIN:VEVENT
DTSTART;TZID=America/Denver:20271004T120000
DTEND;TZID=America/Denver:20271004T130000
DTSTAMP:20260425T190725
CREATED:20240608T152048Z
LAST-MODIFIED:20250205T153915Z
UID:10002504-1822651200-1822654800@pikespkblues.org
SUMMARY:Jazz 93.5 Community Blues Hour with BJ Estares
DESCRIPTION:
URL:https://pikespkblues.org/event/jazz-93-5-community-blues-hour-with-bj-estares/2027-10-04/
END:VEVENT
BEGIN:VEVENT
DTSTART;TZID=America/Denver:20271005T120000
DTEND;TZID=America/Denver:20271005T130000
DTSTAMP:20260425T190725
CREATED:20240608T152048Z
LAST-MODIFIED:20250205T153915Z
UID:10002505-1822737600-1822741200@pikespkblues.org
SUMMARY:Jazz 93.5 Community Blues Hour with BJ Estares
DESCRIPTION:
URL:https://pikespkblues.org/event/jazz-93-5-community-blues-hour-with-bj-estares/2027-10-05/
END:VEVENT
BEGIN:VEVENT
DTSTART;TZID=America/Denver:20271005T180000
DTEND;TZID=America/Denver:20271005T210000
DTSTAMP:20260425T190725
CREATED:20251004T004608Z
LAST-MODIFIED:20251004T182250Z
UID:10004884-1822759200-1822770000@pikespkblues.org
SUMMARY:Sweet T's Rude Blues Jam on Tuesdays at PEAK 31
DESCRIPTION:Sweet T’s Rude Blues Jam @ PEAK 31\, 2419 N Union Blvd (80909) on Tuesdays\, from 6:00 pm to 9:00 pm.
URL:https://pikespkblues.org/event/sweet-ts-rude-blues-jam-on-tuesdays-at-peak-31/2027-10-05/
LOCATION:PEAK 31\, 2419 N Union Blvd\, Colorado Springs\, CO\, 80909\, United States
CATEGORIES:Jams
END:VEVENT
BEGIN:VEVENT
DTSTART;TZID=America/Denver:20271006T120000
DTEND;TZID=America/Denver:20271006T130000
DTSTAMP:20260425T190725
CREATED:20240608T152048Z
LAST-MODIFIED:20250205T153915Z
UID:10002506-1822824000-1822827600@pikespkblues.org
SUMMARY:Jazz 93.5 Community Blues Hour with BJ Estares
DESCRIPTION:
URL:https://pikespkblues.org/event/jazz-93-5-community-blues-hour-with-bj-estares/2027-10-06/
END:VEVENT
BEGIN:VEVENT
DTSTART;TZID=America/Denver:20271007T120000
DTEND;TZID=America/Denver:20271007T130000
DTSTAMP:20260425T190725
CREATED:20240608T152048Z
LAST-MODIFIED:20250205T153915Z
UID:10002507-1822910400-1822914000@pikespkblues.org
SUMMARY:Jazz 93.5 Community Blues Hour with BJ Estares
DESCRIPTION:
URL:https://pikespkblues.org/event/jazz-93-5-community-blues-hour-with-bj-estares/2027-10-07/
END:VEVENT
BEGIN:VEVENT
DTSTART;TZID=America/Denver:20271007T200000
DTEND;TZID=America/Denver:20271007T230000
DTSTAMP:20260425T190725
CREATED:20260221T045616Z
LAST-MODIFIED:20260221T045617Z
UID:10005717-1822939200-1822950000@pikespkblues.org
SUMMARY:Blues Jam hosted by Randy Stephens & the Groove Makers
DESCRIPTION:Blues Jam hosted by Randy Stephens & the Groove Makers @ Kinfolks\, 950 Manitou Ave\, Manitou Springs on the first Thursday of  the month from 8:00 pm to 11:00 pm. Sign up start at 7:30 pm. Bring your own axe and jam with these award winning musicians. Keys\, drums\, and amps provided. Horn players welcome.
URL:https://pikespkblues.org/event/stormy-monday-blues-jam-hosted-by-randy-stephens-the-groove-makers-2-2/2027-10-07/
LOCATION:Kinsfolks\, 950 Manitou Ave\, Manitou Springs\, CO\, 80829
CATEGORIES:Jams
END:VEVENT
BEGIN:VEVENT
DTSTART;TZID=America/Denver:20271008T120000
DTEND;TZID=America/Denver:20271008T130000
DTSTAMP:20260425T190725
CREATED:20240608T152048Z
LAST-MODIFIED:20250205T153915Z
UID:10002508-1822996800-1823000400@pikespkblues.org
SUMMARY:Jazz 93.5 Community Blues Hour with BJ Estares
DESCRIPTION:
URL:https://pikespkblues.org/event/jazz-93-5-community-blues-hour-with-bj-estares/2027-10-08/
END:VEVENT
BEGIN:VEVENT
DTSTART;TZID=America/Denver:20271011T120000
DTEND;TZID=America/Denver:20271011T130000
DTSTAMP:20260425T190725
CREATED:20240608T152048Z
LAST-MODIFIED:20250205T153915Z
UID:10002509-1823256000-1823259600@pikespkblues.org
SUMMARY:Jazz 93.5 Community Blues Hour with BJ Estares
DESCRIPTION:
URL:https://pikespkblues.org/event/jazz-93-5-community-blues-hour-with-bj-estares/2027-10-11/
END:VEVENT
BEGIN:VEVENT
DTSTART;TZID=America/Denver:20271012T120000
DTEND;TZID=America/Denver:20271012T130000
DTSTAMP:20260425T190725
CREATED:20240608T152048Z
LAST-MODIFIED:20250205T153915Z
UID:10002510-1823342400-1823346000@pikespkblues.org
SUMMARY:Jazz 93.5 Community Blues Hour with BJ Estares
DESCRIPTION:
URL:https://pikespkblues.org/event/jazz-93-5-community-blues-hour-with-bj-estares/2027-10-12/
END:VEVENT
BEGIN:VEVENT
DTSTART;TZID=America/Denver:20271012T180000
DTEND;TZID=America/Denver:20271012T210000
DTSTAMP:20260425T190725
CREATED:20251004T004608Z
LAST-MODIFIED:20251004T182250Z
UID:10004885-1823364000-1823374800@pikespkblues.org
SUMMARY:Sweet T's Rude Blues Jam on Tuesdays at PEAK 31
DESCRIPTION:Sweet T’s Rude Blues Jam @ PEAK 31\, 2419 N Union Blvd (80909) on Tuesdays\, from 6:00 pm to 9:00 pm.
URL:https://pikespkblues.org/event/sweet-ts-rude-blues-jam-on-tuesdays-at-peak-31/2027-10-12/
LOCATION:PEAK 31\, 2419 N Union Blvd\, Colorado Springs\, CO\, 80909\, United States
CATEGORIES:Jams
END:VEVENT
BEGIN:VEVENT
DTSTART;TZID=America/Denver:20271013T120000
DTEND;TZID=America/Denver:20271013T130000
DTSTAMP:20260425T190725
CREATED:20240608T152048Z
LAST-MODIFIED:20250205T153915Z
UID:10002511-1823428800-1823432400@pikespkblues.org
SUMMARY:Jazz 93.5 Community Blues Hour with BJ Estares
DESCRIPTION:
URL:https://pikespkblues.org/event/jazz-93-5-community-blues-hour-with-bj-estares/2027-10-13/
END:VEVENT
BEGIN:VEVENT
DTSTART;TZID=America/Denver:20271014T120000
DTEND;TZID=America/Denver:20271014T130000
DTSTAMP:20260425T190725
CREATED:20240608T152048Z
LAST-MODIFIED:20250205T153915Z
UID:10002512-1823515200-1823518800@pikespkblues.org
SUMMARY:Jazz 93.5 Community Blues Hour with BJ Estares
DESCRIPTION:
URL:https://pikespkblues.org/event/jazz-93-5-community-blues-hour-with-bj-estares/2027-10-14/
END:VEVENT
BEGIN:VEVENT
DTSTART;TZID=America/Denver:20271015T120000
DTEND;TZID=America/Denver:20271015T130000
DTSTAMP:20260425T190725
CREATED:20240608T152048Z
LAST-MODIFIED:20250205T153915Z
UID:10002513-1823601600-1823605200@pikespkblues.org
SUMMARY:Jazz 93.5 Community Blues Hour with BJ Estares
DESCRIPTION:
URL:https://pikespkblues.org/event/jazz-93-5-community-blues-hour-with-bj-estares/2027-10-15/
END:VEVENT
BEGIN:VEVENT
DTSTART;TZID=America/Denver:20271018T120000
DTEND;TZID=America/Denver:20271018T130000
DTSTAMP:20260425T190725
CREATED:20240608T152048Z
LAST-MODIFIED:20250205T153915Z
UID:10002514-1823860800-1823864400@pikespkblues.org
SUMMARY:Jazz 93.5 Community Blues Hour with BJ Estares
DESCRIPTION:
URL:https://pikespkblues.org/event/jazz-93-5-community-blues-hour-with-bj-estares/2027-10-18/
END:VEVENT
BEGIN:VEVENT
DTSTART;TZID=America/Denver:20271019T120000
DTEND;TZID=America/Denver:20271019T130000
DTSTAMP:20260425T190725
CREATED:20240608T152048Z
LAST-MODIFIED:20250205T153915Z
UID:10002515-1823947200-1823950800@pikespkblues.org
SUMMARY:Jazz 93.5 Community Blues Hour with BJ Estares
DESCRIPTION:
URL:https://pikespkblues.org/event/jazz-93-5-community-blues-hour-with-bj-estares/2027-10-19/
END:VEVENT
BEGIN:VEVENT
DTSTART;TZID=America/Denver:20271019T180000
DTEND;TZID=America/Denver:20271019T210000
DTSTAMP:20260425T190725
CREATED:20251004T004608Z
LAST-MODIFIED:20251004T182250Z
UID:10004886-1823968800-1823979600@pikespkblues.org
SUMMARY:Sweet T's Rude Blues Jam on Tuesdays at PEAK 31
DESCRIPTION:Sweet T’s Rude Blues Jam @ PEAK 31\, 2419 N Union Blvd (80909) on Tuesdays\, from 6:00 pm to 9:00 pm.
URL:https://pikespkblues.org/event/sweet-ts-rude-blues-jam-on-tuesdays-at-peak-31/2027-10-19/
LOCATION:PEAK 31\, 2419 N Union Blvd\, Colorado Springs\, CO\, 80909\, United States
CATEGORIES:Jams
END:VEVENT
BEGIN:VEVENT
DTSTART;TZID=America/Denver:20271020T120000
DTEND;TZID=America/Denver:20271020T130000
DTSTAMP:20260425T190725
CREATED:20240608T152048Z
LAST-MODIFIED:20250205T153915Z
UID:10002516-1824033600-1824037200@pikespkblues.org
SUMMARY:Jazz 93.5 Community Blues Hour with BJ Estares
DESCRIPTION:
URL:https://pikespkblues.org/event/jazz-93-5-community-blues-hour-with-bj-estares/2027-10-20/
END:VEVENT
BEGIN:VEVENT
DTSTART;TZID=America/Denver:20271021T120000
DTEND;TZID=America/Denver:20271021T130000
DTSTAMP:20260425T190725
CREATED:20240608T152048Z
LAST-MODIFIED:20250205T153915Z
UID:10002517-1824120000-1824123600@pikespkblues.org
SUMMARY:Jazz 93.5 Community Blues Hour with BJ Estares
DESCRIPTION:
URL:https://pikespkblues.org/event/jazz-93-5-community-blues-hour-with-bj-estares/2027-10-21/
END:VEVENT
BEGIN:VEVENT
DTSTART;TZID=America/Denver:20271022T120000
DTEND;TZID=America/Denver:20271022T130000
DTSTAMP:20260425T190725
CREATED:20240608T152048Z
LAST-MODIFIED:20250205T153915Z
UID:10002518-1824206400-1824210000@pikespkblues.org
SUMMARY:Jazz 93.5 Community Blues Hour with BJ Estares
DESCRIPTION:
URL:https://pikespkblues.org/event/jazz-93-5-community-blues-hour-with-bj-estares/2027-10-22/
END:VEVENT
BEGIN:VEVENT
DTSTART;TZID=America/Denver:20271025T120000
DTEND;TZID=America/Denver:20271025T130000
DTSTAMP:20260425T190725
CREATED:20240608T152048Z
LAST-MODIFIED:20250205T153915Z
UID:10002519-1824465600-1824469200@pikespkblues.org
SUMMARY:Jazz 93.5 Community Blues Hour with BJ Estares
DESCRIPTION:
URL:https://pikespkblues.org/event/jazz-93-5-community-blues-hour-with-bj-estares/2027-10-25/
END:VEVENT
BEGIN:VEVENT
DTSTART;TZID=America/Denver:20271026T120000
DTEND;TZID=America/Denver:20271026T130000
DTSTAMP:20260425T190725
CREATED:20240608T152048Z
LAST-MODIFIED:20250205T153915Z
UID:10002520-1824552000-1824555600@pikespkblues.org
SUMMARY:Jazz 93.5 Community Blues Hour with BJ Estares
DESCRIPTION:
URL:https://pikespkblues.org/event/jazz-93-5-community-blues-hour-with-bj-estares/2027-10-26/
END:VEVENT
BEGIN:VEVENT
DTSTART;TZID=America/Denver:20271026T180000
DTEND;TZID=America/Denver:20271026T210000
DTSTAMP:20260425T190725
CREATED:20251004T004608Z
LAST-MODIFIED:20251004T182250Z
UID:10004887-1824573600-1824584400@pikespkblues.org
SUMMARY:Sweet T's Rude Blues Jam on Tuesdays at PEAK 31
DESCRIPTION:Sweet T’s Rude Blues Jam @ PEAK 31\, 2419 N Union Blvd (80909) on Tuesdays\, from 6:00 pm to 9:00 pm.
URL:https://pikespkblues.org/event/sweet-ts-rude-blues-jam-on-tuesdays-at-peak-31/2027-10-26/
LOCATION:PEAK 31\, 2419 N Union Blvd\, Colorado Springs\, CO\, 80909\, United States
CATEGORIES:Jams
END:VEVENT
BEGIN:VEVENT
DTSTART;TZID=America/Denver:20271027T120000
DTEND;TZID=America/Denver:20271027T130000
DTSTAMP:20260425T190725
CREATED:20240608T152048Z
LAST-MODIFIED:20250205T153915Z
UID:10002521-1824638400-1824642000@pikespkblues.org
SUMMARY:Jazz 93.5 Community Blues Hour with BJ Estares
DESCRIPTION:
URL:https://pikespkblues.org/event/jazz-93-5-community-blues-hour-with-bj-estares/2027-10-27/
END:VEVENT
BEGIN:VEVENT
DTSTART;TZID=America/Denver:20271028T120000
DTEND;TZID=America/Denver:20271028T130000
DTSTAMP:20260425T190725
CREATED:20240608T152048Z
LAST-MODIFIED:20250205T153915Z
UID:10002522-1824724800-1824728400@pikespkblues.org
SUMMARY:Jazz 93.5 Community Blues Hour with BJ Estares
DESCRIPTION:
URL:https://pikespkblues.org/event/jazz-93-5-community-blues-hour-with-bj-estares/2027-10-28/
END:VEVENT
END:VCALENDAR