BEGIN:VCALENDAR
VERSION:2.0
PRODID:-//Pikes Peak Blues Community - ECPv6.15.20//NONSGML v1.0//EN
CALSCALE:GREGORIAN
METHOD:PUBLISH
X-WR-CALNAME:Pikes Peak Blues Community
X-ORIGINAL-URL:https://pikespkblues.org
X-WR-CALDESC:Events for Pikes Peak Blues Community
REFRESH-INTERVAL;VALUE=DURATION:PT1H
X-Robots-Tag:noindex
X-PUBLISHED-TTL:PT1H
BEGIN:VTIMEZONE
TZID:America/Denver
BEGIN:DAYLIGHT
TZOFFSETFROM:-0700
TZOFFSETTO:-0600
TZNAME:MDT
DTSTART:20260308T090000
END:DAYLIGHT
BEGIN:STANDARD
TZOFFSETFROM:-0600
TZOFFSETTO:-0700
TZNAME:MST
DTSTART:20261101T080000
END:STANDARD
BEGIN:DAYLIGHT
TZOFFSETFROM:-0700
TZOFFSETTO:-0600
TZNAME:MDT
DTSTART:20270314T090000
END:DAYLIGHT
BEGIN:STANDARD
TZOFFSETFROM:-0600
TZOFFSETTO:-0700
TZNAME:MST
DTSTART:20271107T080000
END:STANDARD
BEGIN:DAYLIGHT
TZOFFSETFROM:-0700
TZOFFSETTO:-0600
TZNAME:MDT
DTSTART:20280312T090000
END:DAYLIGHT
BEGIN:STANDARD
TZOFFSETFROM:-0600
TZOFFSETTO:-0700
TZNAME:MST
DTSTART:20281105T080000
END:STANDARD
END:VTIMEZONE
BEGIN:VEVENT
DTSTART;TZID=America/Denver:20270906T120000
DTEND;TZID=America/Denver:20270906T130000
DTSTAMP:20260425T203835
CREATED:20240608T152048Z
LAST-MODIFIED:20250205T153915Z
UID:10002484-1820232000-1820235600@pikespkblues.org
SUMMARY:Jazz 93.5 Community Blues Hour with BJ Estares
DESCRIPTION:
URL:https://pikespkblues.org/event/jazz-93-5-community-blues-hour-with-bj-estares/2027-09-06/
END:VEVENT
BEGIN:VEVENT
DTSTART;TZID=America/Denver:20270907T120000
DTEND;TZID=America/Denver:20270907T130000
DTSTAMP:20260425T203835
CREATED:20240608T152048Z
LAST-MODIFIED:20250205T153915Z
UID:10002485-1820318400-1820322000@pikespkblues.org
SUMMARY:Jazz 93.5 Community Blues Hour with BJ Estares
DESCRIPTION:
URL:https://pikespkblues.org/event/jazz-93-5-community-blues-hour-with-bj-estares/2027-09-07/
END:VEVENT
BEGIN:VEVENT
DTSTART;TZID=America/Denver:20270907T180000
DTEND;TZID=America/Denver:20270907T210000
DTSTAMP:20260425T203835
CREATED:20251004T004608Z
LAST-MODIFIED:20251004T182250Z
UID:10004880-1820340000-1820350800@pikespkblues.org
SUMMARY:Sweet T's Rude Blues Jam on Tuesdays at PEAK 31
DESCRIPTION:Sweet T’s Rude Blues Jam @ PEAK 31\, 2419 N Union Blvd (80909) on Tuesdays\, from 6:00 pm to 9:00 pm.
URL:https://pikespkblues.org/event/sweet-ts-rude-blues-jam-on-tuesdays-at-peak-31/2027-09-07/
LOCATION:PEAK 31\, 2419 N Union Blvd\, Colorado Springs\, CO\, 80909\, United States
CATEGORIES:Jams
END:VEVENT
BEGIN:VEVENT
DTSTART;TZID=America/Denver:20270908T120000
DTEND;TZID=America/Denver:20270908T130000
DTSTAMP:20260425T203835
CREATED:20240608T152048Z
LAST-MODIFIED:20250205T153915Z
UID:10002486-1820404800-1820408400@pikespkblues.org
SUMMARY:Jazz 93.5 Community Blues Hour with BJ Estares
DESCRIPTION:
URL:https://pikespkblues.org/event/jazz-93-5-community-blues-hour-with-bj-estares/2027-09-08/
END:VEVENT
BEGIN:VEVENT
DTSTART;TZID=America/Denver:20270909T120000
DTEND;TZID=America/Denver:20270909T130000
DTSTAMP:20260425T203835
CREATED:20240608T152048Z
LAST-MODIFIED:20250205T153915Z
UID:10002487-1820491200-1820494800@pikespkblues.org
SUMMARY:Jazz 93.5 Community Blues Hour with BJ Estares
DESCRIPTION:
URL:https://pikespkblues.org/event/jazz-93-5-community-blues-hour-with-bj-estares/2027-09-09/
END:VEVENT
BEGIN:VEVENT
DTSTART;TZID=America/Denver:20270910T120000
DTEND;TZID=America/Denver:20270910T130000
DTSTAMP:20260425T203835
CREATED:20240608T152048Z
LAST-MODIFIED:20250205T153915Z
UID:10002488-1820577600-1820581200@pikespkblues.org
SUMMARY:Jazz 93.5 Community Blues Hour with BJ Estares
DESCRIPTION:
URL:https://pikespkblues.org/event/jazz-93-5-community-blues-hour-with-bj-estares/2027-09-10/
END:VEVENT
BEGIN:VEVENT
DTSTART;TZID=America/Denver:20270913T120000
DTEND;TZID=America/Denver:20270913T130000
DTSTAMP:20260425T203835
CREATED:20240608T152048Z
LAST-MODIFIED:20250205T153915Z
UID:10002489-1820836800-1820840400@pikespkblues.org
SUMMARY:Jazz 93.5 Community Blues Hour with BJ Estares
DESCRIPTION:
URL:https://pikespkblues.org/event/jazz-93-5-community-blues-hour-with-bj-estares/2027-09-13/
END:VEVENT
BEGIN:VEVENT
DTSTART;TZID=America/Denver:20270914T120000
DTEND;TZID=America/Denver:20270914T130000
DTSTAMP:20260425T203835
CREATED:20240608T152048Z
LAST-MODIFIED:20250205T153915Z
UID:10002490-1820923200-1820926800@pikespkblues.org
SUMMARY:Jazz 93.5 Community Blues Hour with BJ Estares
DESCRIPTION:
URL:https://pikespkblues.org/event/jazz-93-5-community-blues-hour-with-bj-estares/2027-09-14/
END:VEVENT
BEGIN:VEVENT
DTSTART;TZID=America/Denver:20270914T180000
DTEND;TZID=America/Denver:20270914T210000
DTSTAMP:20260425T203835
CREATED:20251004T004608Z
LAST-MODIFIED:20251004T182250Z
UID:10004881-1820944800-1820955600@pikespkblues.org
SUMMARY:Sweet T's Rude Blues Jam on Tuesdays at PEAK 31
DESCRIPTION:Sweet T’s Rude Blues Jam @ PEAK 31\, 2419 N Union Blvd (80909) on Tuesdays\, from 6:00 pm to 9:00 pm.
URL:https://pikespkblues.org/event/sweet-ts-rude-blues-jam-on-tuesdays-at-peak-31/2027-09-14/
LOCATION:PEAK 31\, 2419 N Union Blvd\, Colorado Springs\, CO\, 80909\, United States
CATEGORIES:Jams
END:VEVENT
BEGIN:VEVENT
DTSTART;TZID=America/Denver:20270915T120000
DTEND;TZID=America/Denver:20270915T130000
DTSTAMP:20260425T203835
CREATED:20240608T152048Z
LAST-MODIFIED:20250205T153915Z
UID:10002491-1821009600-1821013200@pikespkblues.org
SUMMARY:Jazz 93.5 Community Blues Hour with BJ Estares
DESCRIPTION:
URL:https://pikespkblues.org/event/jazz-93-5-community-blues-hour-with-bj-estares/2027-09-15/
END:VEVENT
BEGIN:VEVENT
DTSTART;TZID=America/Denver:20270916T120000
DTEND;TZID=America/Denver:20270916T130000
DTSTAMP:20260425T203835
CREATED:20240608T152048Z
LAST-MODIFIED:20250205T153915Z
UID:10002492-1821096000-1821099600@pikespkblues.org
SUMMARY:Jazz 93.5 Community Blues Hour with BJ Estares
DESCRIPTION:
URL:https://pikespkblues.org/event/jazz-93-5-community-blues-hour-with-bj-estares/2027-09-16/
END:VEVENT
BEGIN:VEVENT
DTSTART;TZID=America/Denver:20270917T120000
DTEND;TZID=America/Denver:20270917T130000
DTSTAMP:20260425T203835
CREATED:20240608T152048Z
LAST-MODIFIED:20250205T153915Z
UID:10002493-1821182400-1821186000@pikespkblues.org
SUMMARY:Jazz 93.5 Community Blues Hour with BJ Estares
DESCRIPTION:
URL:https://pikespkblues.org/event/jazz-93-5-community-blues-hour-with-bj-estares/2027-09-17/
END:VEVENT
BEGIN:VEVENT
DTSTART;TZID=America/Denver:20270920T120000
DTEND;TZID=America/Denver:20270920T130000
DTSTAMP:20260425T203835
CREATED:20240608T152048Z
LAST-MODIFIED:20250205T153915Z
UID:10002494-1821441600-1821445200@pikespkblues.org
SUMMARY:Jazz 93.5 Community Blues Hour with BJ Estares
DESCRIPTION:
URL:https://pikespkblues.org/event/jazz-93-5-community-blues-hour-with-bj-estares/2027-09-20/
END:VEVENT
BEGIN:VEVENT
DTSTART;TZID=America/Denver:20270921T120000
DTEND;TZID=America/Denver:20270921T130000
DTSTAMP:20260425T203835
CREATED:20240608T152048Z
LAST-MODIFIED:20250205T153915Z
UID:10002495-1821528000-1821531600@pikespkblues.org
SUMMARY:Jazz 93.5 Community Blues Hour with BJ Estares
DESCRIPTION:
URL:https://pikespkblues.org/event/jazz-93-5-community-blues-hour-with-bj-estares/2027-09-21/
END:VEVENT
BEGIN:VEVENT
DTSTART;TZID=America/Denver:20270921T180000
DTEND;TZID=America/Denver:20270921T210000
DTSTAMP:20260425T203835
CREATED:20251004T004608Z
LAST-MODIFIED:20251004T182250Z
UID:10004882-1821549600-1821560400@pikespkblues.org
SUMMARY:Sweet T's Rude Blues Jam on Tuesdays at PEAK 31
DESCRIPTION:Sweet T’s Rude Blues Jam @ PEAK 31\, 2419 N Union Blvd (80909) on Tuesdays\, from 6:00 pm to 9:00 pm.
URL:https://pikespkblues.org/event/sweet-ts-rude-blues-jam-on-tuesdays-at-peak-31/2027-09-21/
LOCATION:PEAK 31\, 2419 N Union Blvd\, Colorado Springs\, CO\, 80909\, United States
CATEGORIES:Jams
END:VEVENT
BEGIN:VEVENT
DTSTART;TZID=America/Denver:20270922T120000
DTEND;TZID=America/Denver:20270922T130000
DTSTAMP:20260425T203835
CREATED:20240608T152048Z
LAST-MODIFIED:20250205T153915Z
UID:10002496-1821614400-1821618000@pikespkblues.org
SUMMARY:Jazz 93.5 Community Blues Hour with BJ Estares
DESCRIPTION:
URL:https://pikespkblues.org/event/jazz-93-5-community-blues-hour-with-bj-estares/2027-09-22/
END:VEVENT
BEGIN:VEVENT
DTSTART;TZID=America/Denver:20270923T120000
DTEND;TZID=America/Denver:20270923T130000
DTSTAMP:20260425T203835
CREATED:20240608T152048Z
LAST-MODIFIED:20250205T153915Z
UID:10002497-1821700800-1821704400@pikespkblues.org
SUMMARY:Jazz 93.5 Community Blues Hour with BJ Estares
DESCRIPTION:
URL:https://pikespkblues.org/event/jazz-93-5-community-blues-hour-with-bj-estares/2027-09-23/
END:VEVENT
BEGIN:VEVENT
DTSTART;TZID=America/Denver:20270924T120000
DTEND;TZID=America/Denver:20270924T130000
DTSTAMP:20260425T203835
CREATED:20240608T152048Z
LAST-MODIFIED:20250205T153915Z
UID:10002498-1821787200-1821790800@pikespkblues.org
SUMMARY:Jazz 93.5 Community Blues Hour with BJ Estares
DESCRIPTION:
URL:https://pikespkblues.org/event/jazz-93-5-community-blues-hour-with-bj-estares/2027-09-24/
END:VEVENT
BEGIN:VEVENT
DTSTART;TZID=America/Denver:20270927T120000
DTEND;TZID=America/Denver:20270927T130000
DTSTAMP:20260425T203835
CREATED:20240608T152048Z
LAST-MODIFIED:20250205T153915Z
UID:10002499-1822046400-1822050000@pikespkblues.org
SUMMARY:Jazz 93.5 Community Blues Hour with BJ Estares
DESCRIPTION:
URL:https://pikespkblues.org/event/jazz-93-5-community-blues-hour-with-bj-estares/2027-09-27/
END:VEVENT
BEGIN:VEVENT
DTSTART;TZID=America/Denver:20270928T120000
DTEND;TZID=America/Denver:20270928T130000
DTSTAMP:20260425T203835
CREATED:20240608T152048Z
LAST-MODIFIED:20250205T153915Z
UID:10002500-1822132800-1822136400@pikespkblues.org
SUMMARY:Jazz 93.5 Community Blues Hour with BJ Estares
DESCRIPTION:
URL:https://pikespkblues.org/event/jazz-93-5-community-blues-hour-with-bj-estares/2027-09-28/
END:VEVENT
BEGIN:VEVENT
DTSTART;TZID=America/Denver:20270928T180000
DTEND;TZID=America/Denver:20270928T210000
DTSTAMP:20260425T203835
CREATED:20251004T004608Z
LAST-MODIFIED:20251004T182250Z
UID:10004883-1822154400-1822165200@pikespkblues.org
SUMMARY:Sweet T's Rude Blues Jam on Tuesdays at PEAK 31
DESCRIPTION:Sweet T’s Rude Blues Jam @ PEAK 31\, 2419 N Union Blvd (80909) on Tuesdays\, from 6:00 pm to 9:00 pm.
URL:https://pikespkblues.org/event/sweet-ts-rude-blues-jam-on-tuesdays-at-peak-31/2027-09-28/
LOCATION:PEAK 31\, 2419 N Union Blvd\, Colorado Springs\, CO\, 80909\, United States
CATEGORIES:Jams
END:VEVENT
BEGIN:VEVENT
DTSTART;TZID=America/Denver:20270929T120000
DTEND;TZID=America/Denver:20270929T130000
DTSTAMP:20260425T203835
CREATED:20240608T152048Z
LAST-MODIFIED:20250205T153915Z
UID:10002501-1822219200-1822222800@pikespkblues.org
SUMMARY:Jazz 93.5 Community Blues Hour with BJ Estares
DESCRIPTION:
URL:https://pikespkblues.org/event/jazz-93-5-community-blues-hour-with-bj-estares/2027-09-29/
END:VEVENT
BEGIN:VEVENT
DTSTART;TZID=America/Denver:20270930T120000
DTEND;TZID=America/Denver:20270930T130000
DTSTAMP:20260425T203835
CREATED:20240608T152048Z
LAST-MODIFIED:20250205T153915Z
UID:10002502-1822305600-1822309200@pikespkblues.org
SUMMARY:Jazz 93.5 Community Blues Hour with BJ Estares
DESCRIPTION:
URL:https://pikespkblues.org/event/jazz-93-5-community-blues-hour-with-bj-estares/2027-09-30/
END:VEVENT
BEGIN:VEVENT
DTSTART;TZID=America/Denver:20271001T120000
DTEND;TZID=America/Denver:20271001T130000
DTSTAMP:20260425T203835
CREATED:20240608T152048Z
LAST-MODIFIED:20250205T153915Z
UID:10002503-1822392000-1822395600@pikespkblues.org
SUMMARY:Jazz 93.5 Community Blues Hour with BJ Estares
DESCRIPTION:
URL:https://pikespkblues.org/event/jazz-93-5-community-blues-hour-with-bj-estares/2027-10-01/
END:VEVENT
BEGIN:VEVENT
DTSTART;TZID=America/Denver:20271004T120000
DTEND;TZID=America/Denver:20271004T130000
DTSTAMP:20260425T203835
CREATED:20240608T152048Z
LAST-MODIFIED:20250205T153915Z
UID:10002504-1822651200-1822654800@pikespkblues.org
SUMMARY:Jazz 93.5 Community Blues Hour with BJ Estares
DESCRIPTION:
URL:https://pikespkblues.org/event/jazz-93-5-community-blues-hour-with-bj-estares/2027-10-04/
END:VEVENT
BEGIN:VEVENT
DTSTART;TZID=America/Denver:20271005T120000
DTEND;TZID=America/Denver:20271005T130000
DTSTAMP:20260425T203835
CREATED:20240608T152048Z
LAST-MODIFIED:20250205T153915Z
UID:10002505-1822737600-1822741200@pikespkblues.org
SUMMARY:Jazz 93.5 Community Blues Hour with BJ Estares
DESCRIPTION:
URL:https://pikespkblues.org/event/jazz-93-5-community-blues-hour-with-bj-estares/2027-10-05/
END:VEVENT
BEGIN:VEVENT
DTSTART;TZID=America/Denver:20271005T180000
DTEND;TZID=America/Denver:20271005T210000
DTSTAMP:20260425T203835
CREATED:20251004T004608Z
LAST-MODIFIED:20251004T182250Z
UID:10004884-1822759200-1822770000@pikespkblues.org
SUMMARY:Sweet T's Rude Blues Jam on Tuesdays at PEAK 31
DESCRIPTION:Sweet T’s Rude Blues Jam @ PEAK 31\, 2419 N Union Blvd (80909) on Tuesdays\, from 6:00 pm to 9:00 pm.
URL:https://pikespkblues.org/event/sweet-ts-rude-blues-jam-on-tuesdays-at-peak-31/2027-10-05/
LOCATION:PEAK 31\, 2419 N Union Blvd\, Colorado Springs\, CO\, 80909\, United States
CATEGORIES:Jams
END:VEVENT
BEGIN:VEVENT
DTSTART;TZID=America/Denver:20271006T120000
DTEND;TZID=America/Denver:20271006T130000
DTSTAMP:20260425T203835
CREATED:20240608T152048Z
LAST-MODIFIED:20250205T153915Z
UID:10002506-1822824000-1822827600@pikespkblues.org
SUMMARY:Jazz 93.5 Community Blues Hour with BJ Estares
DESCRIPTION:
URL:https://pikespkblues.org/event/jazz-93-5-community-blues-hour-with-bj-estares/2027-10-06/
END:VEVENT
BEGIN:VEVENT
DTSTART;TZID=America/Denver:20271007T120000
DTEND;TZID=America/Denver:20271007T130000
DTSTAMP:20260425T203835
CREATED:20240608T152048Z
LAST-MODIFIED:20250205T153915Z
UID:10002507-1822910400-1822914000@pikespkblues.org
SUMMARY:Jazz 93.5 Community Blues Hour with BJ Estares
DESCRIPTION:
URL:https://pikespkblues.org/event/jazz-93-5-community-blues-hour-with-bj-estares/2027-10-07/
END:VEVENT
BEGIN:VEVENT
DTSTART;TZID=America/Denver:20271007T200000
DTEND;TZID=America/Denver:20271007T230000
DTSTAMP:20260425T203835
CREATED:20260221T045616Z
LAST-MODIFIED:20260221T045617Z
UID:10005717-1822939200-1822950000@pikespkblues.org
SUMMARY:Blues Jam hosted by Randy Stephens & the Groove Makers
DESCRIPTION:Blues Jam hosted by Randy Stephens & the Groove Makers @ Kinfolks\, 950 Manitou Ave\, Manitou Springs on the first Thursday of  the month from 8:00 pm to 11:00 pm. Sign up start at 7:30 pm. Bring your own axe and jam with these award winning musicians. Keys\, drums\, and amps provided. Horn players welcome.
URL:https://pikespkblues.org/event/stormy-monday-blues-jam-hosted-by-randy-stephens-the-groove-makers-2-2/2027-10-07/
LOCATION:Kinsfolks\, 950 Manitou Ave\, Manitou Springs\, CO\, 80829
CATEGORIES:Jams
END:VEVENT
END:VCALENDAR