BEGIN:VCALENDAR
VERSION:2.0
PRODID:-//Pikes Peak Blues Community - ECPv6.15.20//NONSGML v1.0//EN
CALSCALE:GREGORIAN
METHOD:PUBLISH
X-ORIGINAL-URL:https://pikespkblues.org
X-WR-CALDESC:Events for Pikes Peak Blues Community
REFRESH-INTERVAL;VALUE=DURATION:PT1H
X-Robots-Tag:noindex
X-PUBLISHED-TTL:PT1H
BEGIN:VTIMEZONE
TZID:America/Denver
BEGIN:DAYLIGHT
TZOFFSETFROM:-0700
TZOFFSETTO:-0600
TZNAME:MDT
DTSTART:20260308T090000
END:DAYLIGHT
BEGIN:STANDARD
TZOFFSETFROM:-0600
TZOFFSETTO:-0700
TZNAME:MST
DTSTART:20261101T080000
END:STANDARD
BEGIN:DAYLIGHT
TZOFFSETFROM:-0700
TZOFFSETTO:-0600
TZNAME:MDT
DTSTART:20270314T090000
END:DAYLIGHT
BEGIN:STANDARD
TZOFFSETFROM:-0600
TZOFFSETTO:-0700
TZNAME:MST
DTSTART:20271107T080000
END:STANDARD
BEGIN:DAYLIGHT
TZOFFSETFROM:-0700
TZOFFSETTO:-0600
TZNAME:MDT
DTSTART:20280312T090000
END:DAYLIGHT
BEGIN:STANDARD
TZOFFSETFROM:-0600
TZOFFSETTO:-0700
TZNAME:MST
DTSTART:20281105T080000
END:STANDARD
END:VTIMEZONE
BEGIN:VEVENT
DTSTART;TZID=America/Denver:20270609T120000
DTEND;TZID=America/Denver:20270609T130000
DTSTAMP:20260425T044918
CREATED:20240608T152048Z
LAST-MODIFIED:20250205T153915Z
UID:10002421-1812542400-1812546000@pikespkblues.org
SUMMARY:Jazz 93.5 Community Blues Hour with BJ Estares
DESCRIPTION:
URL:https://pikespkblues.org/event/jazz-93-5-community-blues-hour-with-bj-estares/2027-06-09/
LOCATION:CO
END:VEVENT
BEGIN:VEVENT
DTSTART;TZID=America/Denver:20270610T120000
DTEND;TZID=America/Denver:20270610T130000
DTSTAMP:20260425T044918
CREATED:20240608T152048Z
LAST-MODIFIED:20250205T153915Z
UID:10002422-1812628800-1812632400@pikespkblues.org
SUMMARY:Jazz 93.5 Community Blues Hour with BJ Estares
DESCRIPTION:
URL:https://pikespkblues.org/event/jazz-93-5-community-blues-hour-with-bj-estares/2027-06-10/
LOCATION:CO
END:VEVENT
BEGIN:VEVENT
DTSTART;TZID=America/Denver:20270611T120000
DTEND;TZID=America/Denver:20270611T130000
DTSTAMP:20260425T044918
CREATED:20240608T152048Z
LAST-MODIFIED:20250205T153915Z
UID:10002423-1812715200-1812718800@pikespkblues.org
SUMMARY:Jazz 93.5 Community Blues Hour with BJ Estares
DESCRIPTION:
URL:https://pikespkblues.org/event/jazz-93-5-community-blues-hour-with-bj-estares/2027-06-11/
LOCATION:CO
END:VEVENT
BEGIN:VEVENT
DTSTART;TZID=America/Denver:20270614T120000
DTEND;TZID=America/Denver:20270614T130000
DTSTAMP:20260425T044918
CREATED:20240608T152048Z
LAST-MODIFIED:20250205T153915Z
UID:10002424-1812974400-1812978000@pikespkblues.org
SUMMARY:Jazz 93.5 Community Blues Hour with BJ Estares
DESCRIPTION:
URL:https://pikespkblues.org/event/jazz-93-5-community-blues-hour-with-bj-estares/2027-06-14/
LOCATION:CO
END:VEVENT
BEGIN:VEVENT
DTSTART;TZID=America/Denver:20270615T120000
DTEND;TZID=America/Denver:20270615T130000
DTSTAMP:20260425T044918
CREATED:20240608T152048Z
LAST-MODIFIED:20250205T153915Z
UID:10002425-1813060800-1813064400@pikespkblues.org
SUMMARY:Jazz 93.5 Community Blues Hour with BJ Estares
DESCRIPTION:
URL:https://pikespkblues.org/event/jazz-93-5-community-blues-hour-with-bj-estares/2027-06-15/
LOCATION:CO
END:VEVENT
BEGIN:VEVENT
DTSTART;TZID=America/Denver:20270615T180000
DTEND;TZID=America/Denver:20270615T210000
DTSTAMP:20260425T044918
CREATED:20251004T004608Z
LAST-MODIFIED:20251004T182250Z
UID:10004868-1813082400-1813093200@pikespkblues.org
SUMMARY:Sweet T's Rude Blues Jam on Tuesdays at PEAK 31
DESCRIPTION:Sweet T’s Rude Blues Jam @ PEAK 31\, 2419 N Union Blvd (80909) on Tuesdays\, from 6:00 pm to 9:00 pm.
URL:https://pikespkblues.org/event/sweet-ts-rude-blues-jam-on-tuesdays-at-peak-31/2027-06-15/
LOCATION:PEAK 31\, 2419 N Union Blvd\, Colorado Springs\, CO\, 80909\, United States
CATEGORIES:Jams
END:VEVENT
BEGIN:VEVENT
DTSTART;TZID=America/Denver:20270616T120000
DTEND;TZID=America/Denver:20270616T130000
DTSTAMP:20260425T044918
CREATED:20240608T152048Z
LAST-MODIFIED:20250205T153915Z
UID:10002426-1813147200-1813150800@pikespkblues.org
SUMMARY:Jazz 93.5 Community Blues Hour with BJ Estares
DESCRIPTION:
URL:https://pikespkblues.org/event/jazz-93-5-community-blues-hour-with-bj-estares/2027-06-16/
LOCATION:CO
END:VEVENT
BEGIN:VEVENT
DTSTART;TZID=America/Denver:20270617T120000
DTEND;TZID=America/Denver:20270617T130000
DTSTAMP:20260425T044918
CREATED:20240608T152048Z
LAST-MODIFIED:20250205T153915Z
UID:10002427-1813233600-1813237200@pikespkblues.org
SUMMARY:Jazz 93.5 Community Blues Hour with BJ Estares
DESCRIPTION:
URL:https://pikespkblues.org/event/jazz-93-5-community-blues-hour-with-bj-estares/2027-06-17/
LOCATION:CO
END:VEVENT
BEGIN:VEVENT
DTSTART;TZID=America/Denver:20270618T120000
DTEND;TZID=America/Denver:20270618T130000
DTSTAMP:20260425T044918
CREATED:20240608T152048Z
LAST-MODIFIED:20250205T153915Z
UID:10002428-1813320000-1813323600@pikespkblues.org
SUMMARY:Jazz 93.5 Community Blues Hour with BJ Estares
DESCRIPTION:
URL:https://pikespkblues.org/event/jazz-93-5-community-blues-hour-with-bj-estares/2027-06-18/
LOCATION:CO
END:VEVENT
BEGIN:VEVENT
DTSTART;TZID=America/Denver:20270621T120000
DTEND;TZID=America/Denver:20270621T130000
DTSTAMP:20260425T044918
CREATED:20240608T152048Z
LAST-MODIFIED:20250205T153915Z
UID:10002429-1813579200-1813582800@pikespkblues.org
SUMMARY:Jazz 93.5 Community Blues Hour with BJ Estares
DESCRIPTION:
URL:https://pikespkblues.org/event/jazz-93-5-community-blues-hour-with-bj-estares/2027-06-21/
LOCATION:CO
END:VEVENT
BEGIN:VEVENT
DTSTART;TZID=America/Denver:20270622T120000
DTEND;TZID=America/Denver:20270622T130000
DTSTAMP:20260425T044918
CREATED:20240608T152048Z
LAST-MODIFIED:20250205T153915Z
UID:10002430-1813665600-1813669200@pikespkblues.org
SUMMARY:Jazz 93.5 Community Blues Hour with BJ Estares
DESCRIPTION:
URL:https://pikespkblues.org/event/jazz-93-5-community-blues-hour-with-bj-estares/2027-06-22/
LOCATION:CO
END:VEVENT
BEGIN:VEVENT
DTSTART;TZID=America/Denver:20270622T180000
DTEND;TZID=America/Denver:20270622T210000
DTSTAMP:20260425T044918
CREATED:20251004T004608Z
LAST-MODIFIED:20251004T182250Z
UID:10004869-1813687200-1813698000@pikespkblues.org
SUMMARY:Sweet T's Rude Blues Jam on Tuesdays at PEAK 31
DESCRIPTION:Sweet T’s Rude Blues Jam @ PEAK 31\, 2419 N Union Blvd (80909) on Tuesdays\, from 6:00 pm to 9:00 pm.
URL:https://pikespkblues.org/event/sweet-ts-rude-blues-jam-on-tuesdays-at-peak-31/2027-06-22/
LOCATION:PEAK 31\, 2419 N Union Blvd\, Colorado Springs\, CO\, 80909\, United States
CATEGORIES:Jams
END:VEVENT
BEGIN:VEVENT
DTSTART;TZID=America/Denver:20270623T120000
DTEND;TZID=America/Denver:20270623T130000
DTSTAMP:20260425T044918
CREATED:20240608T152048Z
LAST-MODIFIED:20250205T153915Z
UID:10002431-1813752000-1813755600@pikespkblues.org
SUMMARY:Jazz 93.5 Community Blues Hour with BJ Estares
DESCRIPTION:
URL:https://pikespkblues.org/event/jazz-93-5-community-blues-hour-with-bj-estares/2027-06-23/
LOCATION:CO
END:VEVENT
BEGIN:VEVENT
DTSTART;TZID=America/Denver:20270624T120000
DTEND;TZID=America/Denver:20270624T130000
DTSTAMP:20260425T044918
CREATED:20240608T152048Z
LAST-MODIFIED:20250205T153915Z
UID:10002432-1813838400-1813842000@pikespkblues.org
SUMMARY:Jazz 93.5 Community Blues Hour with BJ Estares
DESCRIPTION:
URL:https://pikespkblues.org/event/jazz-93-5-community-blues-hour-with-bj-estares/2027-06-24/
LOCATION:CO
END:VEVENT
BEGIN:VEVENT
DTSTART;TZID=America/Denver:20270625T120000
DTEND;TZID=America/Denver:20270625T130000
DTSTAMP:20260425T044918
CREATED:20240608T152048Z
LAST-MODIFIED:20250205T153915Z
UID:10002433-1813924800-1813928400@pikespkblues.org
SUMMARY:Jazz 93.5 Community Blues Hour with BJ Estares
DESCRIPTION:
URL:https://pikespkblues.org/event/jazz-93-5-community-blues-hour-with-bj-estares/2027-06-25/
LOCATION:CO
END:VEVENT
BEGIN:VEVENT
DTSTART;TZID=America/Denver:20270628T120000
DTEND;TZID=America/Denver:20270628T130000
DTSTAMP:20260425T044918
CREATED:20240608T152048Z
LAST-MODIFIED:20250205T153915Z
UID:10002434-1814184000-1814187600@pikespkblues.org
SUMMARY:Jazz 93.5 Community Blues Hour with BJ Estares
DESCRIPTION:
URL:https://pikespkblues.org/event/jazz-93-5-community-blues-hour-with-bj-estares/2027-06-28/
LOCATION:CO
END:VEVENT
BEGIN:VEVENT
DTSTART;TZID=America/Denver:20270629T120000
DTEND;TZID=America/Denver:20270629T130000
DTSTAMP:20260425T044918
CREATED:20240608T152048Z
LAST-MODIFIED:20250205T153915Z
UID:10002435-1814270400-1814274000@pikespkblues.org
SUMMARY:Jazz 93.5 Community Blues Hour with BJ Estares
DESCRIPTION:
URL:https://pikespkblues.org/event/jazz-93-5-community-blues-hour-with-bj-estares/2027-06-29/
LOCATION:CO
END:VEVENT
BEGIN:VEVENT
DTSTART;TZID=America/Denver:20270629T180000
DTEND;TZID=America/Denver:20270629T210000
DTSTAMP:20260425T044918
CREATED:20251004T004608Z
LAST-MODIFIED:20251004T182250Z
UID:10004870-1814292000-1814302800@pikespkblues.org
SUMMARY:Sweet T's Rude Blues Jam on Tuesdays at PEAK 31
DESCRIPTION:Sweet T’s Rude Blues Jam @ PEAK 31\, 2419 N Union Blvd (80909) on Tuesdays\, from 6:00 pm to 9:00 pm.
URL:https://pikespkblues.org/event/sweet-ts-rude-blues-jam-on-tuesdays-at-peak-31/2027-06-29/
LOCATION:PEAK 31\, 2419 N Union Blvd\, Colorado Springs\, CO\, 80909\, United States
CATEGORIES:Jams
END:VEVENT
BEGIN:VEVENT
DTSTART;TZID=America/Denver:20270630T120000
DTEND;TZID=America/Denver:20270630T130000
DTSTAMP:20260425T044918
CREATED:20240608T152048Z
LAST-MODIFIED:20250205T153915Z
UID:10002436-1814356800-1814360400@pikespkblues.org
SUMMARY:Jazz 93.5 Community Blues Hour with BJ Estares
DESCRIPTION:
URL:https://pikespkblues.org/event/jazz-93-5-community-blues-hour-with-bj-estares/2027-06-30/
LOCATION:CO
END:VEVENT
BEGIN:VEVENT
DTSTART;TZID=America/Denver:20270701T120000
DTEND;TZID=America/Denver:20270701T130000
DTSTAMP:20260425T044918
CREATED:20240608T152048Z
LAST-MODIFIED:20250205T153915Z
UID:10002437-1814443200-1814446800@pikespkblues.org
SUMMARY:Jazz 93.5 Community Blues Hour with BJ Estares
DESCRIPTION:
URL:https://pikespkblues.org/event/jazz-93-5-community-blues-hour-with-bj-estares/2027-07-01/
LOCATION:CO
END:VEVENT
BEGIN:VEVENT
DTSTART;TZID=America/Denver:20270701T200000
DTEND;TZID=America/Denver:20270701T230000
DTSTAMP:20260425T044918
CREATED:20260221T045616Z
LAST-MODIFIED:20260221T045617Z
UID:10005714-1814472000-1814482800@pikespkblues.org
SUMMARY:Blues Jam hosted by Randy Stephens & the Groove Makers
DESCRIPTION:Blues Jam hosted by Randy Stephens & the Groove Makers @ Kinfolks\, 950 Manitou Ave\, Manitou Springs on the first Thursday of  the month from 8:00 pm to 11:00 pm. Sign up start at 7:30 pm. Bring your own axe and jam with these award winning musicians. Keys\, drums\, and amps provided. Horn players welcome.
URL:https://pikespkblues.org/event/stormy-monday-blues-jam-hosted-by-randy-stephens-the-groove-makers-2-2/2027-07-01/
LOCATION:Kinsfolks\, 950 Manitou Ave\, Manitou Springs\, CO\, 80829
CATEGORIES:Jams
END:VEVENT
BEGIN:VEVENT
DTSTART;TZID=America/Denver:20270702T120000
DTEND;TZID=America/Denver:20270702T130000
DTSTAMP:20260425T044918
CREATED:20240608T152048Z
LAST-MODIFIED:20250205T153915Z
UID:10002438-1814529600-1814533200@pikespkblues.org
SUMMARY:Jazz 93.5 Community Blues Hour with BJ Estares
DESCRIPTION:
URL:https://pikespkblues.org/event/jazz-93-5-community-blues-hour-with-bj-estares/2027-07-02/
LOCATION:CO
END:VEVENT
BEGIN:VEVENT
DTSTART;TZID=America/Denver:20270705T120000
DTEND;TZID=America/Denver:20270705T130000
DTSTAMP:20260425T044918
CREATED:20240608T152048Z
LAST-MODIFIED:20250205T153915Z
UID:10002439-1814788800-1814792400@pikespkblues.org
SUMMARY:Jazz 93.5 Community Blues Hour with BJ Estares
DESCRIPTION:
URL:https://pikespkblues.org/event/jazz-93-5-community-blues-hour-with-bj-estares/2027-07-05/
LOCATION:CO
END:VEVENT
BEGIN:VEVENT
DTSTART;TZID=America/Denver:20270706T120000
DTEND;TZID=America/Denver:20270706T130000
DTSTAMP:20260425T044918
CREATED:20240608T152048Z
LAST-MODIFIED:20250205T153915Z
UID:10002440-1814875200-1814878800@pikespkblues.org
SUMMARY:Jazz 93.5 Community Blues Hour with BJ Estares
DESCRIPTION:
URL:https://pikespkblues.org/event/jazz-93-5-community-blues-hour-with-bj-estares/2027-07-06/
LOCATION:CO
END:VEVENT
BEGIN:VEVENT
DTSTART;TZID=America/Denver:20270706T180000
DTEND;TZID=America/Denver:20270706T210000
DTSTAMP:20260425T044918
CREATED:20251004T004608Z
LAST-MODIFIED:20251004T182250Z
UID:10004871-1814896800-1814907600@pikespkblues.org
SUMMARY:Sweet T's Rude Blues Jam on Tuesdays at PEAK 31
DESCRIPTION:Sweet T’s Rude Blues Jam @ PEAK 31\, 2419 N Union Blvd (80909) on Tuesdays\, from 6:00 pm to 9:00 pm.
URL:https://pikespkblues.org/event/sweet-ts-rude-blues-jam-on-tuesdays-at-peak-31/2027-07-06/
LOCATION:PEAK 31\, 2419 N Union Blvd\, Colorado Springs\, CO\, 80909\, United States
CATEGORIES:Jams
END:VEVENT
BEGIN:VEVENT
DTSTART;TZID=America/Denver:20270707T120000
DTEND;TZID=America/Denver:20270707T130000
DTSTAMP:20260425T044918
CREATED:20240608T152048Z
LAST-MODIFIED:20250205T153915Z
UID:10002441-1814961600-1814965200@pikespkblues.org
SUMMARY:Jazz 93.5 Community Blues Hour with BJ Estares
DESCRIPTION:
URL:https://pikespkblues.org/event/jazz-93-5-community-blues-hour-with-bj-estares/2027-07-07/
LOCATION:CO
END:VEVENT
BEGIN:VEVENT
DTSTART;TZID=America/Denver:20270708T120000
DTEND;TZID=America/Denver:20270708T130000
DTSTAMP:20260425T044918
CREATED:20240608T152048Z
LAST-MODIFIED:20250205T153915Z
UID:10002442-1815048000-1815051600@pikespkblues.org
SUMMARY:Jazz 93.5 Community Blues Hour with BJ Estares
DESCRIPTION:
URL:https://pikespkblues.org/event/jazz-93-5-community-blues-hour-with-bj-estares/2027-07-08/
LOCATION:CO
END:VEVENT
BEGIN:VEVENT
DTSTART;TZID=America/Denver:20270709T120000
DTEND;TZID=America/Denver:20270709T130000
DTSTAMP:20260425T044918
CREATED:20240608T152048Z
LAST-MODIFIED:20250205T153915Z
UID:10002443-1815134400-1815138000@pikespkblues.org
SUMMARY:Jazz 93.5 Community Blues Hour with BJ Estares
DESCRIPTION:
URL:https://pikespkblues.org/event/jazz-93-5-community-blues-hour-with-bj-estares/2027-07-09/
LOCATION:CO
END:VEVENT
BEGIN:VEVENT
DTSTART;TZID=America/Denver:20270712T120000
DTEND;TZID=America/Denver:20270712T130000
DTSTAMP:20260425T044918
CREATED:20240608T152048Z
LAST-MODIFIED:20250205T153915Z
UID:10002444-1815393600-1815397200@pikespkblues.org
SUMMARY:Jazz 93.5 Community Blues Hour with BJ Estares
DESCRIPTION:
URL:https://pikespkblues.org/event/jazz-93-5-community-blues-hour-with-bj-estares/2027-07-12/
LOCATION:CO
END:VEVENT
BEGIN:VEVENT
DTSTART;TZID=America/Denver:20270713T120000
DTEND;TZID=America/Denver:20270713T130000
DTSTAMP:20260425T044918
CREATED:20240608T152048Z
LAST-MODIFIED:20250205T153915Z
UID:10002445-1815480000-1815483600@pikespkblues.org
SUMMARY:Jazz 93.5 Community Blues Hour with BJ Estares
DESCRIPTION:
URL:https://pikespkblues.org/event/jazz-93-5-community-blues-hour-with-bj-estares/2027-07-13/
LOCATION:CO
END:VEVENT
END:VCALENDAR