BEGIN:VCALENDAR
VERSION:2.0
PRODID:-//Pikes Peak Blues Community - ECPv6.15.20//NONSGML v1.0//EN
CALSCALE:GREGORIAN
METHOD:PUBLISH
X-WR-CALNAME:Pikes Peak Blues Community
X-ORIGINAL-URL:https://pikespkblues.org
X-WR-CALDESC:Events for Pikes Peak Blues Community
REFRESH-INTERVAL;VALUE=DURATION:PT1H
X-Robots-Tag:noindex
X-PUBLISHED-TTL:PT1H
BEGIN:VTIMEZONE
TZID:America/Denver
BEGIN:DAYLIGHT
TZOFFSETFROM:-0700
TZOFFSETTO:-0600
TZNAME:MDT
DTSTART:20250309T090000
END:DAYLIGHT
BEGIN:STANDARD
TZOFFSETFROM:-0600
TZOFFSETTO:-0700
TZNAME:MST
DTSTART:20251102T080000
END:STANDARD
BEGIN:DAYLIGHT
TZOFFSETFROM:-0700
TZOFFSETTO:-0600
TZNAME:MDT
DTSTART:20260308T090000
END:DAYLIGHT
BEGIN:STANDARD
TZOFFSETFROM:-0600
TZOFFSETTO:-0700
TZNAME:MST
DTSTART:20261101T080000
END:STANDARD
BEGIN:DAYLIGHT
TZOFFSETFROM:-0700
TZOFFSETTO:-0600
TZNAME:MDT
DTSTART:20270314T090000
END:DAYLIGHT
BEGIN:STANDARD
TZOFFSETFROM:-0600
TZOFFSETTO:-0700
TZNAME:MST
DTSTART:20271107T080000
END:STANDARD
END:VTIMEZONE
BEGIN:VEVENT
DTSTART;TZID=America/Denver:20260716T120000
DTEND;TZID=America/Denver:20260716T130000
DTSTAMP:20260423T233159
CREATED:20240608T152048Z
LAST-MODIFIED:20250205T153915Z
UID:10002187-1784203200-1784206800@pikespkblues.org
SUMMARY:Jazz 93.5 Community Blues Hour with BJ Estares
DESCRIPTION:
URL:https://pikespkblues.org/event/jazz-93-5-community-blues-hour-with-bj-estares/2026-07-16/
LOCATION:CO
END:VEVENT
BEGIN:VEVENT
DTSTART;TZID=America/Denver:20260717T120000
DTEND;TZID=America/Denver:20260717T130000
DTSTAMP:20260423T233159
CREATED:20240608T152048Z
LAST-MODIFIED:20250205T153915Z
UID:10002188-1784289600-1784293200@pikespkblues.org
SUMMARY:Jazz 93.5 Community Blues Hour with BJ Estares
DESCRIPTION:
URL:https://pikespkblues.org/event/jazz-93-5-community-blues-hour-with-bj-estares/2026-07-17/
LOCATION:CO
END:VEVENT
BEGIN:VEVENT
DTSTART;TZID=America/Denver:20260720T120000
DTEND;TZID=America/Denver:20260720T130000
DTSTAMP:20260423T233159
CREATED:20240608T152048Z
LAST-MODIFIED:20250205T153915Z
UID:10002189-1784548800-1784552400@pikespkblues.org
SUMMARY:Jazz 93.5 Community Blues Hour with BJ Estares
DESCRIPTION:
URL:https://pikespkblues.org/event/jazz-93-5-community-blues-hour-with-bj-estares/2026-07-20/
LOCATION:CO
END:VEVENT
BEGIN:VEVENT
DTSTART;TZID=America/Denver:20260721T120000
DTEND;TZID=America/Denver:20260721T130000
DTSTAMP:20260423T233159
CREATED:20240608T152048Z
LAST-MODIFIED:20250205T153915Z
UID:10002190-1784635200-1784638800@pikespkblues.org
SUMMARY:Jazz 93.5 Community Blues Hour with BJ Estares
DESCRIPTION:
URL:https://pikespkblues.org/event/jazz-93-5-community-blues-hour-with-bj-estares/2026-07-21/
LOCATION:CO
END:VEVENT
BEGIN:VEVENT
DTSTART;TZID=America/Denver:20260721T180000
DTEND;TZID=America/Denver:20260721T210000
DTSTAMP:20260423T233159
CREATED:20251004T004608Z
LAST-MODIFIED:20251004T182250Z
UID:10004821-1784656800-1784667600@pikespkblues.org
SUMMARY:Sweet T's Rude Blues Jam on Tuesdays at PEAK 31
DESCRIPTION:Sweet T’s Rude Blues Jam @ PEAK 31\, 2419 N Union Blvd (80909) on Tuesdays\, from 6:00 pm to 9:00 pm.
URL:https://pikespkblues.org/event/sweet-ts-rude-blues-jam-on-tuesdays-at-peak-31/2026-07-21/
LOCATION:PEAK 31\, 2419 N Union Blvd\, Colorado Springs\, CO\, 80909\, United States
CATEGORIES:Jams
END:VEVENT
BEGIN:VEVENT
DTSTART;TZID=America/Denver:20260722T120000
DTEND;TZID=America/Denver:20260722T130000
DTSTAMP:20260423T233159
CREATED:20240608T152048Z
LAST-MODIFIED:20250205T153915Z
UID:10002191-1784721600-1784725200@pikespkblues.org
SUMMARY:Jazz 93.5 Community Blues Hour with BJ Estares
DESCRIPTION:
URL:https://pikespkblues.org/event/jazz-93-5-community-blues-hour-with-bj-estares/2026-07-22/
LOCATION:CO
END:VEVENT
BEGIN:VEVENT
DTSTART;TZID=America/Denver:20260723T120000
DTEND;TZID=America/Denver:20260723T130000
DTSTAMP:20260423T233159
CREATED:20240608T152048Z
LAST-MODIFIED:20250205T153915Z
UID:10002192-1784808000-1784811600@pikespkblues.org
SUMMARY:Jazz 93.5 Community Blues Hour with BJ Estares
DESCRIPTION:
URL:https://pikespkblues.org/event/jazz-93-5-community-blues-hour-with-bj-estares/2026-07-23/
LOCATION:CO
END:VEVENT
BEGIN:VEVENT
DTSTART;TZID=America/Denver:20260724T120000
DTEND;TZID=America/Denver:20260724T130000
DTSTAMP:20260423T233159
CREATED:20240608T152048Z
LAST-MODIFIED:20250205T153915Z
UID:10002193-1784894400-1784898000@pikespkblues.org
SUMMARY:Jazz 93.5 Community Blues Hour with BJ Estares
DESCRIPTION:
URL:https://pikespkblues.org/event/jazz-93-5-community-blues-hour-with-bj-estares/2026-07-24/
LOCATION:CO
END:VEVENT
BEGIN:VEVENT
DTSTART;TZID=America/Denver:20260724T183000
DTEND;TZID=America/Denver:20260724T213000
DTSTAMP:20260423T233159
CREATED:20260325T205902Z
LAST-MODIFIED:20260325T205902Z
UID:10005800-1784917800-1784928600@pikespkblues.org
SUMMARY:The Cash Box Kings
DESCRIPTION:The Cash Box Kings @ Dazzle\, Denver on Friday\, July 24th at 6:30 pm.
URL:https://pikespkblues.org/event/the-cash-box-kings/
LOCATION:Dazzle\, 1080 14th Street\, Denver\, CO\, 80202
CATEGORIES:Concerts
END:VEVENT
BEGIN:VEVENT
DTSTART;TZID=America/Denver:20260727T120000
DTEND;TZID=America/Denver:20260727T130000
DTSTAMP:20260423T233159
CREATED:20240608T152048Z
LAST-MODIFIED:20250205T153915Z
UID:10002194-1785153600-1785157200@pikespkblues.org
SUMMARY:Jazz 93.5 Community Blues Hour with BJ Estares
DESCRIPTION:
URL:https://pikespkblues.org/event/jazz-93-5-community-blues-hour-with-bj-estares/2026-07-27/
LOCATION:CO
END:VEVENT
BEGIN:VEVENT
DTSTART;TZID=America/Denver:20260728T120000
DTEND;TZID=America/Denver:20260728T130000
DTSTAMP:20260423T233159
CREATED:20240608T152048Z
LAST-MODIFIED:20250205T153915Z
UID:10002195-1785240000-1785243600@pikespkblues.org
SUMMARY:Jazz 93.5 Community Blues Hour with BJ Estares
DESCRIPTION:
URL:https://pikespkblues.org/event/jazz-93-5-community-blues-hour-with-bj-estares/2026-07-28/
LOCATION:CO
END:VEVENT
BEGIN:VEVENT
DTSTART;TZID=America/Denver:20260728T180000
DTEND;TZID=America/Denver:20260728T210000
DTSTAMP:20260423T233159
CREATED:20251004T004608Z
LAST-MODIFIED:20251004T182250Z
UID:10004822-1785261600-1785272400@pikespkblues.org
SUMMARY:Sweet T's Rude Blues Jam on Tuesdays at PEAK 31
DESCRIPTION:Sweet T’s Rude Blues Jam @ PEAK 31\, 2419 N Union Blvd (80909) on Tuesdays\, from 6:00 pm to 9:00 pm.
URL:https://pikespkblues.org/event/sweet-ts-rude-blues-jam-on-tuesdays-at-peak-31/2026-07-28/
LOCATION:PEAK 31\, 2419 N Union Blvd\, Colorado Springs\, CO\, 80909\, United States
CATEGORIES:Jams
END:VEVENT
BEGIN:VEVENT
DTSTART;TZID=America/Denver:20260729T120000
DTEND;TZID=America/Denver:20260729T130000
DTSTAMP:20260423T233159
CREATED:20240608T152048Z
LAST-MODIFIED:20250205T153915Z
UID:10002196-1785326400-1785330000@pikespkblues.org
SUMMARY:Jazz 93.5 Community Blues Hour with BJ Estares
DESCRIPTION:
URL:https://pikespkblues.org/event/jazz-93-5-community-blues-hour-with-bj-estares/2026-07-29/
LOCATION:CO
END:VEVENT
BEGIN:VEVENT
DTSTART;TZID=America/Denver:20260730T120000
DTEND;TZID=America/Denver:20260730T130000
DTSTAMP:20260423T233159
CREATED:20240608T152048Z
LAST-MODIFIED:20250205T153915Z
UID:10002197-1785412800-1785416400@pikespkblues.org
SUMMARY:Jazz 93.5 Community Blues Hour with BJ Estares
DESCRIPTION:
URL:https://pikespkblues.org/event/jazz-93-5-community-blues-hour-with-bj-estares/2026-07-30/
LOCATION:CO
END:VEVENT
BEGIN:VEVENT
DTSTART;TZID=America/Denver:20260731T120000
DTEND;TZID=America/Denver:20260731T130000
DTSTAMP:20260423T233159
CREATED:20240608T152048Z
LAST-MODIFIED:20250205T153915Z
UID:10002198-1785499200-1785502800@pikespkblues.org
SUMMARY:Jazz 93.5 Community Blues Hour with BJ Estares
DESCRIPTION:
URL:https://pikespkblues.org/event/jazz-93-5-community-blues-hour-with-bj-estares/2026-07-31/
LOCATION:CO
END:VEVENT
BEGIN:VEVENT
DTSTART;TZID=America/Denver:20260803T120000
DTEND;TZID=America/Denver:20260803T130000
DTSTAMP:20260423T233159
CREATED:20240608T152048Z
LAST-MODIFIED:20250205T153915Z
UID:10002199-1785758400-1785762000@pikespkblues.org
SUMMARY:Jazz 93.5 Community Blues Hour with BJ Estares
DESCRIPTION:
URL:https://pikespkblues.org/event/jazz-93-5-community-blues-hour-with-bj-estares/2026-08-03/
LOCATION:CO
END:VEVENT
BEGIN:VEVENT
DTSTART;TZID=America/Denver:20260804T120000
DTEND;TZID=America/Denver:20260804T130000
DTSTAMP:20260423T233159
CREATED:20240608T152048Z
LAST-MODIFIED:20250205T153915Z
UID:10002200-1785844800-1785848400@pikespkblues.org
SUMMARY:Jazz 93.5 Community Blues Hour with BJ Estares
DESCRIPTION:
URL:https://pikespkblues.org/event/jazz-93-5-community-blues-hour-with-bj-estares/2026-08-04/
LOCATION:CO
END:VEVENT
BEGIN:VEVENT
DTSTART;TZID=America/Denver:20260804T180000
DTEND;TZID=America/Denver:20260804T210000
DTSTAMP:20260423T233159
CREATED:20251004T004608Z
LAST-MODIFIED:20251004T182250Z
UID:10004823-1785866400-1785877200@pikespkblues.org
SUMMARY:Sweet T's Rude Blues Jam on Tuesdays at PEAK 31
DESCRIPTION:Sweet T’s Rude Blues Jam @ PEAK 31\, 2419 N Union Blvd (80909) on Tuesdays\, from 6:00 pm to 9:00 pm.
URL:https://pikespkblues.org/event/sweet-ts-rude-blues-jam-on-tuesdays-at-peak-31/2026-08-04/
LOCATION:PEAK 31\, 2419 N Union Blvd\, Colorado Springs\, CO\, 80909\, United States
CATEGORIES:Jams
END:VEVENT
BEGIN:VEVENT
DTSTART;TZID=America/Denver:20260805T120000
DTEND;TZID=America/Denver:20260805T130000
DTSTAMP:20260423T233159
CREATED:20240608T152048Z
LAST-MODIFIED:20250205T153915Z
UID:10002201-1785931200-1785934800@pikespkblues.org
SUMMARY:Jazz 93.5 Community Blues Hour with BJ Estares
DESCRIPTION:
URL:https://pikespkblues.org/event/jazz-93-5-community-blues-hour-with-bj-estares/2026-08-05/
LOCATION:CO
END:VEVENT
BEGIN:VEVENT
DTSTART;TZID=America/Denver:20260806T120000
DTEND;TZID=America/Denver:20260806T130000
DTSTAMP:20260423T233159
CREATED:20240608T152048Z
LAST-MODIFIED:20250205T153915Z
UID:10002202-1786017600-1786021200@pikespkblues.org
SUMMARY:Jazz 93.5 Community Blues Hour with BJ Estares
DESCRIPTION:
URL:https://pikespkblues.org/event/jazz-93-5-community-blues-hour-with-bj-estares/2026-08-06/
LOCATION:CO
END:VEVENT
BEGIN:VEVENT
DTSTART;TZID=America/Denver:20260806T200000
DTEND;TZID=America/Denver:20260806T230000
DTSTAMP:20260423T233159
CREATED:20260221T045616Z
LAST-MODIFIED:20260221T045617Z
UID:10005703-1786046400-1786057200@pikespkblues.org
SUMMARY:Blues Jam hosted by Randy Stephens & the Groove Makers
DESCRIPTION:Blues Jam hosted by Randy Stephens & the Groove Makers @ Kinfolks\, 950 Manitou Ave\, Manitou Springs on the first Thursday of  the month from 8:00 pm to 11:00 pm. Sign up start at 7:30 pm. Bring your own axe and jam with these award winning musicians. Keys\, drums\, and amps provided. Horn players welcome.
URL:https://pikespkblues.org/event/stormy-monday-blues-jam-hosted-by-randy-stephens-the-groove-makers-2-2/2026-08-06/
LOCATION:Kinsfolks\, 950 Manitou Ave\, Manitou Springs\, CO\, 80829
CATEGORIES:Jams
END:VEVENT
BEGIN:VEVENT
DTSTART;TZID=America/Denver:20260807T120000
DTEND;TZID=America/Denver:20260807T130000
DTSTAMP:20260423T233159
CREATED:20240608T152048Z
LAST-MODIFIED:20250205T153915Z
UID:10002203-1786104000-1786107600@pikespkblues.org
SUMMARY:Jazz 93.5 Community Blues Hour with BJ Estares
DESCRIPTION:
URL:https://pikespkblues.org/event/jazz-93-5-community-blues-hour-with-bj-estares/2026-08-07/
LOCATION:CO
END:VEVENT
BEGIN:VEVENT
DTSTART;TZID=America/Denver:20260810T120000
DTEND;TZID=America/Denver:20260810T130000
DTSTAMP:20260423T233159
CREATED:20240608T152048Z
LAST-MODIFIED:20250205T153915Z
UID:10002204-1786363200-1786366800@pikespkblues.org
SUMMARY:Jazz 93.5 Community Blues Hour with BJ Estares
DESCRIPTION:
URL:https://pikespkblues.org/event/jazz-93-5-community-blues-hour-with-bj-estares/2026-08-10/
LOCATION:CO
END:VEVENT
BEGIN:VEVENT
DTSTART;TZID=America/Denver:20260811T120000
DTEND;TZID=America/Denver:20260811T130000
DTSTAMP:20260423T233159
CREATED:20240608T152048Z
LAST-MODIFIED:20250205T153915Z
UID:10002205-1786449600-1786453200@pikespkblues.org
SUMMARY:Jazz 93.5 Community Blues Hour with BJ Estares
DESCRIPTION:
URL:https://pikespkblues.org/event/jazz-93-5-community-blues-hour-with-bj-estares/2026-08-11/
LOCATION:CO
END:VEVENT
BEGIN:VEVENT
DTSTART;TZID=America/Denver:20260811T180000
DTEND;TZID=America/Denver:20260811T210000
DTSTAMP:20260423T233159
CREATED:20251004T004608Z
LAST-MODIFIED:20251004T182250Z
UID:10004824-1786471200-1786482000@pikespkblues.org
SUMMARY:Sweet T's Rude Blues Jam on Tuesdays at PEAK 31
DESCRIPTION:Sweet T’s Rude Blues Jam @ PEAK 31\, 2419 N Union Blvd (80909) on Tuesdays\, from 6:00 pm to 9:00 pm.
URL:https://pikespkblues.org/event/sweet-ts-rude-blues-jam-on-tuesdays-at-peak-31/2026-08-11/
LOCATION:PEAK 31\, 2419 N Union Blvd\, Colorado Springs\, CO\, 80909\, United States
CATEGORIES:Jams
END:VEVENT
BEGIN:VEVENT
DTSTART;TZID=America/Denver:20260812T120000
DTEND;TZID=America/Denver:20260812T130000
DTSTAMP:20260423T233159
CREATED:20240608T152048Z
LAST-MODIFIED:20250205T153915Z
UID:10002206-1786536000-1786539600@pikespkblues.org
SUMMARY:Jazz 93.5 Community Blues Hour with BJ Estares
DESCRIPTION:
URL:https://pikespkblues.org/event/jazz-93-5-community-blues-hour-with-bj-estares/2026-08-12/
LOCATION:CO
END:VEVENT
BEGIN:VEVENT
DTSTART;TZID=America/Denver:20260813T120000
DTEND;TZID=America/Denver:20260813T130000
DTSTAMP:20260423T233159
CREATED:20240608T152048Z
LAST-MODIFIED:20250205T153915Z
UID:10002207-1786622400-1786626000@pikespkblues.org
SUMMARY:Jazz 93.5 Community Blues Hour with BJ Estares
DESCRIPTION:
URL:https://pikespkblues.org/event/jazz-93-5-community-blues-hour-with-bj-estares/2026-08-13/
LOCATION:CO
END:VEVENT
BEGIN:VEVENT
DTSTART;TZID=America/Denver:20260814T120000
DTEND;TZID=America/Denver:20260814T130000
DTSTAMP:20260423T233159
CREATED:20240608T152048Z
LAST-MODIFIED:20250205T153915Z
UID:10002208-1786708800-1786712400@pikespkblues.org
SUMMARY:Jazz 93.5 Community Blues Hour with BJ Estares
DESCRIPTION:
URL:https://pikespkblues.org/event/jazz-93-5-community-blues-hour-with-bj-estares/2026-08-14/
LOCATION:CO
END:VEVENT
BEGIN:VEVENT
DTSTART;TZID=America/Denver:20260817T120000
DTEND;TZID=America/Denver:20260817T130000
DTSTAMP:20260423T233159
CREATED:20240608T152048Z
LAST-MODIFIED:20250205T153915Z
UID:10002209-1786968000-1786971600@pikespkblues.org
SUMMARY:Jazz 93.5 Community Blues Hour with BJ Estares
DESCRIPTION:
URL:https://pikespkblues.org/event/jazz-93-5-community-blues-hour-with-bj-estares/2026-08-17/
LOCATION:CO
END:VEVENT
BEGIN:VEVENT
DTSTART;TZID=America/Denver:20260818T120000
DTEND;TZID=America/Denver:20260818T130000
DTSTAMP:20260423T233159
CREATED:20240608T152048Z
LAST-MODIFIED:20250205T153915Z
UID:10002210-1787054400-1787058000@pikespkblues.org
SUMMARY:Jazz 93.5 Community Blues Hour with BJ Estares
DESCRIPTION:
URL:https://pikespkblues.org/event/jazz-93-5-community-blues-hour-with-bj-estares/2026-08-18/
LOCATION:CO
END:VEVENT
END:VCALENDAR