BEGIN:VCALENDAR
VERSION:2.0
PRODID:-//Pikes Peak Blues Community - ECPv6.15.20//NONSGML v1.0//EN
CALSCALE:GREGORIAN
METHOD:PUBLISH
X-WR-CALNAME:Pikes Peak Blues Community
X-ORIGINAL-URL:https://pikespkblues.org
X-WR-CALDESC:Events for Pikes Peak Blues Community
REFRESH-INTERVAL;VALUE=DURATION:PT1H
X-Robots-Tag:noindex
X-PUBLISHED-TTL:PT1H
BEGIN:VTIMEZONE
TZID:America/Denver
BEGIN:DAYLIGHT
TZOFFSETFROM:-0700
TZOFFSETTO:-0600
TZNAME:MDT
DTSTART:20250309T090000
END:DAYLIGHT
BEGIN:STANDARD
TZOFFSETFROM:-0600
TZOFFSETTO:-0700
TZNAME:MST
DTSTART:20251102T080000
END:STANDARD
BEGIN:DAYLIGHT
TZOFFSETFROM:-0700
TZOFFSETTO:-0600
TZNAME:MDT
DTSTART:20260308T090000
END:DAYLIGHT
BEGIN:STANDARD
TZOFFSETFROM:-0600
TZOFFSETTO:-0700
TZNAME:MST
DTSTART:20261101T080000
END:STANDARD
BEGIN:DAYLIGHT
TZOFFSETFROM:-0700
TZOFFSETTO:-0600
TZNAME:MDT
DTSTART:20270314T090000
END:DAYLIGHT
BEGIN:STANDARD
TZOFFSETFROM:-0600
TZOFFSETTO:-0700
TZNAME:MST
DTSTART:20271107T080000
END:STANDARD
END:VTIMEZONE
BEGIN:VEVENT
DTSTART;TZID=America/Denver:20260604T120000
DTEND;TZID=America/Denver:20260604T130000
DTSTAMP:20260423T161511
CREATED:20240608T152048Z
LAST-MODIFIED:20250205T153915Z
UID:10002157-1780574400-1780578000@pikespkblues.org
SUMMARY:Jazz 93.5 Community Blues Hour with BJ Estares
DESCRIPTION:
URL:https://pikespkblues.org/event/jazz-93-5-community-blues-hour-with-bj-estares/2026-06-04/
LOCATION:CO
END:VEVENT
BEGIN:VEVENT
DTSTART;TZID=America/Denver:20260604T200000
DTEND;TZID=America/Denver:20260604T230000
DTSTAMP:20260423T161511
CREATED:20260221T045616Z
LAST-MODIFIED:20260221T045617Z
UID:10005701-1780603200-1780614000@pikespkblues.org
SUMMARY:Blues Jam hosted by Randy Stephens & the Groove Makers
DESCRIPTION:Blues Jam hosted by Randy Stephens & the Groove Makers @ Kinfolks\, 950 Manitou Ave\, Manitou Springs on the first Thursday of  the month from 8:00 pm to 11:00 pm. Sign up start at 7:30 pm. Bring your own axe and jam with these award winning musicians. Keys\, drums\, and amps provided. Horn players welcome.
URL:https://pikespkblues.org/event/stormy-monday-blues-jam-hosted-by-randy-stephens-the-groove-makers-2-2/2026-06-04/
LOCATION:Kinsfolks\, 950 Manitou Ave\, Manitou Springs\, CO\, 80829
CATEGORIES:Jams
END:VEVENT
BEGIN:VEVENT
DTSTART;TZID=America/Denver:20260605T120000
DTEND;TZID=America/Denver:20260605T130000
DTSTAMP:20260423T161511
CREATED:20240608T152048Z
LAST-MODIFIED:20250205T153915Z
UID:10002158-1780660800-1780664400@pikespkblues.org
SUMMARY:Jazz 93.5 Community Blues Hour with BJ Estares
DESCRIPTION:
URL:https://pikespkblues.org/event/jazz-93-5-community-blues-hour-with-bj-estares/2026-06-05/
LOCATION:CO
END:VEVENT
BEGIN:VEVENT
DTSTART;TZID=America/Denver:20260605T163000
DTEND;TZID=America/Denver:20260605T210000
DTSTAMP:20260423T161511
CREATED:20260324T203656Z
LAST-MODIFIED:20260324T203656Z
UID:10005799-1780677000-1780693200@pikespkblues.org
SUMMARY:Downtown Greeley Friday Fest 2026 - June 5th featuring Purple Blues and The Blues Beatles
DESCRIPTION:Downtown Greeley Friday Fest 2026 @ 9th St Plaza Main\, Greeley on Friday\, June 5th at 5:30 pm\, featuring Purple Blues and The Blues Beatles. Check out the other blues artists at various venues in Greeley this Friday at https://greeleybluesjam.org.
URL:https://pikespkblues.org/event/downtown-greeley-friday-fest-2026-june-5th-featuring-purple-blues-and-the-blues-beatles/
LOCATION:Historic Downtown Greeley\, 9th Street Plaza\, Greeley\, CO\, 80631\, United States
CATEGORIES:Concerts
END:VEVENT
BEGIN:VEVENT
DTSTART;TZID=America/Denver:20260605T200000
DTEND;TZID=America/Denver:20260605T230000
DTSTAMP:20260423T161511
CREATED:20260422T014357Z
LAST-MODIFIED:20260422T014357Z
UID:10005823-1780689600-1780700400@pikespkblues.org
SUMMARY:Hazel Miller & The Collective
DESCRIPTION:Hazel Miller & The Collective @ Buffalo Rose\, Golden on Friday\, June 5th at 8:00 pm.
URL:https://pikespkblues.org/event/hazel-miller-the-collective-2/
LOCATION:Buffalo Rose\, 1119 Washington Ave\, Golden\, CO\, 80401
CATEGORIES:Concerts
END:VEVENT
BEGIN:VEVENT
DTSTART;TZID=America/Denver:20260606T120000
DTEND;TZID=America/Denver:20260606T220000
DTSTAMP:20260423T161511
CREATED:20260324T201701Z
LAST-MODIFIED:20260324T201701Z
UID:10005798-1780747200-1780783200@pikespkblues.org
SUMMARY:2026 Greeley Blues Jam Music Festival
DESCRIPTION:2026 Greeley Blues Jam Music Festival @ Island Grove Regional Park\, Greeley on Saturday\, June 6th at 12:00 pm\, featuring Al Chesis & The Delta Sonics; Robert Wilson Blues Band; The Blues Beatles; The Buzz Brothers Band; Tommy Castro & The Painkillers; Bobby C & The OG’s; Danielle Nicole Band; Ben Pu & Crew; and Headliner\, Robert Randolph. Gates open at 11:00 am.
URL:https://pikespkblues.org/event/2026-greeley-blues-jam-music-festival/
LOCATION:Island Grove Regional Park\, 501 N 14th Ave\, Greeley\, CO\, 80631\, United States
CATEGORIES:Concerts
END:VEVENT
BEGIN:VEVENT
DTSTART;TZID=America/Denver:20260608T120000
DTEND;TZID=America/Denver:20260608T130000
DTSTAMP:20260423T161511
CREATED:20240608T152048Z
LAST-MODIFIED:20250205T153915Z
UID:10002159-1780920000-1780923600@pikespkblues.org
SUMMARY:Jazz 93.5 Community Blues Hour with BJ Estares
DESCRIPTION:
URL:https://pikespkblues.org/event/jazz-93-5-community-blues-hour-with-bj-estares/2026-06-08/
LOCATION:CO
END:VEVENT
BEGIN:VEVENT
DTSTART;TZID=America/Denver:20260609T120000
DTEND;TZID=America/Denver:20260609T130000
DTSTAMP:20260423T161511
CREATED:20240608T152048Z
LAST-MODIFIED:20250205T153915Z
UID:10002160-1781006400-1781010000@pikespkblues.org
SUMMARY:Jazz 93.5 Community Blues Hour with BJ Estares
DESCRIPTION:
URL:https://pikespkblues.org/event/jazz-93-5-community-blues-hour-with-bj-estares/2026-06-09/
LOCATION:CO
END:VEVENT
BEGIN:VEVENT
DTSTART;TZID=America/Denver:20260609T180000
DTEND;TZID=America/Denver:20260609T210000
DTSTAMP:20260423T161511
CREATED:20251004T004608Z
LAST-MODIFIED:20251004T182250Z
UID:10004815-1781028000-1781038800@pikespkblues.org
SUMMARY:Sweet T's Rude Blues Jam on Tuesdays at PEAK 31
DESCRIPTION:Sweet T’s Rude Blues Jam @ PEAK 31\, 2419 N Union Blvd (80909) on Tuesdays\, from 6:00 pm to 9:00 pm.
URL:https://pikespkblues.org/event/sweet-ts-rude-blues-jam-on-tuesdays-at-peak-31/2026-06-09/
LOCATION:PEAK 31\, 2419 N Union Blvd\, Colorado Springs\, CO\, 80909\, United States
CATEGORIES:Jams
END:VEVENT
BEGIN:VEVENT
DTSTART;TZID=America/Denver:20260610T120000
DTEND;TZID=America/Denver:20260610T130000
DTSTAMP:20260423T161511
CREATED:20240608T152048Z
LAST-MODIFIED:20250205T153915Z
UID:10002161-1781092800-1781096400@pikespkblues.org
SUMMARY:Jazz 93.5 Community Blues Hour with BJ Estares
DESCRIPTION:
URL:https://pikespkblues.org/event/jazz-93-5-community-blues-hour-with-bj-estares/2026-06-10/
LOCATION:CO
END:VEVENT
BEGIN:VEVENT
DTSTART;TZID=America/Denver:20260611T120000
DTEND;TZID=America/Denver:20260611T130000
DTSTAMP:20260423T161511
CREATED:20240608T152048Z
LAST-MODIFIED:20250205T153915Z
UID:10002162-1781179200-1781182800@pikespkblues.org
SUMMARY:Jazz 93.5 Community Blues Hour with BJ Estares
DESCRIPTION:
URL:https://pikespkblues.org/event/jazz-93-5-community-blues-hour-with-bj-estares/2026-06-11/
LOCATION:CO
END:VEVENT
BEGIN:VEVENT
DTSTART;TZID=America/Denver:20260612T120000
DTEND;TZID=America/Denver:20260612T130000
DTSTAMP:20260423T161511
CREATED:20240608T152048Z
LAST-MODIFIED:20250205T153915Z
UID:10002163-1781265600-1781269200@pikespkblues.org
SUMMARY:Jazz 93.5 Community Blues Hour with BJ Estares
DESCRIPTION:
URL:https://pikespkblues.org/event/jazz-93-5-community-blues-hour-with-bj-estares/2026-06-12/
LOCATION:CO
END:VEVENT
BEGIN:VEVENT
DTSTART;TZID=America/Denver:20260615T120000
DTEND;TZID=America/Denver:20260615T130000
DTSTAMP:20260423T161511
CREATED:20240608T152048Z
LAST-MODIFIED:20250205T153915Z
UID:10002164-1781524800-1781528400@pikespkblues.org
SUMMARY:Jazz 93.5 Community Blues Hour with BJ Estares
DESCRIPTION:
URL:https://pikespkblues.org/event/jazz-93-5-community-blues-hour-with-bj-estares/2026-06-15/
LOCATION:CO
END:VEVENT
BEGIN:VEVENT
DTSTART;TZID=America/Denver:20260616T120000
DTEND;TZID=America/Denver:20260616T130000
DTSTAMP:20260423T161511
CREATED:20240608T152048Z
LAST-MODIFIED:20250205T153915Z
UID:10002165-1781611200-1781614800@pikespkblues.org
SUMMARY:Jazz 93.5 Community Blues Hour with BJ Estares
DESCRIPTION:
URL:https://pikespkblues.org/event/jazz-93-5-community-blues-hour-with-bj-estares/2026-06-16/
LOCATION:CO
END:VEVENT
BEGIN:VEVENT
DTSTART;TZID=America/Denver:20260616T180000
DTEND;TZID=America/Denver:20260616T210000
DTSTAMP:20260423T161511
CREATED:20251004T004608Z
LAST-MODIFIED:20251004T182250Z
UID:10004816-1781632800-1781643600@pikespkblues.org
SUMMARY:Sweet T's Rude Blues Jam on Tuesdays at PEAK 31
DESCRIPTION:Sweet T’s Rude Blues Jam @ PEAK 31\, 2419 N Union Blvd (80909) on Tuesdays\, from 6:00 pm to 9:00 pm.
URL:https://pikespkblues.org/event/sweet-ts-rude-blues-jam-on-tuesdays-at-peak-31/2026-06-16/
LOCATION:PEAK 31\, 2419 N Union Blvd\, Colorado Springs\, CO\, 80909\, United States
CATEGORIES:Jams
END:VEVENT
BEGIN:VEVENT
DTSTART;TZID=America/Denver:20260617T120000
DTEND;TZID=America/Denver:20260617T130000
DTSTAMP:20260423T161511
CREATED:20240608T152048Z
LAST-MODIFIED:20250205T153915Z
UID:10002166-1781697600-1781701200@pikespkblues.org
SUMMARY:Jazz 93.5 Community Blues Hour with BJ Estares
DESCRIPTION:
URL:https://pikespkblues.org/event/jazz-93-5-community-blues-hour-with-bj-estares/2026-06-17/
LOCATION:CO
END:VEVENT
BEGIN:VEVENT
DTSTART;TZID=America/Denver:20260618T120000
DTEND;TZID=America/Denver:20260618T130000
DTSTAMP:20260423T161511
CREATED:20240608T152048Z
LAST-MODIFIED:20250205T153915Z
UID:10002167-1781784000-1781787600@pikespkblues.org
SUMMARY:Jazz 93.5 Community Blues Hour with BJ Estares
DESCRIPTION:
URL:https://pikespkblues.org/event/jazz-93-5-community-blues-hour-with-bj-estares/2026-06-18/
LOCATION:CO
END:VEVENT
BEGIN:VEVENT
DTSTART;TZID=America/Denver:20260619T120000
DTEND;TZID=America/Denver:20260619T130000
DTSTAMP:20260423T161511
CREATED:20240608T152048Z
LAST-MODIFIED:20250205T153915Z
UID:10002168-1781870400-1781874000@pikespkblues.org
SUMMARY:Jazz 93.5 Community Blues Hour with BJ Estares
DESCRIPTION:
URL:https://pikespkblues.org/event/jazz-93-5-community-blues-hour-with-bj-estares/2026-06-19/
LOCATION:CO
END:VEVENT
BEGIN:VEVENT
DTSTART;TZID=America/Denver:20260622T120000
DTEND;TZID=America/Denver:20260622T130000
DTSTAMP:20260423T161511
CREATED:20240608T152048Z
LAST-MODIFIED:20250205T153915Z
UID:10002169-1782129600-1782133200@pikespkblues.org
SUMMARY:Jazz 93.5 Community Blues Hour with BJ Estares
DESCRIPTION:
URL:https://pikespkblues.org/event/jazz-93-5-community-blues-hour-with-bj-estares/2026-06-22/
LOCATION:CO
END:VEVENT
BEGIN:VEVENT
DTSTART;TZID=America/Denver:20260623T120000
DTEND;TZID=America/Denver:20260623T130000
DTSTAMP:20260423T161511
CREATED:20240608T152048Z
LAST-MODIFIED:20250205T153915Z
UID:10002170-1782216000-1782219600@pikespkblues.org
SUMMARY:Jazz 93.5 Community Blues Hour with BJ Estares
DESCRIPTION:
URL:https://pikespkblues.org/event/jazz-93-5-community-blues-hour-with-bj-estares/2026-06-23/
LOCATION:CO
END:VEVENT
BEGIN:VEVENT
DTSTART;TZID=America/Denver:20260623T180000
DTEND;TZID=America/Denver:20260623T210000
DTSTAMP:20260423T161511
CREATED:20251004T004608Z
LAST-MODIFIED:20251004T182250Z
UID:10004817-1782237600-1782248400@pikespkblues.org
SUMMARY:Sweet T's Rude Blues Jam on Tuesdays at PEAK 31
DESCRIPTION:Sweet T’s Rude Blues Jam @ PEAK 31\, 2419 N Union Blvd (80909) on Tuesdays\, from 6:00 pm to 9:00 pm.
URL:https://pikespkblues.org/event/sweet-ts-rude-blues-jam-on-tuesdays-at-peak-31/2026-06-23/
LOCATION:PEAK 31\, 2419 N Union Blvd\, Colorado Springs\, CO\, 80909\, United States
CATEGORIES:Jams
END:VEVENT
BEGIN:VEVENT
DTSTART;TZID=America/Denver:20260624T120000
DTEND;TZID=America/Denver:20260624T130000
DTSTAMP:20260423T161511
CREATED:20240608T152048Z
LAST-MODIFIED:20250205T153915Z
UID:10002171-1782302400-1782306000@pikespkblues.org
SUMMARY:Jazz 93.5 Community Blues Hour with BJ Estares
DESCRIPTION:
URL:https://pikespkblues.org/event/jazz-93-5-community-blues-hour-with-bj-estares/2026-06-24/
LOCATION:CO
END:VEVENT
BEGIN:VEVENT
DTSTART;TZID=America/Denver:20260625T120000
DTEND;TZID=America/Denver:20260625T130000
DTSTAMP:20260423T161511
CREATED:20240608T152048Z
LAST-MODIFIED:20250205T153915Z
UID:10002172-1782388800-1782392400@pikespkblues.org
SUMMARY:Jazz 93.5 Community Blues Hour with BJ Estares
DESCRIPTION:
URL:https://pikespkblues.org/event/jazz-93-5-community-blues-hour-with-bj-estares/2026-06-25/
LOCATION:CO
END:VEVENT
BEGIN:VEVENT
DTSTART;TZID=America/Denver:20260626T043000
DTEND;TZID=America/Denver:20260626T193000
DTSTAMP:20260423T161511
CREATED:20260212T021411Z
LAST-MODIFIED:20260405T181244Z
UID:10005687-1782448200-1782502200@pikespkblues.org
SUMMARY:24th Annual Blues From The Top Music Festival - Day 1 on June 26\, 2026
DESCRIPTION:Grand County Blues Society’s 24th Annual Blues From The Top Music Festival – Day 1 @ Rendezvous Event Center\, Winter Park on Friday\, June 26th\, featuring Marc Broussard and The Wood Brothers.  Gates open at 4:30 pm.  Tickets on sale now.
URL:https://pikespkblues.org/event/blues-from-the-top-music-festival-june-26-27-and-28-2026/
LOCATION:Rendezvous Event Center\, 78821 U.S. 40\, Winter Park\, CO\, 80482\, United States
CATEGORIES:Concerts
END:VEVENT
BEGIN:VEVENT
DTSTART;TZID=America/Denver:20260626T120000
DTEND;TZID=America/Denver:20260626T130000
DTSTAMP:20260423T161511
CREATED:20240608T152048Z
LAST-MODIFIED:20250205T153915Z
UID:10002173-1782475200-1782478800@pikespkblues.org
SUMMARY:Jazz 93.5 Community Blues Hour with BJ Estares
DESCRIPTION:
URL:https://pikespkblues.org/event/jazz-93-5-community-blues-hour-with-bj-estares/2026-06-26/
LOCATION:CO
END:VEVENT
BEGIN:VEVENT
DTSTART;TZID=America/Denver:20260627T100000
DTEND;TZID=America/Denver:20260627T193000
DTSTAMP:20260423T161511
CREATED:20260212T021640Z
LAST-MODIFIED:20260405T181914Z
UID:10005688-1782554400-1782588600@pikespkblues.org
SUMMARY:24th Annual Blues From The Top Music Festival - Day 2 on June 27\, 2026
DESCRIPTION:Grand County Blues Society’s 24th Annual Blues From The Top Music Festival – Day 2 @ Rendezvous Event Center\, Winter Park on Saturday\, June 27th\, featuring Kenny Wayne Shepherd; Jimmy Vaughan and the Tilt-A-Whirl Band; North Mississippi Allstars; Bywater Call; and Tyron Benoit Band.  Gates open at 10:00 am.  Tickets on sale now.
URL:https://pikespkblues.org/event/blues-from-the-top-music-festival-june-26-27-and-28-2026-2/
LOCATION:Rendezvous Event Center\, 78821 U.S. 40\, Winter Park\, CO\, 80482\, United States
CATEGORIES:Concerts
END:VEVENT
BEGIN:VEVENT
DTSTART;TZID=America/Denver:20260628T080000
DTEND;TZID=America/Denver:20260628T170000
DTSTAMP:20260423T161511
CREATED:20260212T021836Z
LAST-MODIFIED:20260324T194741Z
UID:10005689-1782633600-1782666000@pikespkblues.org
SUMMARY:24th Annual Blues From The Top Music Festival - Day 3 on June 28\, 2026
DESCRIPTION:Grand County Blues Society’s 24th Blues From The Top Music Festival – Day 3 @ Rendezvous Event Center\, Winter Park on Sunday\, June 28th\, featuring Los Lobos; Southern Hospitality; Damon Fowler\, J.P. Soars\, and Victor Wainwright; Blind Boys of Alabama; and Vanessa Collier. Doors open at 10:00 am. Tickets on sale now.
URL:https://pikespkblues.org/event/blues-from-the-top-music-festival-june-26-27-and-28-2026-3/
LOCATION:Rendezvous Event Center\, 78821 U.S. 40\, Winter Park\, CO\, 80482\, United States
CATEGORIES:Concerts
END:VEVENT
BEGIN:VEVENT
DTSTART;TZID=America/Denver:20260629T120000
DTEND;TZID=America/Denver:20260629T130000
DTSTAMP:20260423T161511
CREATED:20240608T152048Z
LAST-MODIFIED:20250205T153915Z
UID:10002174-1782734400-1782738000@pikespkblues.org
SUMMARY:Jazz 93.5 Community Blues Hour with BJ Estares
DESCRIPTION:
URL:https://pikespkblues.org/event/jazz-93-5-community-blues-hour-with-bj-estares/2026-06-29/
LOCATION:CO
END:VEVENT
BEGIN:VEVENT
DTSTART;TZID=America/Denver:20260630T120000
DTEND;TZID=America/Denver:20260630T130000
DTSTAMP:20260423T161511
CREATED:20240608T152048Z
LAST-MODIFIED:20250205T153915Z
UID:10002175-1782820800-1782824400@pikespkblues.org
SUMMARY:Jazz 93.5 Community Blues Hour with BJ Estares
DESCRIPTION:
URL:https://pikespkblues.org/event/jazz-93-5-community-blues-hour-with-bj-estares/2026-06-30/
LOCATION:CO
END:VEVENT
BEGIN:VEVENT
DTSTART;TZID=America/Denver:20260630T180000
DTEND;TZID=America/Denver:20260630T210000
DTSTAMP:20260423T161511
CREATED:20251004T004608Z
LAST-MODIFIED:20251004T182250Z
UID:10004818-1782842400-1782853200@pikespkblues.org
SUMMARY:Sweet T's Rude Blues Jam on Tuesdays at PEAK 31
DESCRIPTION:Sweet T’s Rude Blues Jam @ PEAK 31\, 2419 N Union Blvd (80909) on Tuesdays\, from 6:00 pm to 9:00 pm.
URL:https://pikespkblues.org/event/sweet-ts-rude-blues-jam-on-tuesdays-at-peak-31/2026-06-30/
LOCATION:PEAK 31\, 2419 N Union Blvd\, Colorado Springs\, CO\, 80909\, United States
CATEGORIES:Jams
END:VEVENT
END:VCALENDAR