BEGIN:VCALENDAR
VERSION:2.0
PRODID:-//Pikes Peak Blues Community - ECPv6.15.20//NONSGML v1.0//EN
CALSCALE:GREGORIAN
METHOD:PUBLISH
X-WR-CALNAME:Pikes Peak Blues Community
X-ORIGINAL-URL:https://pikespkblues.org
X-WR-CALDESC:Events for Pikes Peak Blues Community
REFRESH-INTERVAL;VALUE=DURATION:PT1H
X-Robots-Tag:noindex
X-PUBLISHED-TTL:PT1H
BEGIN:VTIMEZONE
TZID:America/Denver
BEGIN:DAYLIGHT
TZOFFSETFROM:-0700
TZOFFSETTO:-0600
TZNAME:MDT
DTSTART:20240310T090000
END:DAYLIGHT
BEGIN:STANDARD
TZOFFSETFROM:-0600
TZOFFSETTO:-0700
TZNAME:MST
DTSTART:20241103T080000
END:STANDARD
BEGIN:DAYLIGHT
TZOFFSETFROM:-0700
TZOFFSETTO:-0600
TZNAME:MDT
DTSTART:20250309T090000
END:DAYLIGHT
BEGIN:STANDARD
TZOFFSETFROM:-0600
TZOFFSETTO:-0700
TZNAME:MST
DTSTART:20251102T080000
END:STANDARD
BEGIN:DAYLIGHT
TZOFFSETFROM:-0700
TZOFFSETTO:-0600
TZNAME:MDT
DTSTART:20260308T090000
END:DAYLIGHT
BEGIN:STANDARD
TZOFFSETFROM:-0600
TZOFFSETTO:-0700
TZNAME:MST
DTSTART:20261101T080000
END:STANDARD
END:VTIMEZONE
BEGIN:VEVENT
DTSTART;TZID=America/Denver:20251207T080000
DTEND;TZID=America/Denver:20251207T170000
DTSTAMP:20260423T230714
CREATED:20250709T182312Z
LAST-MODIFIED:20251129T212013Z
UID:10004423-1765094400-1765126800@pikespkblues.org
SUMMARY:Colorado Blues Society 2025 Road to Memphis: Colorado IBC Competition - Send Off Party
DESCRIPTION:Colorado Blues Society 2025 Road to Memphis: Colorado IBC Competition – Send Off Party @ Buffalo Rose\, Golden on Sunday\, December 7th at 2:00 pm featuring Mad Dog Blues Solo – CBS IBC Winner plus special guest performance by Mad Dog Blues String Band\, and Reckless and Blue – CBS IBC Band Winner. Doors open at 1:00 pm. 
URL:https://pikespkblues.org/event/colorado-blues-society-2025-road-to-memphis-colorado-ibc-competition-send-off-party/
LOCATION:Buffalo Rose\, 1119 Washington Ave\, Golden\, CO\, 80401
CATEGORIES:Concerts
END:VEVENT
BEGIN:VEVENT
DTSTART;TZID=America/Denver:20251208T120000
DTEND;TZID=America/Denver:20251208T130000
DTSTAMP:20260423T230714
CREATED:20240608T152048Z
LAST-MODIFIED:20250205T153915Z
UID:10002029-1765195200-1765198800@pikespkblues.org
SUMMARY:Jazz 93.5 Community Blues Hour with BJ Estares
DESCRIPTION:
URL:https://pikespkblues.org/event/jazz-93-5-community-blues-hour-with-bj-estares/2025-12-08/
LOCATION:CO
END:VEVENT
BEGIN:VEVENT
DTSTART;TZID=America/Denver:20251208T200000
DTEND;TZID=America/Denver:20251208T230000
DTSTAMP:20260423T230714
CREATED:20251009T001908Z
LAST-MODIFIED:20251009T010915Z
UID:10005310-1765224000-1765234800@pikespkblues.org
SUMMARY:Stormy Monday Blues Jam hosted by Randy Stephens & the Groove Makers
DESCRIPTION:Stormy Monday Blues Jam hosted by Randy Stephens & the Groove Makers @ Kinfolks\, 950 Manitou Ave\, Manitou Springs on Mondays from 8:00 pm to 11:00 pm. Sign up start at 7:30 pm. Bring your own axe and jam with these award winning musicians. Keys\, drums\, and amps provided. Horn players welcome.
URL:https://pikespkblues.org/event/stormy-monday-blues-jam-hosted-by-randy-stephens-the-groove-makers/2025-12-08/
LOCATION:Kinsfolks\, 950 Manitou Ave\, Manitou Springs\, CO\, 80829
CATEGORIES:Jams
END:VEVENT
BEGIN:VEVENT
DTSTART;TZID=America/Denver:20251209T120000
DTEND;TZID=America/Denver:20251209T130000
DTSTAMP:20260423T230714
CREATED:20240608T152048Z
LAST-MODIFIED:20250205T153915Z
UID:10002030-1765281600-1765285200@pikespkblues.org
SUMMARY:Jazz 93.5 Community Blues Hour with BJ Estares
DESCRIPTION:
URL:https://pikespkblues.org/event/jazz-93-5-community-blues-hour-with-bj-estares/2025-12-09/
LOCATION:CO
END:VEVENT
BEGIN:VEVENT
DTSTART;TZID=America/Denver:20251209T180000
DTEND;TZID=America/Denver:20251209T210000
DTSTAMP:20260423T230714
CREATED:20251004T004608Z
LAST-MODIFIED:20251004T182250Z
UID:10004789-1765303200-1765314000@pikespkblues.org
SUMMARY:Sweet T's Rude Blues Jam on Tuesdays at PEAK 31
DESCRIPTION:Sweet T’s Rude Blues Jam @ PEAK 31\, 2419 N Union Blvd (80909) on Tuesdays\, from 6:00 pm to 9:00 pm.
URL:https://pikespkblues.org/event/sweet-ts-rude-blues-jam-on-tuesdays-at-peak-31/2025-12-09/
LOCATION:PEAK 31\, 2419 N Union Blvd\, Colorado Springs\, CO\, 80909\, United States
CATEGORIES:Jams
END:VEVENT
BEGIN:VEVENT
DTSTART;TZID=America/Denver:20251210T120000
DTEND;TZID=America/Denver:20251210T130000
DTSTAMP:20260423T230714
CREATED:20240608T152048Z
LAST-MODIFIED:20250205T153915Z
UID:10002031-1765368000-1765371600@pikespkblues.org
SUMMARY:Jazz 93.5 Community Blues Hour with BJ Estares
DESCRIPTION:
URL:https://pikespkblues.org/event/jazz-93-5-community-blues-hour-with-bj-estares/2025-12-10/
LOCATION:CO
END:VEVENT
BEGIN:VEVENT
DTSTART;TZID=America/Denver:20251211T120000
DTEND;TZID=America/Denver:20251211T130000
DTSTAMP:20260423T230714
CREATED:20240608T152048Z
LAST-MODIFIED:20250205T153915Z
UID:10002032-1765454400-1765458000@pikespkblues.org
SUMMARY:Jazz 93.5 Community Blues Hour with BJ Estares
DESCRIPTION:
URL:https://pikespkblues.org/event/jazz-93-5-community-blues-hour-with-bj-estares/2025-12-11/
LOCATION:CO
END:VEVENT
BEGIN:VEVENT
DTSTART;TZID=America/Denver:20251212T120000
DTEND;TZID=America/Denver:20251212T130000
DTSTAMP:20260423T230714
CREATED:20240608T152048Z
LAST-MODIFIED:20250205T153915Z
UID:10002033-1765540800-1765544400@pikespkblues.org
SUMMARY:Jazz 93.5 Community Blues Hour with BJ Estares
DESCRIPTION:
URL:https://pikespkblues.org/event/jazz-93-5-community-blues-hour-with-bj-estares/2025-12-12/
LOCATION:CO
END:VEVENT
BEGIN:VEVENT
DTSTART;TZID=America/Denver:20251212T160000
DTEND;TZID=America/Denver:20251212T170000
DTSTAMP:20260423T230714
CREATED:20251017T155821Z
LAST-MODIFIED:20251017T155821Z
UID:10005575-1765555200-1765558800@pikespkblues.org
SUMMARY:Deborah Stafford and The Flatirons Jazz Orchestra
DESCRIPTION:Deborah Stafford and The Flatirons Jazz Orchestra @ Longmont Museum\, Longmont on Friday\, December 12th from 2:30 pm to 4:00 pm.
URL:https://pikespkblues.org/event/deborah-stafford-and-the-flatirons-jazz-orchestra-3/
LOCATION:Longmont Museum\, 400 Quail Rd\, Longmont\, CO\, 80501\, United States
CATEGORIES:Concerts
END:VEVENT
BEGIN:VEVENT
DTSTART;TZID=America/Denver:20251212T180000
DTEND;TZID=America/Denver:20251212T210000
DTSTAMP:20260423T230714
CREATED:20251202T164350Z
LAST-MODIFIED:20251202T164350Z
UID:10005616-1765562400-1765573200@pikespkblues.org
SUMMARY:Delta Sonics Duo  *** PPBC Member Band ***
DESCRIPTION:  \n \nDelta Sonics Duo @ Genesee Pub & BBQ\, Genesee on Friday\, December 12th at 6:00 pm.
URL:https://pikespkblues.org/event/delta-sonics-duo-ppbc-member-band-2/
LOCATION:CO
CATEGORIES:Concerts
END:VEVENT
BEGIN:VEVENT
DTSTART;TZID=America/Denver:20251212T183000
DTEND;TZID=America/Denver:20251212T213000
DTSTAMP:20260423T230714
CREATED:20251129T213651Z
LAST-MODIFIED:20251129T213651Z
UID:10005613-1765564200-1765575000@pikespkblues.org
SUMMARY:PPBC Members Joint Birthdays/Holiday Celebration with Hoodoo Honey and special guest Steve Shwen
DESCRIPTION:PPBC Members’ December Birthday & Yuletide Celebration with Hoodoo Honey and special guest Steve Shwen @ Summa on Friday\, December 12th from 6:30 pm to 9:30 pm.  Free for PPBC members / $10.00 cover for non-members.  Come out and celebrate the December Birthdays of Teri Senior and Steve Shwen as well as the holidays.
URL:https://pikespkblues.org/event/ppbc-members-joint-birthdays-holiday-celebration-with-hoodoo-honey-and-special-guest-steve-shwen/
LOCATION:Summa\, 817 W. Colorado Ave\, Colorado Springs\, CO\, 80905\, United States
CATEGORIES:Concerts
END:VEVENT
BEGIN:VEVENT
DTSTART;TZID=America/Denver:20251213T183000
DTEND;TZID=America/Denver:20251213T213000
DTSTAMP:20260423T230714
CREATED:20251101T020311Z
LAST-MODIFIED:20251101T021710Z
UID:10005592-1765650600-1765661400@pikespkblues.org
SUMMARY:Joe Sciallo & The Deepend Trio  *** PPBC Member Band ***
DESCRIPTION:Joe Sciallo & The Deepend Trio @ Summa\, 817 W Colorado Ave (80905) on Saturday\, December 13th from 6:30 pm to 9:30 pm
URL:https://pikespkblues.org/event/joe-sciallo-the-deepend-trio-ppbc-member-band/
LOCATION:Summa\, 817 W. Colorado Ave\, Colorado Springs\, CO\, 80905\, United States
CATEGORIES:Concerts
END:VEVENT
BEGIN:VEVENT
DTSTART;TZID=America/Denver:20251213T183000
DTEND;TZID=America/Denver:20251213T213000
DTSTAMP:20260423T230714
CREATED:20251117T170651Z
LAST-MODIFIED:20251117T170651Z
UID:10005607-1765650600-1765661400@pikespkblues.org
SUMMARY:Delta Sonics with Al Chesis  *** PPBC Member Band ***
DESCRIPTION:Delta Sonics with Al Chesis @ The Rusty Bucket Bar & Grill\, Lakewood on Saturday\, December 13th at 6:30 pm
URL:https://pikespkblues.org/event/delta-sonics-with-al-chesis-ppbc-member-band-29/
LOCATION:The Rusty Bucket Bar and Grill\, 3355 S Wadsworth\, Lakewood\, CO\, 80277\, United States
CATEGORIES:Concerts
END:VEVENT
BEGIN:VEVENT
DTSTART;TZID=America/Denver:20251213T200000
DTEND;TZID=America/Denver:20251213T223000
DTSTAMP:20260423T230714
CREATED:20251025T225415Z
LAST-MODIFIED:20251202T171053Z
UID:10005586-1765656000-1765665000@pikespkblues.org
SUMMARY:Jorma Kaukonen - Jorma’s 85th Birthday Celebration Tour 2025
DESCRIPTION:Jorma Kaukonen with special guests David Hidalgo\, Jack Casady\, R Carlo Nakai\, Will Clipman\, Ross Garrett\, and Justin Guip @ Paramont Theatre\, Denver on Saturday\, December 13th at 8:00 pm.
URL:https://pikespkblues.org/event/jorma-kaukonen/
LOCATION:Paramont Theatre\, 1621 Glenarm Pl\, Denver\, CO\, 80202
CATEGORIES:Concerts
END:VEVENT
BEGIN:VEVENT
DTSTART;TZID=America/Denver:20251215T120000
DTEND;TZID=America/Denver:20251215T130000
DTSTAMP:20260423T230714
CREATED:20240608T152048Z
LAST-MODIFIED:20250205T153915Z
UID:10002034-1765800000-1765803600@pikespkblues.org
SUMMARY:Jazz 93.5 Community Blues Hour with BJ Estares
DESCRIPTION:
URL:https://pikespkblues.org/event/jazz-93-5-community-blues-hour-with-bj-estares/2025-12-15/
LOCATION:CO
END:VEVENT
BEGIN:VEVENT
DTSTART;TZID=America/Denver:20251215T200000
DTEND;TZID=America/Denver:20251215T230000
DTSTAMP:20260423T230714
CREATED:20251009T001908Z
LAST-MODIFIED:20251009T010915Z
UID:10005311-1765828800-1765839600@pikespkblues.org
SUMMARY:Stormy Monday Blues Jam hosted by Randy Stephens & the Groove Makers
DESCRIPTION:Stormy Monday Blues Jam hosted by Randy Stephens & the Groove Makers @ Kinfolks\, 950 Manitou Ave\, Manitou Springs on Mondays from 8:00 pm to 11:00 pm. Sign up start at 7:30 pm. Bring your own axe and jam with these award winning musicians. Keys\, drums\, and amps provided. Horn players welcome.
URL:https://pikespkblues.org/event/stormy-monday-blues-jam-hosted-by-randy-stephens-the-groove-makers/2025-12-15/
LOCATION:Kinsfolks\, 950 Manitou Ave\, Manitou Springs\, CO\, 80829
CATEGORIES:Jams
END:VEVENT
BEGIN:VEVENT
DTSTART;TZID=America/Denver:20251216T120000
DTEND;TZID=America/Denver:20251216T130000
DTSTAMP:20260423T230714
CREATED:20240608T152048Z
LAST-MODIFIED:20250205T153915Z
UID:10002035-1765886400-1765890000@pikespkblues.org
SUMMARY:Jazz 93.5 Community Blues Hour with BJ Estares
DESCRIPTION:
URL:https://pikespkblues.org/event/jazz-93-5-community-blues-hour-with-bj-estares/2025-12-16/
LOCATION:CO
END:VEVENT
BEGIN:VEVENT
DTSTART;TZID=America/Denver:20251216T180000
DTEND;TZID=America/Denver:20251216T210000
DTSTAMP:20260423T230714
CREATED:20251004T004608Z
LAST-MODIFIED:20251004T182250Z
UID:10004790-1765908000-1765918800@pikespkblues.org
SUMMARY:Sweet T's Rude Blues Jam on Tuesdays at PEAK 31
DESCRIPTION:Sweet T’s Rude Blues Jam @ PEAK 31\, 2419 N Union Blvd (80909) on Tuesdays\, from 6:00 pm to 9:00 pm.
URL:https://pikespkblues.org/event/sweet-ts-rude-blues-jam-on-tuesdays-at-peak-31/2025-12-16/
LOCATION:PEAK 31\, 2419 N Union Blvd\, Colorado Springs\, CO\, 80909\, United States
CATEGORIES:Jams
END:VEVENT
BEGIN:VEVENT
DTSTART;TZID=America/Denver:20251217T120000
DTEND;TZID=America/Denver:20251217T130000
DTSTAMP:20260423T230714
CREATED:20240608T152048Z
LAST-MODIFIED:20250205T153915Z
UID:10002036-1765972800-1765976400@pikespkblues.org
SUMMARY:Jazz 93.5 Community Blues Hour with BJ Estares
DESCRIPTION:
URL:https://pikespkblues.org/event/jazz-93-5-community-blues-hour-with-bj-estares/2025-12-17/
LOCATION:CO
END:VEVENT
BEGIN:VEVENT
DTSTART;TZID=America/Denver:20251218T120000
DTEND;TZID=America/Denver:20251218T130000
DTSTAMP:20260423T230714
CREATED:20240608T152048Z
LAST-MODIFIED:20250205T153915Z
UID:10002037-1766059200-1766062800@pikespkblues.org
SUMMARY:Jazz 93.5 Community Blues Hour with BJ Estares
DESCRIPTION:
URL:https://pikespkblues.org/event/jazz-93-5-community-blues-hour-with-bj-estares/2025-12-18/
LOCATION:CO
END:VEVENT
BEGIN:VEVENT
DTSTART;TZID=America/Denver:20251218T203000
DTEND;TZID=America/Denver:20251218T203000
DTSTAMP:20260423T230714
CREATED:20250924T191057Z
LAST-MODIFIED:20251128T151148Z
UID:10004518-1766089800-1766089800@pikespkblues.org
SUMMARY:Colorado Blues Dance’s Shimmy Shake Blues with Reckless and Blue (Album Release Party)
DESCRIPTION:Colorado Blues Dance’s Shimmy Shake Blues with Reckless and Blue @ The Pearl\, Denver on Thursday\, December 18th from 8:00 pm to midnight. All-Levels Blues Dance Class with blues dance instructor from 7:00 to 8:00 pm.
URL:https://pikespkblues.org/event/colorado-blues-dances-shimmy-shake-blues-with-rex-peoples-x-factr/
LOCATION:The Pearl\, 2199 California St\, Denver\, CO\, 80205\, United States
CATEGORIES:Concerts,Dance
END:VEVENT
BEGIN:VEVENT
DTSTART;TZID=America/Denver:20251219T120000
DTEND;TZID=America/Denver:20251219T130000
DTSTAMP:20260423T230714
CREATED:20240608T152048Z
LAST-MODIFIED:20250205T153915Z
UID:10002038-1766145600-1766149200@pikespkblues.org
SUMMARY:Jazz 93.5 Community Blues Hour with BJ Estares
DESCRIPTION:
URL:https://pikespkblues.org/event/jazz-93-5-community-blues-hour-with-bj-estares/2025-12-19/
LOCATION:CO
END:VEVENT
BEGIN:VEVENT
DTSTART;TZID=America/Denver:20251220T183000
DTEND;TZID=America/Denver:20251220T213000
DTSTAMP:20260423T230714
CREATED:20251202T164716Z
LAST-MODIFIED:20251202T164716Z
UID:10005617-1766255400-1766266200@pikespkblues.org
SUMMARY:Delta Sonics with Al Chesis  *** PPBC Member Band ***
DESCRIPTION:Delta Sonics with Al Chesis @ The Old Blinking Light\, Highland Ranch on Saturday\, December 20th at 6:30 pm.
URL:https://pikespkblues.org/event/delta-sonics-with-al-chesis-ppbc-member-band-30/
LOCATION:The Old Blinking Light\, 9344 Dorchester St\, Highlands Ranch\, CO\, 80129\, United States
CATEGORIES:Concerts
END:VEVENT
BEGIN:VEVENT
DTSTART;TZID=America/Denver:20251222T120000
DTEND;TZID=America/Denver:20251222T130000
DTSTAMP:20260423T230714
CREATED:20240608T152048Z
LAST-MODIFIED:20250205T153915Z
UID:10002039-1766404800-1766408400@pikespkblues.org
SUMMARY:Jazz 93.5 Community Blues Hour with BJ Estares
DESCRIPTION:
URL:https://pikespkblues.org/event/jazz-93-5-community-blues-hour-with-bj-estares/2025-12-22/
LOCATION:CO
END:VEVENT
BEGIN:VEVENT
DTSTART;TZID=America/Denver:20251222T200000
DTEND;TZID=America/Denver:20251222T230000
DTSTAMP:20260423T230714
CREATED:20251009T001908Z
LAST-MODIFIED:20251009T010915Z
UID:10005312-1766433600-1766444400@pikespkblues.org
SUMMARY:Stormy Monday Blues Jam hosted by Randy Stephens & the Groove Makers
DESCRIPTION:Stormy Monday Blues Jam hosted by Randy Stephens & the Groove Makers @ Kinfolks\, 950 Manitou Ave\, Manitou Springs on Mondays from 8:00 pm to 11:00 pm. Sign up start at 7:30 pm. Bring your own axe and jam with these award winning musicians. Keys\, drums\, and amps provided. Horn players welcome.
URL:https://pikespkblues.org/event/stormy-monday-blues-jam-hosted-by-randy-stephens-the-groove-makers/2025-12-22/
LOCATION:Kinsfolks\, 950 Manitou Ave\, Manitou Springs\, CO\, 80829
CATEGORIES:Jams
END:VEVENT
BEGIN:VEVENT
DTSTART;TZID=America/Denver:20251223T120000
DTEND;TZID=America/Denver:20251223T130000
DTSTAMP:20260423T230714
CREATED:20240608T152048Z
LAST-MODIFIED:20250205T153915Z
UID:10002040-1766491200-1766494800@pikespkblues.org
SUMMARY:Jazz 93.5 Community Blues Hour with BJ Estares
DESCRIPTION:
URL:https://pikespkblues.org/event/jazz-93-5-community-blues-hour-with-bj-estares/2025-12-23/
LOCATION:CO
END:VEVENT
BEGIN:VEVENT
DTSTART;TZID=America/Denver:20251223T180000
DTEND;TZID=America/Denver:20251223T210000
DTSTAMP:20260423T230714
CREATED:20251219T193828Z
LAST-MODIFIED:20251219T193829Z
UID:10004791-1766512800-1766523600@pikespkblues.org
SUMMARY:Sweet T's Rude Blues Jam on Tuesdays at PEAK 31  **  CANCELLED FOR THIS TUESDAY  **
DESCRIPTION:Sweet T’s Rude Blues Jam @ PEAK 31\, 2419 N Union Blvd (80909) on Tuesdays\, from 6:00 pm to 9:00 pm. \n               ****  CANCELLED FOR THIS TUESDAY   ****
URL:https://pikespkblues.org/event/sweet-ts-rude-blues-jam-on-tuesdays-at-peak-31-3/
LOCATION:PEAK 31\, 2419 N Union Blvd\, Colorado Springs\, CO\, 80909\, United States
CATEGORIES:Jams
END:VEVENT
BEGIN:VEVENT
DTSTART;TZID=America/Denver:20251224T120000
DTEND;TZID=America/Denver:20251224T130000
DTSTAMP:20260423T230714
CREATED:20240608T152048Z
LAST-MODIFIED:20250205T153915Z
UID:10002041-1766577600-1766581200@pikespkblues.org
SUMMARY:Jazz 93.5 Community Blues Hour with BJ Estares
DESCRIPTION:
URL:https://pikespkblues.org/event/jazz-93-5-community-blues-hour-with-bj-estares/2025-12-24/
LOCATION:CO
END:VEVENT
BEGIN:VEVENT
DTSTART;TZID=America/Denver:20251225T120000
DTEND;TZID=America/Denver:20251225T130000
DTSTAMP:20260423T230714
CREATED:20240608T152048Z
LAST-MODIFIED:20250205T153915Z
UID:10002042-1766664000-1766667600@pikespkblues.org
SUMMARY:Jazz 93.5 Community Blues Hour with BJ Estares
DESCRIPTION:
URL:https://pikespkblues.org/event/jazz-93-5-community-blues-hour-with-bj-estares/2025-12-25/
LOCATION:CO
END:VEVENT
BEGIN:VEVENT
DTSTART;TZID=America/Denver:20251226T120000
DTEND;TZID=America/Denver:20251226T130000
DTSTAMP:20260423T230714
CREATED:20240608T152048Z
LAST-MODIFIED:20250205T153915Z
UID:10002043-1766750400-1766754000@pikespkblues.org
SUMMARY:Jazz 93.5 Community Blues Hour with BJ Estares
DESCRIPTION:
URL:https://pikespkblues.org/event/jazz-93-5-community-blues-hour-with-bj-estares/2025-12-26/
LOCATION:CO
END:VEVENT
END:VCALENDAR