BEGIN:VCALENDAR
VERSION:2.0
PRODID:-//Pikes Peak Blues Community - ECPv6.15.20//NONSGML v1.0//EN
CALSCALE:GREGORIAN
METHOD:PUBLISH
X-ORIGINAL-URL:https://pikespkblues.org
X-WR-CALDESC:Events for Pikes Peak Blues Community
REFRESH-INTERVAL;VALUE=DURATION:PT1H
X-Robots-Tag:noindex
X-PUBLISHED-TTL:PT1H
BEGIN:VTIMEZONE
TZID:America/Denver
BEGIN:DAYLIGHT
TZOFFSETFROM:-0700
TZOFFSETTO:-0600
TZNAME:MDT
DTSTART:20240310T090000
END:DAYLIGHT
BEGIN:STANDARD
TZOFFSETFROM:-0600
TZOFFSETTO:-0700
TZNAME:MST
DTSTART:20241103T080000
END:STANDARD
BEGIN:DAYLIGHT
TZOFFSETFROM:-0700
TZOFFSETTO:-0600
TZNAME:MDT
DTSTART:20250309T090000
END:DAYLIGHT
BEGIN:STANDARD
TZOFFSETFROM:-0600
TZOFFSETTO:-0700
TZNAME:MST
DTSTART:20251102T080000
END:STANDARD
BEGIN:DAYLIGHT
TZOFFSETFROM:-0700
TZOFFSETTO:-0600
TZNAME:MDT
DTSTART:20260308T090000
END:DAYLIGHT
BEGIN:STANDARD
TZOFFSETFROM:-0600
TZOFFSETTO:-0700
TZNAME:MST
DTSTART:20261101T080000
END:STANDARD
END:VTIMEZONE
BEGIN:VEVENT
DTSTART;TZID=America/Denver:20250918T203000
DTEND;TZID=America/Denver:20250918T230000
DTSTAMP:20260425T070200
CREATED:20250813T002551Z
LAST-MODIFIED:20250813T002551Z
UID:10004458-1758227400-1758236400@pikespkblues.org
SUMMARY:Colorado Blues Dance’s Shimmy Shake Blues with Two Hundred Pound Housecat
DESCRIPTION:Colorado Blues Dance’s Shimmy Shake Blues with Two Hundred Pound Housecat @ The Pearl\, Denver on Thursday\, September 18th at 8:30 pm. Before the concert\, there will be an All-Levels Blues Dance Class with blues dance instructor from 7:00 – 8:00 pm.
URL:https://pikespkblues.org/event/colorado-blues-dances-shimmy-shake-blues-with-two-hundred-pound-housecat/
LOCATION:The Pearl\, 2199 California St\, Denver\, CO\, 80205\, United States
CATEGORIES:Concerts
END:VEVENT
BEGIN:VEVENT
DTSTART;TZID=America/Denver:20250918T120000
DTEND;TZID=America/Denver:20250918T130000
DTSTAMP:20260425T070200
CREATED:20240608T152048Z
LAST-MODIFIED:20250205T153915Z
UID:10001972-1758196800-1758200400@pikespkblues.org
SUMMARY:Jazz 93.5 Community Blues Hour with BJ Estares
DESCRIPTION:
URL:https://pikespkblues.org/event/jazz-93-5-community-blues-hour-with-bj-estares/2025-09-18/
LOCATION:CO
END:VEVENT
BEGIN:VEVENT
DTSTART;TZID=America/Denver:20250917T173000
DTEND;TZID=America/Denver:20250917T200000
DTSTAMP:20260425T070200
CREATED:20250917T181800Z
LAST-MODIFIED:20250917T181800Z
UID:10004514-1758130200-1758139200@pikespkblues.org
SUMMARY:Claudette King “The Blue Queen” with the Gregory Goodloe Band
DESCRIPTION:Claudette King “The Blue Queen” with the Gregory Goodloe Band @ Dazzle Denver on Saturday\, October 25th.  Shows at 5:30 pm and 8:30 pm.
URL:https://pikespkblues.org/event/claudette-king-the-blue-queen-with-the-gregory-goodloe-band/
LOCATION:Dazzle\, 1080 14th Street\, Denver\, CO\, 80202
CATEGORIES:Concerts
END:VEVENT
BEGIN:VEVENT
DTSTART;TZID=America/Denver:20250917T120000
DTEND;TZID=America/Denver:20250917T130000
DTSTAMP:20260425T070200
CREATED:20240608T152048Z
LAST-MODIFIED:20250205T153915Z
UID:10001971-1758110400-1758114000@pikespkblues.org
SUMMARY:Jazz 93.5 Community Blues Hour with BJ Estares
DESCRIPTION:
URL:https://pikespkblues.org/event/jazz-93-5-community-blues-hour-with-bj-estares/2025-09-17/
LOCATION:CO
END:VEVENT
BEGIN:VEVENT
DTSTART;TZID=America/Denver:20250916T173000
DTEND;TZID=America/Denver:20250916T193000
DTSTAMP:20260425T070200
CREATED:20250316T174012Z
LAST-MODIFIED:20250603T174252Z
UID:10004320-1758043800-1758051000@pikespkblues.org
SUMMARY:Austin Johnson Band - PPBC Paint The Town Blue free public concert
DESCRIPTION:Austin Johnson Band – PPBC Paint The Town Blue free public concert in Bancroft Park\, Old Colorado City on Tuesday\, September 16th at 5:30 pm
URL:https://pikespkblues.org/event/austin-johnson-band-ppbc-paint-the-town-blue-free-public-concert/
LOCATION:Bancroft Park\, 2408 W Colorado Ave\, Colorado Springs\, 80904\, United States
CATEGORIES:Concerts
END:VEVENT
BEGIN:VEVENT
DTSTART;TZID=America/Denver:20250916T120000
DTEND;TZID=America/Denver:20250916T130000
DTSTAMP:20260425T070200
CREATED:20240608T152048Z
LAST-MODIFIED:20250205T153915Z
UID:10001970-1758024000-1758027600@pikespkblues.org
SUMMARY:Jazz 93.5 Community Blues Hour with BJ Estares
DESCRIPTION:
URL:https://pikespkblues.org/event/jazz-93-5-community-blues-hour-with-bj-estares/2025-09-16/
LOCATION:CO
END:VEVENT
BEGIN:VEVENT
DTSTART;TZID=America/Denver:20250915T120000
DTEND;TZID=America/Denver:20250915T130000
DTSTAMP:20260425T070200
CREATED:20240608T152048Z
LAST-MODIFIED:20250205T153915Z
UID:10001969-1757937600-1757941200@pikespkblues.org
SUMMARY:Jazz 93.5 Community Blues Hour with BJ Estares
DESCRIPTION:
URL:https://pikespkblues.org/event/jazz-93-5-community-blues-hour-with-bj-estares/2025-09-15/
LOCATION:CO
END:VEVENT
BEGIN:VEVENT
DTSTART;TZID=America/Denver:20250914T180000
DTEND;TZID=America/Denver:20250914T210000
DTSTAMP:20260425T070200
CREATED:20250123T222019Z
LAST-MODIFIED:20250708T143454Z
UID:10004124-1757872800-1757883600@pikespkblues.org
SUMMARY:Tab Benoit 'I Hear Thunder Tour 2025' with special guests GA-20
DESCRIPTION:Tab Benoit ‘I Hear Thunder Tour 2025’ with special guests GA-20 @ Stargazers Theatre\, Colorado Springs on Sunday\, September 14th at 6:00 – Doors open at 5:00 pm pm<em
URL:https://pikespkblues.org/event/tab-benoit/
LOCATION:Stargazers Theatre\, 10 S Parkside Dr\, Colorado Springs\, CO\, 80910\, United States
CATEGORIES:Concerts
END:VEVENT
BEGIN:VEVENT
DTSTART;TZID=America/Denver:20250914T173000
DTEND;TZID=America/Denver:20250914T203000
DTSTAMP:20260425T070200
CREATED:20250827T205453Z
LAST-MODIFIED:20250828T192043Z
UID:10004484-1757871000-1757881800@pikespkblues.org
SUMMARY:Delta Sonics Duo with Al Chesis *** PPBC Member Band ***
DESCRIPTION:Delta Sonics Duo with Al Chesis *** PPBC Member Band *** @ Johnson’s Station\, Longmont on Sunday\, September 14th at 7:30 pm
URL:https://pikespkblues.org/event/delta-sonics-with-al-chesis-ppbc-member-band-10/
LOCATION:Johnson’s Station\, 1111 Neon Forst Circle\, Longmont\, CO\, 80501\, United States
CATEGORIES:Concerts
END:VEVENT
BEGIN:VEVENT
DTSTART;TZID=America/Denver:20250913T213000
DTEND;TZID=America/Denver:20250913T233000
DTSTAMP:20260425T070200
CREATED:20250801T152435Z
LAST-MODIFIED:20250801T152435Z
UID:10004447-1757799000-1757806200@pikespkblues.org
SUMMARY:John Blackdog Ridnell
DESCRIPTION:John Blackdog Ridnell @ Dazzle\, Denver on Saturday\, September 13th at 9:30 pm
URL:https://pikespkblues.org/event/john-blackdog-ridnell/
LOCATION:Dazzle\, 1080 14th Street\, Denver\, CO\, 80202
CATEGORIES:Concerts
END:VEVENT
BEGIN:VEVENT
DTSTART;TZID=America/Denver:20250913T193000
DTEND;TZID=America/Denver:20250913T220000
DTSTAMP:20260425T070200
CREATED:20250721T192346Z
LAST-MODIFIED:20250721T192348Z
UID:10004438-1757791800-1757800800@pikespkblues.org
SUMMARY:Eric Johanson with Hurricane Dave and The Storm Chasers
DESCRIPTION:Eric Johanson with PPBC Member Band Hurricane Dave and The Storm Chasers @ Oskar Blues Grill & Brew – Colorado Springs\, 118 N Tejon St on Saturday\, September 13th at 7:30 pm. Doors open at 7:00 pm.
URL:https://pikespkblues.org/event/eric-johanson-with-hurricane-dave-and-the-storm-chasers/
LOCATION:Oskar Blues Grill & Brew – Coloraado Springs\, 118 N Tejon St\, Colorado Springs\, 80903\, United States
CATEGORIES:Concerts
END:VEVENT
BEGIN:VEVENT
DTSTART;TZID=America/Denver:20250913T120000
DTEND;TZID=America/Denver:20250913T160000
DTSTAMP:20260425T070200
CREATED:20250829T054613Z
LAST-MODIFIED:20250829T054613Z
UID:10004491-1757764800-1757779200@pikespkblues.org
SUMMARY:Hoodoo Honey   *** PPBC Member Band ***
DESCRIPTION:Hoodoo Honey *** PPBC Member Band *** @ Firehouse on the Run\, Black Forest on Saturday\, September 13th at !2:00 pm
URL:https://pikespkblues.org/event/hoodoo-honey-ppbc-member-band-2/
LOCATION:Firehouse on the Run\, 12480 Black Forest Rd\, Colorado Springs\, CO\, 80908\, United States
CATEGORIES:Concerts
END:VEVENT
BEGIN:VEVENT
DTSTART;TZID=America/Denver:20250912T190000
DTEND;TZID=America/Denver:20250912T220000
DTSTAMP:20260425T070200
CREATED:20250830T195123Z
LAST-MODIFIED:20250830T195123Z
UID:10004493-1757703600-1757714400@pikespkblues.org
SUMMARY:Randy Stephens and the Groove Makers
DESCRIPTION:Randy Stephens and the Groove Makers @ Stargazers Theatre\, 10 Parkside Dr\, Colorado Springs on Friday\, September 12th at 7:00 pm. Doors open at 6:00 pm
URL:https://pikespkblues.org/event/randy-stephens-and-the-groove-makers/
LOCATION:Stargazers Theatre\, 10 S Parkside Dr\, Colorado Springs\, CO\, 80910\, United States
CATEGORIES:Concerts
END:VEVENT
BEGIN:VEVENT
DTSTART;TZID=America/Denver:20250912T180000
DTEND;TZID=America/Denver:20250912T210000
DTSTAMP:20260425T070200
CREATED:20250909T135455Z
LAST-MODIFIED:20250909T143717Z
UID:10004497-1757700000-1757710800@pikespkblues.org
SUMMARY:Tommy Saxman  *** PPBC Member ***
DESCRIPTION:Tommy Saxman @ The Grand View Restaurant at the Garden of the Gods Resort and Club\, 3320 Mesa Rd (80904) on Friday\, September 12th at 6:00 pm. Reservations are a MUST for tables (719) 329-6901. No reservations needed for spacious bar.
URL:https://pikespkblues.org/event/tommy-saxman-ppbc-member/
LOCATION:Grand View Restaurant in GOG Resort and Club\, 3320 Mesa Rd\, Colorado Springs\, CO\, 80904\, United States
CATEGORIES:Concerts
END:VEVENT
BEGIN:VEVENT
DTSTART;TZID=America/Denver:20250912T180000
DTEND;TZID=America/Denver:20250912T210000
DTSTAMP:20260425T070200
CREATED:20250827T204719Z
LAST-MODIFIED:20250827T204719Z
UID:10004483-1757700000-1757710800@pikespkblues.org
SUMMARY:Delta Sonics with Al Chesis *** PPBC Member Band ***
DESCRIPTION:Delta Sonics with Al Chesis *** PPBC Member Band *** @ Genesee Pub & BBQ\,  Golden on Friday\, June 12th at 6:00 pm
URL:https://pikespkblues.org/event/delta-sonics-with-al-chesis-ppbc-member-band-9/
LOCATION:Genesee Pub & BBQ\, 25948 Genesee Trail Rd\, Golden\, CO\, 80401\, United States
CATEGORIES:Concerts
END:VEVENT
BEGIN:VEVENT
DTSTART;TZID=America/Denver:20250912T180000
DTEND;TZID=America/Denver:20250912T210000
DTSTAMP:20260425T070200
CREATED:20250725T150214Z
LAST-MODIFIED:20250815T180712Z
UID:10004440-1757700000-1757710800@pikespkblues.org
SUMMARY:Hoodoo Honey
DESCRIPTION:Hoodoo Honey ** PPBC Member Band ** @ Summa Taphouse\, 817 W Colorado Ave\, Colorado Springs on Friday\, September 12th at 6:00 pm.
URL:https://pikespkblues.org/event/hoodoo-honey-14/
LOCATION:Summa\, 817 W. Colorado Ave\, Colorado Springs\, CO\, 80905\, United States
CATEGORIES:Concerts
END:VEVENT
BEGIN:VEVENT
DTSTART;TZID=America/Denver:20250912T120000
DTEND;TZID=America/Denver:20250912T130000
DTSTAMP:20260425T070200
CREATED:20240608T152048Z
LAST-MODIFIED:20250205T153915Z
UID:10001968-1757678400-1757682000@pikespkblues.org
SUMMARY:Jazz 93.5 Community Blues Hour with BJ Estares
DESCRIPTION:
URL:https://pikespkblues.org/event/jazz-93-5-community-blues-hour-with-bj-estares/2025-09-12/
LOCATION:CO
END:VEVENT
BEGIN:VEVENT
DTSTART;TZID=America/Denver:20250911T203000
DTEND;TZID=America/Denver:20250911T230000
DTSTAMP:20260425T070200
CREATED:20250801T152028Z
LAST-MODIFIED:20250801T152028Z
UID:10004446-1757622600-1757631600@pikespkblues.org
SUMMARY:Shemekla Copeland
DESCRIPTION:Shemekla Copeland @ Swallow Hill Music\, Denver on Thursday\, September 11th at 8:30 pm
URL:https://pikespkblues.org/event/shemekla-copeland/
LOCATION:Swallow Hill Music\, 71 E Yale Ave\, Denver\, CO\, 80210
CATEGORIES:Concerts
END:VEVENT
BEGIN:VEVENT
DTSTART;TZID=America/Denver:20250911T193000
DTEND;TZID=America/Denver:20250911T223000
DTSTAMP:20260425T070200
CREATED:20250805T170345Z
LAST-MODIFIED:20250817T195145Z
UID:10004449-1757619000-1757629800@pikespkblues.org
SUMMARY:Josh Hoyer & Soul Colossal - 2025 International Blues Challenge Band Division winner
DESCRIPTION:Josh Hoyer & Soul Colossal – 2025 International Blues Challenge Band Division winner @ Nissi’s\, Lafayette on Thursday\, September 11th at 7:30 pm. Opening act: Reckless and Blue
URL:https://pikespkblues.org/event/josh-hoyer-soul-colossal/
LOCATION:Nissi’s\, 1455 Coal Creek Dr Unit T\, Lafayette\, CO\, 80026
CATEGORIES:Concerts
END:VEVENT
BEGIN:VEVENT
DTSTART;TZID=America/Denver:20250911T120000
DTEND;TZID=America/Denver:20250911T130000
DTSTAMP:20260425T070200
CREATED:20240608T152048Z
LAST-MODIFIED:20250205T153915Z
UID:10001967-1757592000-1757595600@pikespkblues.org
SUMMARY:Jazz 93.5 Community Blues Hour with BJ Estares
DESCRIPTION:
URL:https://pikespkblues.org/event/jazz-93-5-community-blues-hour-with-bj-estares/2025-09-11/
LOCATION:CO
END:VEVENT
BEGIN:VEVENT
DTSTART;TZID=America/Denver:20250910T120000
DTEND;TZID=America/Denver:20250910T130000
DTSTAMP:20260425T070200
CREATED:20240608T152048Z
LAST-MODIFIED:20250205T153915Z
UID:10001966-1757505600-1757509200@pikespkblues.org
SUMMARY:Jazz 93.5 Community Blues Hour with BJ Estares
DESCRIPTION:
URL:https://pikespkblues.org/event/jazz-93-5-community-blues-hour-with-bj-estares/2025-09-10/
LOCATION:CO
END:VEVENT
BEGIN:VEVENT
DTSTART;TZID=America/Denver:20250909T173000
DTEND;TZID=America/Denver:20250909T193000
DTSTAMP:20260425T070200
CREATED:20250602T173649Z
LAST-MODIFIED:20250603T174126Z
UID:10004387-1757439000-1757446200@pikespkblues.org
SUMMARY:Academy Jazz Ensemble
DESCRIPTION:Academy Jazz Ensemble @ Bancroft Park\, Old Colorado City on Tuesday\, September 9th at 5:30 pm\nPart of Dizzy Charlie’s Music & Events “Tuesdays in Bancroft Park” free Summer Music Series
URL:https://pikespkblues.org/event/academy-jazz-ensemble/
LOCATION:Bancroft Park\, 2408 W Colorado Ave\, Colorado Springs\, 80904\, United States
CATEGORIES:Concerts
END:VEVENT
BEGIN:VEVENT
DTSTART;TZID=America/Denver:20250909T120000
DTEND;TZID=America/Denver:20250909T130000
DTSTAMP:20260425T070200
CREATED:20240608T152048Z
LAST-MODIFIED:20250205T153915Z
UID:10001965-1757419200-1757422800@pikespkblues.org
SUMMARY:Jazz 93.5 Community Blues Hour with BJ Estares
DESCRIPTION:
URL:https://pikespkblues.org/event/jazz-93-5-community-blues-hour-with-bj-estares/2025-09-09/
LOCATION:CO
END:VEVENT
BEGIN:VEVENT
DTSTART;TZID=America/Denver:20250908T120000
DTEND;TZID=America/Denver:20250908T130000
DTSTAMP:20260425T070200
CREATED:20240608T152048Z
LAST-MODIFIED:20250205T153915Z
UID:10001964-1757332800-1757336400@pikespkblues.org
SUMMARY:Jazz 93.5 Community Blues Hour with BJ Estares
DESCRIPTION:
URL:https://pikespkblues.org/event/jazz-93-5-community-blues-hour-with-bj-estares/2025-09-08/
LOCATION:CO
END:VEVENT
BEGIN:VEVENT
DTSTART;TZID=America/Denver:20250906T193000
DTEND;TZID=America/Denver:20250906T220000
DTSTAMP:20260425T070200
CREATED:20250905T234438Z
LAST-MODIFIED:20250905T234438Z
UID:10004495-1757187000-1757196000@pikespkblues.org
SUMMARY:Samantha Fish
DESCRIPTION:Samantha Fish @ Arvada Center\, Arvada on Saturday\, September 6th at 7:30 pm
URL:https://pikespkblues.org/event/samantha-fish-2/
LOCATION:Arvada Center for the Arts and Humanities\, 6901 Wadsworth Blvd\, Arvada\, CO\, 80003\, United States
CATEGORIES:Concerts
END:VEVENT
BEGIN:VEVENT
DTSTART;TZID=America/Denver:20250906T190000
DTEND;TZID=America/Denver:20250906T220000
DTSTAMP:20260425T070200
CREATED:20250829T054106Z
LAST-MODIFIED:20250829T054106Z
UID:10004490-1757185200-1757196000@pikespkblues.org
SUMMARY:Hoodoo Honey   *** PPBC Member Band ***
DESCRIPTION:Hoodoo Honey *** PPBC Member Band *** @ The Hangar\, Peyton on Saturday\, September 6th at 7:00 pm
URL:https://pikespkblues.org/event/hoodoo-honey-ppbc-member-band/
LOCATION:The Hangar\, 1350 Front St\, Peyton\, CO\, 80831\, United States
CATEGORIES:Concerts
END:VEVENT
BEGIN:VEVENT
DTSTART;TZID=America/Denver:20250906T180000
DTEND;TZID=America/Denver:20250906T210000
DTSTAMP:20260425T070200
CREATED:20250817T215057Z
LAST-MODIFIED:20250817T215057Z
UID:10004467-1757181600-1757192400@pikespkblues.org
SUMMARY:Rafiel and The Roomshakers
DESCRIPTION:Rafiel and The Roomshakers @ Rico’s Cafe and Wine Bar\, 322 1/2 N Tejon St\, Colorado Springs on Friday\, September 5th at 6:00 pm – No Cover
URL:https://pikespkblues.org/event/rafiel-and-the-roomshakers-7/
LOCATION:Rico’s Cafe and Wine Bar\, 322 1/2\, N Tejon St\, Colorado Springs\, CO\, 80903\, United States
CATEGORIES:Concerts
END:VEVENT
BEGIN:VEVENT
DTSTART;TZID=America/Denver:20250906T180000
DTEND;TZID=America/Denver:20250906T210000
DTSTAMP:20260425T070200
CREATED:20250716T223442Z
LAST-MODIFIED:20250716T223442Z
UID:10004435-1757181600-1757192400@pikespkblues.org
SUMMARY:Vince Converse & Big Brother
DESCRIPTION:Vince Converse & Big Brother @ Oskar Blues-Longmont\, Longmont on Saturday\, September 6th at 6:00 pm
URL:https://pikespkblues.org/event/vince-converse-big-brother-4/
LOCATION:Oskar Blues – Longmont\, 1640 S Sunset St\, Longmont\, CO\, 80501\, United States
CATEGORIES:Concerts
END:VEVENT
BEGIN:VEVENT
DTSTART;TZID=America/Denver:20250906T100000
DTEND;TZID=America/Denver:20250906T120000
DTSTAMP:20260425T070200
CREATED:20250827T203140Z
LAST-MODIFIED:20250827T203140Z
UID:10004482-1757152800-1757160000@pikespkblues.org
SUMMARY:Delta Sonics with Al Chesis *** PPBC Member Band ***
DESCRIPTION:Delta Sonics with Al Chesis *** PPBC Member Band *** @ Firefly Handmade Market\, Old South Gaylord St\, Washington Park\, Denver on Saturday\, September 6th at 10:00 am
URL:https://pikespkblues.org/event/delta-sonics-with-al-chesis-ppbc-member-band-8/
LOCATION:Firefly Handmade Market\, Old South Gaylord St\, Washington Park\, Denver\, CO\, 80209\, United States
CATEGORIES:Concerts
END:VEVENT
BEGIN:VEVENT
DTSTART;TZID=America/Denver:20250905T180000
DTEND;TZID=America/Denver:20250905T210000
DTSTAMP:20260425T070200
CREATED:20250827T201940Z
LAST-MODIFIED:20250827T201940Z
UID:10004481-1757095200-1757106000@pikespkblues.org
SUMMARY:Delta Sonics with Al Chesis *** PPBC Member Band ***
DESCRIPTION:Delta Sonics with Al Chesis *** PPBC Member Band *** @ Viewhouse Littleton\, Littleton on Friday\, September 5th at 6:00 pm
URL:https://pikespkblues.org/event/delta-sonics-with-al-chesis-ppbc-member-band-7/
LOCATION:ViewHouse Littleton\, 2680 W Main St\, Littleton\, CO\, 80120\, United States
CATEGORIES:Concerts
END:VEVENT
END:VCALENDAR