BEGIN:VCALENDAR
VERSION:2.0
PRODID:-//Pikes Peak Blues Community - ECPv6.15.20//NONSGML v1.0//EN
CALSCALE:GREGORIAN
METHOD:PUBLISH
X-WR-CALNAME:Pikes Peak Blues Community
X-ORIGINAL-URL:https://pikespkblues.org
X-WR-CALDESC:Events for Pikes Peak Blues Community
REFRESH-INTERVAL;VALUE=DURATION:PT1H
X-Robots-Tag:noindex
X-PUBLISHED-TTL:PT1H
BEGIN:VTIMEZONE
TZID:America/Denver
BEGIN:DAYLIGHT
TZOFFSETFROM:-0700
TZOFFSETTO:-0600
TZNAME:MDT
DTSTART:20240310T090000
END:DAYLIGHT
BEGIN:STANDARD
TZOFFSETFROM:-0600
TZOFFSETTO:-0700
TZNAME:MST
DTSTART:20241103T080000
END:STANDARD
BEGIN:DAYLIGHT
TZOFFSETFROM:-0700
TZOFFSETTO:-0600
TZNAME:MDT
DTSTART:20250309T090000
END:DAYLIGHT
BEGIN:STANDARD
TZOFFSETFROM:-0600
TZOFFSETTO:-0700
TZNAME:MST
DTSTART:20251102T080000
END:STANDARD
BEGIN:DAYLIGHT
TZOFFSETFROM:-0700
TZOFFSETTO:-0600
TZNAME:MDT
DTSTART:20260308T090000
END:DAYLIGHT
BEGIN:STANDARD
TZOFFSETFROM:-0600
TZOFFSETTO:-0700
TZNAME:MST
DTSTART:20261101T080000
END:STANDARD
END:VTIMEZONE
BEGIN:VEVENT
DTSTART;TZID=America/Denver:20250702T180000
DTEND;TZID=America/Denver:20250702T203000
DTSTAMP:20260425T043521
CREATED:20250701T163838Z
LAST-MODIFIED:20250701T163919Z
UID:10004398-1751479200-1751488200@pikespkblues.org
SUMMARY:The Delta Sonics with Al Chesis
DESCRIPTION:The Delta Sonics with Al Chesis *** PPBC Member Band *** @ Hillside Gardens\, Colorado Springs on Wednesday\, July 2nd at 6:00 pm
URL:https://pikespkblues.org/event/the-delta-sonics-with-al-chesis-2/
LOCATION:Hillside Gardens\, 1006 S Institute St\, Colorado Springs\, CO\, 80903\, United States
CATEGORIES:Concerts
END:VEVENT
BEGIN:VEVENT
DTSTART;TZID=America/Denver:20250703T120000
DTEND;TZID=America/Denver:20250703T130000
DTSTAMP:20260425T043521
CREATED:20240608T152048Z
LAST-MODIFIED:20250205T153915Z
UID:10001917-1751544000-1751547600@pikespkblues.org
SUMMARY:Jazz 93.5 Community Blues Hour with BJ Estares
DESCRIPTION:
URL:https://pikespkblues.org/event/jazz-93-5-community-blues-hour-with-bj-estares/2025-07-03/
LOCATION:CO
END:VEVENT
BEGIN:VEVENT
DTSTART;TZID=America/Denver:20250703T170000
DTEND;TZID=America/Denver:20250703T193000
DTSTAMP:20260425T043521
CREATED:20250601T194304Z
LAST-MODIFIED:20250601T194304Z
UID:10004375-1751562000-1751571000@pikespkblues.org
SUMMARY:John Wise/Tribe
DESCRIPTION:John Wise/Tribe @ Rico’s Cafe and Wine Bar\, Colorado Springs on Thursday\, July 3rd at 5:00 pm
URL:https://pikespkblues.org/event/john-wise-tribe-9/
LOCATION:Rico’s Cafe and Wine Bar\, 322 1/2\, N Tejon St\, Colorado Springs\, CO\, 80903\, United States
CATEGORIES:Concerts
END:VEVENT
BEGIN:VEVENT
DTSTART;TZID=America/Denver:20250703T180000
DTEND;TZID=America/Denver:20250703T203000
DTSTAMP:20260425T043521
CREATED:20250701T180720Z
LAST-MODIFIED:20250701T205527Z
UID:10004399-1751565600-1751574600@pikespkblues.org
SUMMARY:The Delta Sonics Duo
DESCRIPTION:The Delta Sonics Duo *** PPBC Member Band *** @ Halo Rooftop Bar at Belleview Station\, DTC\, Denver on Thursday\, July 3rd at 6:30 pm
URL:https://pikespkblues.org/event/delta-sonics-duo-2/
LOCATION:Halo Rooftop Bar Denver DTC – Belleview Station\, 6885 E Chenango Ave\, Denver\, CO\, 80237\, United States
CATEGORIES:Concerts
END:VEVENT
BEGIN:VEVENT
DTSTART;TZID=America/Denver:20250703T190000
DTEND;TZID=America/Denver:20250703T220000
DTSTAMP:20260425T043521
CREATED:20250507T020609Z
LAST-MODIFIED:20250619T231532Z
UID:10004369-1751569200-1751580000@pikespkblues.org
SUMMARY:Steve Shwen and Hoodoo Honey
DESCRIPTION:A Summer Blues Night with Steve Shwen and Hoodoo Honey @ Good Company Restaurant and Bar\, 7625 N Union Blvd\, Colorado Springs on Thursday\, July 3rd at 7:00 pm. Entry $10.00 \nPlease note that if you purchase tickets online\, there may appear to be a delay in processing. To avoid purchasing multiple tickets\, please check your email to see if you have received your tickets or send an email to info@pikespkblues.org and ask us to confirm that you do have tickets for the event. Thank you.
URL:https://pikespkblues.org/event/steve-shwen-and-hoodoo-honey/
LOCATION:Good Company Restaurant and Bar\, 7625 N Union Blvd\, Colorado Springs\, CO\, 80920\, United States
CATEGORIES:Concerts
END:VEVENT
BEGIN:VEVENT
DTSTART;TZID=America/Denver:20250704T120000
DTEND;TZID=America/Denver:20250704T130000
DTSTAMP:20260425T043521
CREATED:20240608T152048Z
LAST-MODIFIED:20250205T153915Z
UID:10001918-1751630400-1751634000@pikespkblues.org
SUMMARY:Jazz 93.5 Community Blues Hour with BJ Estares
DESCRIPTION:
URL:https://pikespkblues.org/event/jazz-93-5-community-blues-hour-with-bj-estares/2025-07-04/
LOCATION:CO
END:VEVENT
BEGIN:VEVENT
DTSTART;TZID=America/Denver:20250704T120000
DTEND;TZID=America/Denver:20250704T170000
DTSTAMP:20260425T043521
CREATED:20250701T193046Z
LAST-MODIFIED:20250701T193046Z
UID:10004403-1751630400-1751648400@pikespkblues.org
SUMMARY:The Delta Sonics with Al Chesis at The Cherry Creek Arts Festival\, Denver
DESCRIPTION:The Delta Sonics @ The Cherry Creek Arts Festival\, Denver on Friday\, July 4th from 10:30 am to noon
URL:https://pikespkblues.org/event/the-delta-sonics-with-al-chesis-at-the-cherry-creek-arts-festival-denver/
LOCATION:Cherry Creek Arts Festival\, Cherry Creek North\, Fillmore Plaza\, Denver\, CO\, 80206\, United States
CATEGORIES:Concerts
END:VEVENT
BEGIN:VEVENT
DTSTART;TZID=America/Denver:20250705T180000
DTEND;TZID=America/Denver:20250705T203000
DTSTAMP:20260425T043521
CREATED:20250601T194551Z
LAST-MODIFIED:20250601T194551Z
UID:10004376-1751738400-1751747400@pikespkblues.org
SUMMARY:Rafiel and The Roomshakers
DESCRIPTION:Rafiel and The Roomshakers @ Rico’s Cafe and Wine Bar\, Colorado Springs on Saturday\, July 5th at 6:00 pm
URL:https://pikespkblues.org/event/rafiel-and-the-roomshakers-4/
LOCATION:Rico’s Cafe and Wine Bar\, 322 1/2\, N Tejon St\, Colorado Springs\, CO\, 80903\, United States
CATEGORIES:Concerts
END:VEVENT
BEGIN:VEVENT
DTSTART;TZID=America/Denver:20250706T130000
DTEND;TZID=America/Denver:20250706T160000
DTSTAMP:20260425T043521
CREATED:20250701T183330Z
LAST-MODIFIED:20250701T183330Z
UID:10004400-1751806800-1751817600@pikespkblues.org
SUMMARY:The Delta Sonics with Al Chesis
DESCRIPTION:The Delta Sonics with Al Chesis *** PPBC Member Band *** @ Platte River Bar & Grill (on the patio)\, Littleton on Sunday\, Jul6th at 1:00 pm
URL:https://pikespkblues.org/event/the-delta-sonics-with-al-chesis-3/
LOCATION:Platte River Bar & Grill\, 5995 S Santa Fe Dr\, Littleton\, CO\, 80120\, United States
CATEGORIES:Concerts
END:VEVENT
BEGIN:VEVENT
DTSTART;TZID=America/Denver:20250707T120000
DTEND;TZID=America/Denver:20250707T130000
DTSTAMP:20260425T043521
CREATED:20240608T152048Z
LAST-MODIFIED:20250205T153915Z
UID:10001919-1751889600-1751893200@pikespkblues.org
SUMMARY:Jazz 93.5 Community Blues Hour with BJ Estares
DESCRIPTION:
URL:https://pikespkblues.org/event/jazz-93-5-community-blues-hour-with-bj-estares/2025-07-07/
LOCATION:CO
END:VEVENT
BEGIN:VEVENT
DTSTART;TZID=America/Denver:20250708T120000
DTEND;TZID=America/Denver:20250708T130000
DTSTAMP:20260425T043521
CREATED:20240608T152048Z
LAST-MODIFIED:20250205T153915Z
UID:10001920-1751976000-1751979600@pikespkblues.org
SUMMARY:Jazz 93.5 Community Blues Hour with BJ Estares
DESCRIPTION:
URL:https://pikespkblues.org/event/jazz-93-5-community-blues-hour-with-bj-estares/2025-07-08/
LOCATION:CO
END:VEVENT
BEGIN:VEVENT
DTSTART;TZID=America/Denver:20250708T173000
DTEND;TZID=America/Denver:20250708T193000
DTSTAMP:20260425T043521
CREATED:20250602T172557Z
LAST-MODIFIED:20250603T162205Z
UID:10004382-1751995800-1752003000@pikespkblues.org
SUMMARY:The Vindicators
DESCRIPTION:The Vindicators @ Bancroft Park\, Old Colorado City on Tuesday\, July 8th at 5:30 pm\nPart of Dizzy Charlie’s Music & Events “Tuesdays in Bancroft Park” free Summer Music Series
URL:https://pikespkblues.org/event/the-vindicators/
LOCATION:Bancroft Park\, 2408 W Colorado Ave\, Colorado Springs\, 80904\, United States
CATEGORIES:Concerts
END:VEVENT
BEGIN:VEVENT
DTSTART;TZID=America/Denver:20250709T120000
DTEND;TZID=America/Denver:20250709T130000
DTSTAMP:20260425T043521
CREATED:20240608T152048Z
LAST-MODIFIED:20250205T153915Z
UID:10001921-1752062400-1752066000@pikespkblues.org
SUMMARY:Jazz 93.5 Community Blues Hour with BJ Estares
DESCRIPTION:
URL:https://pikespkblues.org/event/jazz-93-5-community-blues-hour-with-bj-estares/2025-07-09/
LOCATION:CO
END:VEVENT
BEGIN:VEVENT
DTSTART;TZID=America/Denver:20250709T193000
DTEND;TZID=America/Denver:20250709T223000
DTSTAMP:20260425T043521
CREATED:20250701T185654Z
LAST-MODIFIED:20250701T185654Z
UID:10004401-1752089400-1752100200@pikespkblues.org
SUMMARY:The Delta Sonics with Al Chesis
DESCRIPTION:The Delta Sonics *** PPBC Member Band *** @ Ophelia’s Free Basement Sessions at Ophelia’s Electric Soapbox\, Denver on Wednesday\, July 9th at 7:30 pm\n  
URL:https://pikespkblues.org/event/the-delta-sonics-with-al-chesis-4/
LOCATION:Ophelia’s Electric Soapbox\, 1215 20th St\, Denver\, CO\, 80202\, United States
CATEGORIES:Concerts
END:VEVENT
BEGIN:VEVENT
DTSTART;TZID=America/Denver:20250710T120000
DTEND;TZID=America/Denver:20250710T130000
DTSTAMP:20260425T043521
CREATED:20240608T152048Z
LAST-MODIFIED:20250205T153915Z
UID:10001922-1752148800-1752152400@pikespkblues.org
SUMMARY:Jazz 93.5 Community Blues Hour with BJ Estares
DESCRIPTION:
URL:https://pikespkblues.org/event/jazz-93-5-community-blues-hour-with-bj-estares/2025-07-10/
LOCATION:CO
END:VEVENT
BEGIN:VEVENT
DTSTART;TZID=America/Denver:20250710T170000
DTEND;TZID=America/Denver:20250710T200000
DTSTAMP:20260425T043521
CREATED:20250706T162608Z
LAST-MODIFIED:20250706T163942Z
UID:10004412-1752166800-1752177600@pikespkblues.org
SUMMARY:Tommy Saxman Duo
DESCRIPTION:Tommy Saxman Duo @ Art on the Mesa\, Gold Hill Mesa\, Colorado Springs on Thursday\, July 10th at 5:00 pm
URL:https://pikespkblues.org/event/tommy-saxman-duo/
LOCATION:Art on the Mesa\, 142 S Raven Mine Dr Suite 200\, Colorado Springs\, CO\, 80905\, United States
CATEGORIES:Concerts
END:VEVENT
BEGIN:VEVENT
DTSTART;TZID=America/Denver:20250711T120000
DTEND;TZID=America/Denver:20250711T130000
DTSTAMP:20260425T043521
CREATED:20240608T152048Z
LAST-MODIFIED:20250205T153915Z
UID:10001923-1752235200-1752238800@pikespkblues.org
SUMMARY:Jazz 93.5 Community Blues Hour with BJ Estares
DESCRIPTION:
URL:https://pikespkblues.org/event/jazz-93-5-community-blues-hour-with-bj-estares/2025-07-11/
LOCATION:CO
END:VEVENT
BEGIN:VEVENT
DTSTART;TZID=America/Denver:20250711T190000
DTEND;TZID=America/Denver:20250711T220000
DTSTAMP:20260425T043521
CREATED:20250708T145017Z
LAST-MODIFIED:20250708T145422Z
UID:10004416-1752260400-1752271200@pikespkblues.org
SUMMARY:Tab Benoit - 'I Hear Thunder 2025 Tour' with special guests Too Slim and the Taildraggers
DESCRIPTION:CONCERT SOLD OUT – CONCERT SOLD OUT \nTab Benoit ‘I Hear Thunder Tour 2025’ with special guests Too Slim and the Taildraggers @ Stargazers Theatre\, Colorado Springs on Friday\, July 11th at 7:00 pm. Doors open at 6:00 pm \nCONCERT SOLD OUT – CONCERT SOLD OUT
URL:https://pikespkblues.org/event/tab-benoit-i-hear-thunder-2025-tour/
LOCATION:Stargazers Theatre\, 10 S Parkside Dr\, Colorado Springs\, CO\, 80910\, United States
CATEGORIES:Concerts
END:VEVENT
BEGIN:VEVENT
DTSTART;TZID=America/Denver:20250712T160000
DTEND;TZID=America/Denver:20250712T183000
DTSTAMP:20260425T043521
CREATED:20250628T191635Z
LAST-MODIFIED:20250628T192543Z
UID:10004395-1752336000-1752345000@pikespkblues.org
SUMMARY:Stevie P and The Hard Road
DESCRIPTION:Stevie P and The Hard Road @ Woodmen Hills Recreation Center East – RCE Pavilion on Saturday\, July 12th at 4:00 pm
URL:https://pikespkblues.org/event/stevie-p-and-the-hard-road/
LOCATION:Woodmen Hills Recreation Center East – RCE Pavilion\, 9205 Meridian Ranch Blvd\, Peyton\, CO\, 80831\, United States
CATEGORIES:Concerts
END:VEVENT
BEGIN:VEVENT
DTSTART;TZID=America/Denver:20250712T180000
DTEND;TZID=America/Denver:20250712T210000
DTSTAMP:20260425T043521
CREATED:20250602T163555Z
LAST-MODIFIED:20250602T163555Z
UID:10004377-1752343200-1752354000@pikespkblues.org
SUMMARY:Hoodoo Honey
DESCRIPTION:Hoodoo Honey ** PPBC Band Member ** @ Summa Taphouse\, Colorado Springs on Saturday\, July 12th at 6:00 pm
URL:https://pikespkblues.org/event/hoodoo-honey-13/
LOCATION:Summa\, 817 W. Colorado Ave\, Colorado Springs\, CO\, 80905\, United States
CATEGORIES:Concerts
END:VEVENT
BEGIN:VEVENT
DTSTART;TZID=America/Denver:20250713T120000
DTEND;TZID=America/Denver:20250713T150000
DTSTAMP:20260425T043521
CREATED:20250701T191626Z
LAST-MODIFIED:20250701T205828Z
UID:10004402-1752408000-1752418800@pikespkblues.org
SUMMARY:The Delta Sonics Duo
DESCRIPTION:The Delta Sonics Duo *** PPBC Member Band *** @ Teller’s Taproom & Kitchen\, Lakewood on Sunday\, July 13th at 12:00 pm
URL:https://pikespkblues.org/event/delta-sonics-duo-with-al-chesis/
LOCATION:Teller’s Taproom & Kitchen\, 1990 Youngfield St\, Lakewood\, CO\, 80215\, United States
CATEGORIES:Concerts
END:VEVENT
BEGIN:VEVENT
DTSTART;TZID=America/Denver:20250714T120000
DTEND;TZID=America/Denver:20250714T130000
DTSTAMP:20260425T043521
CREATED:20240608T152048Z
LAST-MODIFIED:20250205T153915Z
UID:10001924-1752494400-1752498000@pikespkblues.org
SUMMARY:Jazz 93.5 Community Blues Hour with BJ Estares
DESCRIPTION:
URL:https://pikespkblues.org/event/jazz-93-5-community-blues-hour-with-bj-estares/2025-07-14/
LOCATION:CO
END:VEVENT
BEGIN:VEVENT
DTSTART;TZID=America/Denver:20250715T120000
DTEND;TZID=America/Denver:20250715T130000
DTSTAMP:20260425T043521
CREATED:20240608T152048Z
LAST-MODIFIED:20250205T153915Z
UID:10001925-1752580800-1752584400@pikespkblues.org
SUMMARY:Jazz 93.5 Community Blues Hour with BJ Estares
DESCRIPTION:
URL:https://pikespkblues.org/event/jazz-93-5-community-blues-hour-with-bj-estares/2025-07-15/
LOCATION:CO
END:VEVENT
BEGIN:VEVENT
DTSTART;TZID=America/Denver:20250715T173000
DTEND;TZID=America/Denver:20250715T193000
DTSTAMP:20260425T043521
CREATED:20250316T170657Z
LAST-MODIFIED:20250603T172816Z
UID:10004316-1752600600-1752607800@pikespkblues.org
SUMMARY:Hoodoo Honey - PPBC Paint The Town Blue free public concert
DESCRIPTION:Hoodoo Honey – PPBC Paint The Town Blue free public concert in Bancroft Park\, Old Colorado City on Tuesday\, July 15th at 5:30 pm
URL:https://pikespkblues.org/event/hoodoo-honey-ppbc-paint-the-town-blue-free-public-concert/
LOCATION:Bancroft Park\, 2408 W Colorado Ave\, Colorado Springs\, 80904\, United States
CATEGORIES:Concerts
END:VEVENT
BEGIN:VEVENT
DTSTART;TZID=America/Denver:20250715T184500
DTEND;TZID=America/Denver:20250715T220000
DTSTAMP:20260425T043521
CREATED:20250625T193047Z
LAST-MODIFIED:20250625T193047Z
UID:10004393-1752605100-1752616800@pikespkblues.org
SUMMARY:Hundred Pound Housecat
DESCRIPTION:Hundred Pound Housecat @ Roots Music Project\, Boulder on Tuesday\, July 15th at 6:45 pm
URL:https://pikespkblues.org/event/hundred-pound-housecat/
LOCATION:Roots Music Project\, 4747 Pearl St Suite V3A\, Boulder\, CO\, 80301
CATEGORIES:Concerts
END:VEVENT
BEGIN:VEVENT
DTSTART;TZID=America/Denver:20250716T120000
DTEND;TZID=America/Denver:20250716T130000
DTSTAMP:20260425T043521
CREATED:20240608T152048Z
LAST-MODIFIED:20250205T153915Z
UID:10001926-1752667200-1752670800@pikespkblues.org
SUMMARY:Jazz 93.5 Community Blues Hour with BJ Estares
DESCRIPTION:
URL:https://pikespkblues.org/event/jazz-93-5-community-blues-hour-with-bj-estares/2025-07-16/
LOCATION:CO
END:VEVENT
BEGIN:VEVENT
DTSTART;TZID=America/Denver:20250716T190000
DTEND;TZID=America/Denver:20250716T190000
DTSTAMP:20260425T043521
CREATED:20250709T175232Z
LAST-MODIFIED:20250709T175248Z
UID:10004418-1752692400-1752692400@pikespkblues.org
SUMMARY:Curley Taylor and Zydeco Trouble
DESCRIPTION:Curley Taylor and Zydeco Trouble @ Heroes Bar & Grill\, Thorton on Tuesday\, July 16th at 7:00 pm. Doors open at 6:00 pm. Zydeco dance lesson from 6:30 – 7:30 pm. Admission: $20.00
URL:https://pikespkblues.org/event/curley-taylor-and-zydeco-trouble/
LOCATION:Heroes Bar & Grill\, 10217 Quivas St\, Thorton\, CO\, 80260\, United States
CATEGORIES:Concerts
END:VEVENT
BEGIN:VEVENT
DTSTART;TZID=America/Denver:20250716T190000
DTEND;TZID=America/Denver:20250716T213000
DTSTAMP:20260425T043521
CREATED:20250618T180920Z
LAST-MODIFIED:20250618T180920Z
UID:10004389-1752692400-1752701400@pikespkblues.org
SUMMARY:Deborah Stafford and the Night Stalkers - Etta James Tribute
DESCRIPTION:Deborah Stafford and the Night Stalkers – Etta James Tribute @ Dazzle\, Denver on Tuesday\, July 16th at 7:00 pm
URL:https://pikespkblues.org/event/deborah-stafford-and-the-night-stalkers-etta-james-tribute/
LOCATION:Dazzle\, 1080 14th Street\, Denver\, CO\, 80202
CATEGORIES:Concerts
END:VEVENT
BEGIN:VEVENT
DTSTART;TZID=America/Denver:20250717T120000
DTEND;TZID=America/Denver:20250717T130000
DTSTAMP:20260425T043521
CREATED:20240608T152048Z
LAST-MODIFIED:20250205T153915Z
UID:10001927-1752753600-1752757200@pikespkblues.org
SUMMARY:Jazz 93.5 Community Blues Hour with BJ Estares
DESCRIPTION:
URL:https://pikespkblues.org/event/jazz-93-5-community-blues-hour-with-bj-estares/2025-07-17/
LOCATION:CO
END:VEVENT
BEGIN:VEVENT
DTSTART;TZID=America/Denver:20250717T180000
DTEND;TZID=America/Denver:20250717T200000
DTSTAMP:20260425T043521
CREATED:20250707T205914Z
LAST-MODIFIED:20250707T205915Z
UID:10004414-1752775200-1752782400@pikespkblues.org
SUMMARY:Tommy Saxman and Rob Landreth at Good Trouble Lives On - Acacia Park
DESCRIPTION:Tommy Saxman and Rob Landreth @ Good Trouble Lives On – Acacia Park\, Colorado Springs on Thursday\, July 17th at 6:00 pm
URL:https://pikespkblues.org/event/tommy-saxman-and-rob-landreth-at-good-trouble-lives-on-acacia-park/
LOCATION:Acacia Park\, 225 N Nevada Ave\, Colorado Springs\, CO\, 80903\, United States
CATEGORIES:Concerts
END:VEVENT
END:VCALENDAR