BEGIN:VCALENDAR
VERSION:2.0
PRODID:-//Pikes Peak Blues Community - ECPv6.15.20//NONSGML v1.0//EN
CALSCALE:GREGORIAN
METHOD:PUBLISH
X-ORIGINAL-URL:https://pikespkblues.org
X-WR-CALDESC:Events for Pikes Peak Blues Community
REFRESH-INTERVAL;VALUE=DURATION:PT1H
X-Robots-Tag:noindex
X-PUBLISHED-TTL:PT1H
BEGIN:VTIMEZONE
TZID:America/Denver
BEGIN:DAYLIGHT
TZOFFSETFROM:-0700
TZOFFSETTO:-0600
TZNAME:MDT
DTSTART:20240310T090000
END:DAYLIGHT
BEGIN:STANDARD
TZOFFSETFROM:-0600
TZOFFSETTO:-0700
TZNAME:MST
DTSTART:20241103T080000
END:STANDARD
BEGIN:DAYLIGHT
TZOFFSETFROM:-0700
TZOFFSETTO:-0600
TZNAME:MDT
DTSTART:20250309T090000
END:DAYLIGHT
BEGIN:STANDARD
TZOFFSETFROM:-0600
TZOFFSETTO:-0700
TZNAME:MST
DTSTART:20251102T080000
END:STANDARD
BEGIN:DAYLIGHT
TZOFFSETFROM:-0700
TZOFFSETTO:-0600
TZNAME:MDT
DTSTART:20260308T090000
END:DAYLIGHT
BEGIN:STANDARD
TZOFFSETFROM:-0600
TZOFFSETTO:-0700
TZNAME:MST
DTSTART:20261101T080000
END:STANDARD
END:VTIMEZONE
BEGIN:VEVENT
DTSTART;TZID=America/Denver:20250314T120000
DTEND;TZID=America/Denver:20250314T130000
DTSTAMP:20260425T063144
CREATED:20240608T152048Z
LAST-MODIFIED:20250205T153915Z
UID:10001838-1741953600-1741957200@pikespkblues.org
SUMMARY:Jazz 93.5 Community Blues Hour with BJ Estares
DESCRIPTION:
URL:https://pikespkblues.org/event/jazz-93-5-community-blues-hour-with-bj-estares/2025-03-14/
LOCATION:CO
END:VEVENT
BEGIN:VEVENT
DTSTART;TZID=America/Denver:20250314T190000
DTEND;TZID=America/Denver:20250314T220000
DTSTAMP:20260425T063144
CREATED:20250311T104942Z
LAST-MODIFIED:20250311T104942Z
UID:10004311-1741978800-1741989600@pikespkblues.org
SUMMARY:Tommy Castro and The Painkillers
DESCRIPTION:Tommy Castro and The Painkillers @ Stargazers Theatre\, 10 S Parkside Dr (80910) on Friday\, March 14th at 7:00 pm
URL:https://pikespkblues.org/event/tommy-castro-and-the-painkillers/
LOCATION:Stargazers Theatre\, 10 S Parkside Dr\, Colorado Springs\, CO\, 80910\, United States
CATEGORIES:Concerts
END:VEVENT
BEGIN:VEVENT
DTSTART;TZID=America/Denver:20250315T180000
DTEND;TZID=America/Denver:20250315T210000
DTSTAMP:20260425T063144
CREATED:20250211T202244Z
LAST-MODIFIED:20250211T203934Z
UID:10004297-1742061600-1742072400@pikespkblues.org
SUMMARY:Hoodoo Honey
DESCRIPTION:Celebrate St. Patrick’s early with Hoodoo Honey and some Soulful Seafood @ Luchals-Fountain on Saturday\, March 15th at 6:00 pm
URL:https://pikespkblues.org/event/hoodoo-honey-11/
LOCATION:Luchals\, 6436 Suite M US 85/87\, Fountain\, CO\, 80817\, United States
CATEGORIES:Concerts
END:VEVENT
BEGIN:VEVENT
DTSTART;TZID=America/Denver:20250316T190000
DTEND;TZID=America/Denver:20250316T213000
DTSTAMP:20260425T063144
CREATED:20250225T170625Z
LAST-MODIFIED:20250306T192158Z
UID:10004303-1742151600-1742160600@pikespkblues.org
SUMMARY:Sue Foley
DESCRIPTION:Sue Foley @ Roots Music Project\, Boulder on Sunday\, March 16th at 7:00 pm
URL:https://pikespkblues.org/event/sue-foley/
LOCATION:Roots Music Project\, 4747 Pearl St Suite V3A\, Boulder\, CO\, 80301
CATEGORIES:Concerts
END:VEVENT
BEGIN:VEVENT
DTSTART;TZID=America/Denver:20250316T190000
DTEND;TZID=America/Denver:20250316T220000
DTSTAMP:20260425T063144
CREATED:20241230T172524Z
LAST-MODIFIED:20241230T172524Z
UID:10004100-1742151600-1742162400@pikespkblues.org
SUMMARY:Ronnie Baker Brooks (Album Release Show) with The Delta Sonics
DESCRIPTION:Ronnie Baker Brooks (Album Release Show) with The Delta Sonics @ Oriental Theater\, Denver on March 16th 7:00 pm
URL:https://pikespkblues.org/event/ronnie-baker-brooks-album-release-show-with-the-delta-sonics/
LOCATION:Oriental Theater\, 4335 W 44th Ave\, Denver\, CO\, 80212\, United States
CATEGORIES:Concerts
END:VEVENT
BEGIN:VEVENT
DTSTART;TZID=America/Denver:20250317T120000
DTEND;TZID=America/Denver:20250317T130000
DTSTAMP:20260425T063144
CREATED:20240608T152048Z
LAST-MODIFIED:20250205T153915Z
UID:10001839-1742212800-1742216400@pikespkblues.org
SUMMARY:Jazz 93.5 Community Blues Hour with BJ Estares
DESCRIPTION:
URL:https://pikespkblues.org/event/jazz-93-5-community-blues-hour-with-bj-estares/2025-03-17/
LOCATION:CO
END:VEVENT
BEGIN:VEVENT
DTSTART;TZID=America/Denver:20250318T120000
DTEND;TZID=America/Denver:20250318T130000
DTSTAMP:20260425T063144
CREATED:20240608T152048Z
LAST-MODIFIED:20250205T153915Z
UID:10001840-1742299200-1742302800@pikespkblues.org
SUMMARY:Jazz 93.5 Community Blues Hour with BJ Estares
DESCRIPTION:
URL:https://pikespkblues.org/event/jazz-93-5-community-blues-hour-with-bj-estares/2025-03-18/
LOCATION:CO
END:VEVENT
BEGIN:VEVENT
DTSTART;TZID=America/Denver:20250318T190000
DTEND;TZID=America/Denver:20250318T203000
DTSTAMP:20260425T063144
CREATED:20250316T141432Z
LAST-MODIFIED:20250316T141432Z
UID:10004313-1742324400-1742329800@pikespkblues.org
SUMMARY:Albert Castiglia
DESCRIPTION:Albert Castiglia @ Buzzed Crow Bistro\, 5853 Palmer Park Blvd on Tuesday\, March 18th at 7:00 pm – Free concert
URL:https://pikespkblues.org/event/albert-castiglia/
LOCATION:Buzzed Crow Bistro\, 5853 Palmer Park Blvd\, Colorado Springs\, CO\, United States
CATEGORIES:Concerts
END:VEVENT
BEGIN:VEVENT
DTSTART;TZID=America/Denver:20250319T120000
DTEND;TZID=America/Denver:20250319T130000
DTSTAMP:20260425T063144
CREATED:20240608T152048Z
LAST-MODIFIED:20250205T153915Z
UID:10001841-1742385600-1742389200@pikespkblues.org
SUMMARY:Jazz 93.5 Community Blues Hour with BJ Estares
DESCRIPTION:
URL:https://pikespkblues.org/event/jazz-93-5-community-blues-hour-with-bj-estares/2025-03-19/
LOCATION:CO
END:VEVENT
BEGIN:VEVENT
DTSTART;TZID=America/Denver:20250320T120000
DTEND;TZID=America/Denver:20250320T130000
DTSTAMP:20260425T063144
CREATED:20240608T152048Z
LAST-MODIFIED:20250205T153915Z
UID:10001842-1742472000-1742475600@pikespkblues.org
SUMMARY:Jazz 93.5 Community Blues Hour with BJ Estares
DESCRIPTION:
URL:https://pikespkblues.org/event/jazz-93-5-community-blues-hour-with-bj-estares/2025-03-20/
LOCATION:CO
END:VEVENT
BEGIN:VEVENT
DTSTART;TZID=America/Denver:20250321T120000
DTEND;TZID=America/Denver:20250321T130000
DTSTAMP:20260425T063144
CREATED:20240608T152048Z
LAST-MODIFIED:20250205T153915Z
UID:10001843-1742558400-1742562000@pikespkblues.org
SUMMARY:Jazz 93.5 Community Blues Hour with BJ Estares
DESCRIPTION:
URL:https://pikespkblues.org/event/jazz-93-5-community-blues-hour-with-bj-estares/2025-03-21/
LOCATION:CO
END:VEVENT
BEGIN:VEVENT
DTSTART;TZID=America/Denver:20250321T183000
DTEND;TZID=America/Denver:20250321T210000
DTSTAMP:20260425T063144
CREATED:20250225T180459Z
LAST-MODIFIED:20250317T195904Z
UID:10004305-1742581800-1742590800@pikespkblues.org
SUMMARY:The Hollywood Fats Band Tribute Show featuring Joe Sciallo & The Deep End\, with Al Chesis
DESCRIPTION:Dizzy Charlie’s and Pikes Peak Blues Community proudly bring you the FIRST Annual Tribute Show to the legendary Hollywood Fats Band featuring Joe Sciallo & The Deep End\, with Al Chesis from the Delta Sonics at The Public House at The Alexander\, 3104 N Nevada Ave on Friday\, March 21st at 7:00 pm – Doors open at 6:30 pm. Tickets are $10.00 and are available at https://www.dizzycharlies.com/schedule/1st-annual-tribute-to-hollywood-fats-band. \n\nThe Hollywood Fats Band\, circa 1978. Michael “Hollywood Fats” Mann\, Al Blake\, Richard Innes\, Larry Taylor\, and Fred Kaplan. \nFor more on the Hollywood Fats Band\, see https://bluesjunctionproductions.com/re-visited_the_hollywood_fats_band.
URL:https://pikespkblues.org/event/the-hollywood-fats-band-tribute-show-featuring-joe-sciallo-the-deep-end-with-al-chesis/
LOCATION:The Public House at The Alexander\, 3104 N Nevada Ave\, Colorado Springs\, CO\, 80907\, United States
CATEGORIES:Concerts
END:VEVENT
BEGIN:VEVENT
DTSTART;TZID=America/Denver:20250323T140000
DTEND;TZID=America/Denver:20250323T180000
DTSTAMP:20260425T063144
CREATED:20250130T004504Z
LAST-MODIFIED:20250130T004504Z
UID:10004125-1742738400-1742752800@pikespkblues.org
SUMMARY:Colorado Blues Society Members Choice Awards 30th Anniversary Celebration featuring Jeremiah Johnson and 100 Pound Housecat (2025 Semi-Finalist International Blues Challenge)
DESCRIPTION:
URL:https://pikespkblues.org/event/colorado-blues-society-members-choice-awards-30th-anniversary-celebration-featuring-jeremiah-johnson-and-100-pound-housecat-2025-semi-finalist-international-blues-challenge/
LOCATION:Buffalo Rose\, 1119 Washington Ave\, Golden\, CO\, 80401
CATEGORIES:Concerts
END:VEVENT
BEGIN:VEVENT
DTSTART;TZID=America/Denver:20250324T120000
DTEND;TZID=America/Denver:20250324T130000
DTSTAMP:20260425T063144
CREATED:20240608T152048Z
LAST-MODIFIED:20250205T153915Z
UID:10001844-1742817600-1742821200@pikespkblues.org
SUMMARY:Jazz 93.5 Community Blues Hour with BJ Estares
DESCRIPTION:
URL:https://pikespkblues.org/event/jazz-93-5-community-blues-hour-with-bj-estares/2025-03-24/
LOCATION:CO
END:VEVENT
BEGIN:VEVENT
DTSTART;TZID=America/Denver:20250325T120000
DTEND;TZID=America/Denver:20250325T130000
DTSTAMP:20260425T063144
CREATED:20240608T152048Z
LAST-MODIFIED:20250205T153915Z
UID:10001845-1742904000-1742907600@pikespkblues.org
SUMMARY:Jazz 93.5 Community Blues Hour with BJ Estares
DESCRIPTION:
URL:https://pikespkblues.org/event/jazz-93-5-community-blues-hour-with-bj-estares/2025-03-25/
LOCATION:CO
END:VEVENT
BEGIN:VEVENT
DTSTART;TZID=America/Denver:20250326T120000
DTEND;TZID=America/Denver:20250326T130000
DTSTAMP:20260425T063144
CREATED:20240608T152048Z
LAST-MODIFIED:20250205T153915Z
UID:10001846-1742990400-1742994000@pikespkblues.org
SUMMARY:Jazz 93.5 Community Blues Hour with BJ Estares
DESCRIPTION:
URL:https://pikespkblues.org/event/jazz-93-5-community-blues-hour-with-bj-estares/2025-03-26/
LOCATION:CO
END:VEVENT
BEGIN:VEVENT
DTSTART;TZID=America/Denver:20250327T120000
DTEND;TZID=America/Denver:20250327T130000
DTSTAMP:20260425T063144
CREATED:20240608T152048Z
LAST-MODIFIED:20250205T153915Z
UID:10001847-1743076800-1743080400@pikespkblues.org
SUMMARY:Jazz 93.5 Community Blues Hour with BJ Estares
DESCRIPTION:
URL:https://pikespkblues.org/event/jazz-93-5-community-blues-hour-with-bj-estares/2025-03-27/
LOCATION:CO
END:VEVENT
BEGIN:VEVENT
DTSTART;TZID=America/Denver:20250328T120000
DTEND;TZID=America/Denver:20250328T130000
DTSTAMP:20260425T063144
CREATED:20240608T152048Z
LAST-MODIFIED:20250205T153915Z
UID:10001848-1743163200-1743166800@pikespkblues.org
SUMMARY:Jazz 93.5 Community Blues Hour with BJ Estares
DESCRIPTION:
URL:https://pikespkblues.org/event/jazz-93-5-community-blues-hour-with-bj-estares/2025-03-28/
LOCATION:CO
END:VEVENT
BEGIN:VEVENT
DTSTART;TZID=America/Denver:20250331T120000
DTEND;TZID=America/Denver:20250331T130000
DTSTAMP:20260425T063144
CREATED:20240608T152048Z
LAST-MODIFIED:20250205T153915Z
UID:10001849-1743422400-1743426000@pikespkblues.org
SUMMARY:Jazz 93.5 Community Blues Hour with BJ Estares
DESCRIPTION:
URL:https://pikespkblues.org/event/jazz-93-5-community-blues-hour-with-bj-estares/2025-03-31/
LOCATION:CO
END:VEVENT
BEGIN:VEVENT
DTSTART;TZID=America/Denver:20250401T120000
DTEND;TZID=America/Denver:20250401T130000
DTSTAMP:20260425T063144
CREATED:20240608T152048Z
LAST-MODIFIED:20250205T153915Z
UID:10001850-1743508800-1743512400@pikespkblues.org
SUMMARY:Jazz 93.5 Community Blues Hour with BJ Estares
DESCRIPTION:
URL:https://pikespkblues.org/event/jazz-93-5-community-blues-hour-with-bj-estares/2025-04-01/
LOCATION:CO
END:VEVENT
BEGIN:VEVENT
DTSTART;TZID=America/Denver:20250402T120000
DTEND;TZID=America/Denver:20250402T130000
DTSTAMP:20260425T063144
CREATED:20240608T152048Z
LAST-MODIFIED:20250205T153915Z
UID:10001851-1743595200-1743598800@pikespkblues.org
SUMMARY:Jazz 93.5 Community Blues Hour with BJ Estares
DESCRIPTION:
URL:https://pikespkblues.org/event/jazz-93-5-community-blues-hour-with-bj-estares/2025-04-02/
LOCATION:CO
END:VEVENT
BEGIN:VEVENT
DTSTART;TZID=America/Denver:20250403T120000
DTEND;TZID=America/Denver:20250403T130000
DTSTAMP:20260425T063144
CREATED:20240608T152048Z
LAST-MODIFIED:20250205T153915Z
UID:10001852-1743681600-1743685200@pikespkblues.org
SUMMARY:Jazz 93.5 Community Blues Hour with BJ Estares
DESCRIPTION:
URL:https://pikespkblues.org/event/jazz-93-5-community-blues-hour-with-bj-estares/2025-04-03/
LOCATION:CO
END:VEVENT
BEGIN:VEVENT
DTSTART;TZID=America/Denver:20250403T170000
DTEND;TZID=America/Denver:20250403T200000
DTSTAMP:20260425T063144
CREATED:20250402T233014Z
LAST-MODIFIED:20250402T235322Z
UID:10004344-1743699600-1743710400@pikespkblues.org
SUMMARY:John Wise/Tribe
DESCRIPTION:John Wise/Tribe @ Rico’s Café and Wine Bar\, Colorado Springs on April 3rd at 5:00 pm
URL:https://pikespkblues.org/event/john-wise-tribe-7/
LOCATION:Rico’s Cafe and Wine Bar\, 322 1/2\, N Tejon St\, Colorado Springs\, CO\, 80903\, United States
CATEGORIES:Concerts
END:VEVENT
BEGIN:VEVENT
DTSTART;TZID=America/Denver:20250403T183000
DTEND;TZID=America/Denver:20250403T213000
DTSTAMP:20260425T063144
CREATED:20250225T154024Z
LAST-MODIFIED:20250227T204623Z
UID:10004299-1743705000-1743715800@pikespkblues.org
SUMMARY:BJ Estares and Hoodoo Honey: A PPBC Benefit Concert
DESCRIPTION:BJ Estares and Hoodoo Honey: A Pikes Peak Blues Community benefit concert @ Thunder & Buttons\, 2415 W Colorado Ave\, Colorado Springs on Thursday\, April 3rd at 6:30 pm. Tickets: $10.00
URL:https://pikespkblues.org/event/bj-estares-and-hoodoo-honey/
LOCATION:Thunder & Buttons\, 2415 W Colorado Ave\, Colorado Springs\, CO\, 80904
CATEGORIES:Concerts
END:VEVENT
BEGIN:VEVENT
DTSTART;TZID=America/Denver:20250403T193000
DTEND;TZID=America/Denver:20250403T213000
DTSTAMP:20260425T063144
CREATED:20250402T195053Z
LAST-MODIFIED:20250402T195053Z
UID:10004323-1743708600-1743715800@pikespkblues.org
SUMMARY:Delta Sonics Duo
DESCRIPTION:Delta Sonics Duo @ Halo Rooftop Bar Denver DTC – Belleview Station\, Denver on Thursday\, April 3rd at 7:30 pm
URL:https://pikespkblues.org/event/delta-sonics-duo/
LOCATION:Halo Rooftop Bar Denver DTC – Belleview Station\, 6885 E Chenango Ave\, Denver\, CO\, 80237\, United States
CATEGORIES:Concerts
END:VEVENT
BEGIN:VEVENT
DTSTART;TZID=America/Denver:20250404T120000
DTEND;TZID=America/Denver:20250404T130000
DTSTAMP:20260425T063144
CREATED:20240608T152048Z
LAST-MODIFIED:20250205T153915Z
UID:10001853-1743768000-1743771600@pikespkblues.org
SUMMARY:Jazz 93.5 Community Blues Hour with BJ Estares
DESCRIPTION:
URL:https://pikespkblues.org/event/jazz-93-5-community-blues-hour-with-bj-estares/2025-04-04/
LOCATION:CO
END:VEVENT
BEGIN:VEVENT
DTSTART;TZID=America/Denver:20250404T180000
DTEND;TZID=America/Denver:20250404T210000
DTSTAMP:20260425T063144
CREATED:20250402T233230Z
LAST-MODIFIED:20250402T233230Z
UID:10004345-1743789600-1743800400@pikespkblues.org
SUMMARY:The Cleveland Experiment
DESCRIPTION:The Cleveland Experiment @ Rico’s Café and Wine Bar\, Colorado Springs on April 4th at 6:00 pm
URL:https://pikespkblues.org/event/the-cleveland-experiment-10/
LOCATION:Rico’s Cafe and Wine Bar\, 322 1/2\, N Tejon St\, Colorado Springs\, CO\, 80903\, United States
CATEGORIES:Concerts
END:VEVENT
BEGIN:VEVENT
DTSTART;TZID=America/Denver:20250404T190000
DTEND;TZID=America/Denver:20250404T213000
DTSTAMP:20260425T063144
CREATED:20250402T201359Z
LAST-MODIFIED:20250402T201359Z
UID:10004324-1743793200-1743802200@pikespkblues.org
SUMMARY:Deborah Stafford and the Night Stalkers
DESCRIPTION:  \n\nDeborah Stafford and the Night Stalkers @ The Rusty Bucket Bar and Grill\, Lakewood on Friday\, April 4th at 7:00 pm
URL:https://pikespkblues.org/event/deborah-stafford-and-the-night-stalkers/
LOCATION:The Rusty Bucket Bar and Grill\, 3355 S Wadsworth\, Lakewood\, CO\, 80277\, United States
CATEGORIES:Concerts
END:VEVENT
BEGIN:VEVENT
DTSTART;TZID=America/Denver:20250405T150000
DTEND;TZID=America/Denver:20250405T170000
DTSTAMP:20260425T063144
CREATED:20250402T202422Z
LAST-MODIFIED:20250402T202422Z
UID:10004325-1743865200-1743872400@pikespkblues.org
SUMMARY:The Delta Sonics with Erica Brown at the Denver Jazz Festival
DESCRIPTION:The Delta Sonics with Erica Brown @ Denver Center for the Performing Arts on Saturday\, April 5th at 3:00 pm
URL:https://pikespkblues.org/event/the-delta-sonics-with-erica-brown-at-the-denver-jazz-festival/
LOCATION:Denver Center for the Performing Arts\, 1400 Curtis Street\, Denver\, CO\, 80026\, United States
CATEGORIES:Concerts
END:VEVENT
BEGIN:VEVENT
DTSTART;TZID=America/Denver:20250405T180000
DTEND;TZID=America/Denver:20250405T210000
DTSTAMP:20260425T063144
CREATED:20250402T233435Z
LAST-MODIFIED:20250402T233435Z
UID:10004346-1743876000-1743886800@pikespkblues.org
SUMMARY:Rafield and The Roomshakers
DESCRIPTION:Rafiel and The Roomshakers @ Rico’s Café and Wine Bar\, Colorado Springs on April 5th at 6:00 pm
URL:https://pikespkblues.org/event/rafield-and-the-roomshakers/
LOCATION:Rico’s Cafe and Wine Bar\, 322 1/2\, N Tejon St\, Colorado Springs\, CO\, 80903\, United States
CATEGORIES:Concerts
END:VEVENT
END:VCALENDAR