BEGIN:VCALENDAR
VERSION:2.0
PRODID:-//Pikes Peak Blues Community - ECPv6.15.20//NONSGML v1.0//EN
CALSCALE:GREGORIAN
METHOD:PUBLISH
X-WR-CALNAME:Pikes Peak Blues Community
X-ORIGINAL-URL:https://pikespkblues.org
X-WR-CALDESC:Events for Pikes Peak Blues Community
REFRESH-INTERVAL;VALUE=DURATION:PT1H
X-Robots-Tag:noindex
X-PUBLISHED-TTL:PT1H
BEGIN:VTIMEZONE
TZID:America/Denver
BEGIN:DAYLIGHT
TZOFFSETFROM:-0700
TZOFFSETTO:-0600
TZNAME:MDT
DTSTART:20250309T090000
END:DAYLIGHT
BEGIN:STANDARD
TZOFFSETFROM:-0600
TZOFFSETTO:-0700
TZNAME:MST
DTSTART:20251102T080000
END:STANDARD
BEGIN:DAYLIGHT
TZOFFSETFROM:-0700
TZOFFSETTO:-0600
TZNAME:MDT
DTSTART:20260308T090000
END:DAYLIGHT
BEGIN:STANDARD
TZOFFSETFROM:-0600
TZOFFSETTO:-0700
TZNAME:MST
DTSTART:20261101T080000
END:STANDARD
BEGIN:DAYLIGHT
TZOFFSETFROM:-0700
TZOFFSETTO:-0600
TZNAME:MDT
DTSTART:20270314T090000
END:DAYLIGHT
BEGIN:STANDARD
TZOFFSETFROM:-0600
TZOFFSETTO:-0700
TZNAME:MST
DTSTART:20271107T080000
END:STANDARD
END:VTIMEZONE
BEGIN:VEVENT
DTSTART;TZID=America/Denver:20260423T120000
DTEND;TZID=America/Denver:20260423T130000
DTSTAMP:20260423T095832
CREATED:20240608T152048Z
LAST-MODIFIED:20250205T153915Z
UID:10002127-1776945600-1776949200@pikespkblues.org
SUMMARY:Jazz 93.5 Community Blues Hour with BJ Estares
DESCRIPTION:
URL:https://pikespkblues.org/event/jazz-93-5-community-blues-hour-with-bj-estares/2026-04-23/
LOCATION:CO
END:VEVENT
BEGIN:VEVENT
DTSTART;TZID=America/Denver:20260424T120000
DTEND;TZID=America/Denver:20260424T130000
DTSTAMP:20260423T095832
CREATED:20240608T152048Z
LAST-MODIFIED:20250205T153915Z
UID:10002128-1777032000-1777035600@pikespkblues.org
SUMMARY:Jazz 93.5 Community Blues Hour with BJ Estares
DESCRIPTION:
URL:https://pikespkblues.org/event/jazz-93-5-community-blues-hour-with-bj-estares/2026-04-24/
LOCATION:CO
END:VEVENT
BEGIN:VEVENT
DTSTART;TZID=America/Denver:20260425T173000
DTEND;TZID=America/Denver:20260425T203000
DTSTAMP:20260423T095832
CREATED:20260122T230834Z
LAST-MODIFIED:20260122T230834Z
UID:10005669-1777138200-1777149000@pikespkblues.org
SUMMARY:Delta Sonics with Al Chesis  *** PPBC Member Band ***
DESCRIPTION:Delta Sonics with Al Chesis @ Dazzle\, Denver on Saturday\, April 25th at 5:30 pm.
URL:https://pikespkblues.org/event/delta-sonics-with-al-chesis-ppbc-member-band-45/
LOCATION:Dazzle\, 1080 14th Street\, Denver\, CO\, 80202
CATEGORIES:Concerts
END:VEVENT
BEGIN:VEVENT
DTSTART;TZID=America/Denver:20260427T120000
DTEND;TZID=America/Denver:20260427T130000
DTSTAMP:20260423T095832
CREATED:20240608T152048Z
LAST-MODIFIED:20250205T153915Z
UID:10002129-1777291200-1777294800@pikespkblues.org
SUMMARY:Jazz 93.5 Community Blues Hour with BJ Estares
DESCRIPTION:
URL:https://pikespkblues.org/event/jazz-93-5-community-blues-hour-with-bj-estares/2026-04-27/
LOCATION:CO
END:VEVENT
BEGIN:VEVENT
DTSTART;TZID=America/Denver:20260427T183000
DTEND;TZID=America/Denver:20260427T213000
DTSTAMP:20260423T095832
CREATED:20260401T142206Z
LAST-MODIFIED:20260402T124629Z
UID:10005805-1777314600-1777325400@pikespkblues.org
SUMMARY:Stevie P. and The Hard Road   *** PPBC Member Band ***
DESCRIPTION:PPBC presents Monday Blues Review @ Louie Louie’s Piano Bar\, 522 S Tejon St (80903) featuring Stevie P. and The Hard Road on Monday\, April 27th from 6:30 pm to 9:30 pm. Cover $10.00.
URL:https://pikespkblues.org/event/stevie-p-and-the-hard-road-ppbc-member-band-2/
LOCATION:Louie Louie’s Piano Bar\, 522 S Tejon St\, Colorado Springs\, CO\, 80903\, United States
CATEGORIES:Concerts
END:VEVENT
BEGIN:VEVENT
DTSTART;TZID=America/Denver:20260428T120000
DTEND;TZID=America/Denver:20260428T130000
DTSTAMP:20260423T095832
CREATED:20240608T152048Z
LAST-MODIFIED:20250205T153915Z
UID:10002130-1777377600-1777381200@pikespkblues.org
SUMMARY:Jazz 93.5 Community Blues Hour with BJ Estares
DESCRIPTION:
URL:https://pikespkblues.org/event/jazz-93-5-community-blues-hour-with-bj-estares/2026-04-28/
LOCATION:CO
END:VEVENT
BEGIN:VEVENT
DTSTART;TZID=America/Denver:20260428T180000
DTEND;TZID=America/Denver:20260428T210000
DTSTAMP:20260423T095832
CREATED:20251004T004608Z
LAST-MODIFIED:20251004T182250Z
UID:10004809-1777399200-1777410000@pikespkblues.org
SUMMARY:Sweet T's Rude Blues Jam on Tuesdays at PEAK 31
DESCRIPTION:Sweet T’s Rude Blues Jam @ PEAK 31\, 2419 N Union Blvd (80909) on Tuesdays\, from 6:00 pm to 9:00 pm.
URL:https://pikespkblues.org/event/sweet-ts-rude-blues-jam-on-tuesdays-at-peak-31/2026-04-28/
LOCATION:PEAK 31\, 2419 N Union Blvd\, Colorado Springs\, CO\, 80909\, United States
CATEGORIES:Jams
END:VEVENT
BEGIN:VEVENT
DTSTART;TZID=America/Denver:20260429T120000
DTEND;TZID=America/Denver:20260429T130000
DTSTAMP:20260423T095832
CREATED:20240608T152048Z
LAST-MODIFIED:20250205T153915Z
UID:10002131-1777464000-1777467600@pikespkblues.org
SUMMARY:Jazz 93.5 Community Blues Hour with BJ Estares
DESCRIPTION:
URL:https://pikespkblues.org/event/jazz-93-5-community-blues-hour-with-bj-estares/2026-04-29/
LOCATION:CO
END:VEVENT
BEGIN:VEVENT
DTSTART;TZID=America/Denver:20260430T120000
DTEND;TZID=America/Denver:20260430T130000
DTSTAMP:20260423T095832
CREATED:20240608T152048Z
LAST-MODIFIED:20250205T153915Z
UID:10002132-1777550400-1777554000@pikespkblues.org
SUMMARY:Jazz 93.5 Community Blues Hour with BJ Estares
DESCRIPTION:
URL:https://pikespkblues.org/event/jazz-93-5-community-blues-hour-with-bj-estares/2026-04-30/
LOCATION:CO
END:VEVENT
BEGIN:VEVENT
DTSTART;TZID=America/Denver:20260430T193000
DTEND;TZID=America/Denver:20260430T223000
DTSTAMP:20260423T095832
CREATED:20260119T041719Z
LAST-MODIFIED:20260213T034452Z
UID:10005668-1777577400-1777588200@pikespkblues.org
SUMMARY:Colorado Blues Society's A Sinners Blues Bash with Deborah Stafford & The Night Stalkers and The Tony Luke Band
DESCRIPTION:Colorado Blues Society’s Sinners Blues Bash with Deborah Stafford & The Night Stalkers and The Tony Luke Band @ Nissi’s\, Lafayette on Thursday\, April 30th at 7:30 pm.
URL:https://pikespkblues.org/event/colorado-blues-societys-birthday-blues-bash-with-deborah-stafford-the-night-stalkers-and-the-tony-luke-band/
LOCATION:Nissi’s\, 1455 Coal Creek Dr Unit T\, Lafayette\, CO\, 80026
CATEGORIES:Concerts
END:VEVENT
END:VCALENDAR