BEGIN:VCALENDAR
VERSION:2.0
PRODID:-//Pikes Peak Blues Community - ECPv6.15.20//NONSGML v1.0//EN
CALSCALE:GREGORIAN
METHOD:PUBLISH
X-ORIGINAL-URL:https://pikespkblues.org
X-WR-CALDESC:Events for Pikes Peak Blues Community
REFRESH-INTERVAL;VALUE=DURATION:PT1H
X-Robots-Tag:noindex
X-PUBLISHED-TTL:PT1H
BEGIN:VTIMEZONE
TZID:America/Denver
BEGIN:DAYLIGHT
TZOFFSETFROM:-0700
TZOFFSETTO:-0600
TZNAME:MDT
DTSTART:20250309T090000
END:DAYLIGHT
BEGIN:STANDARD
TZOFFSETFROM:-0600
TZOFFSETTO:-0700
TZNAME:MST
DTSTART:20251102T080000
END:STANDARD
BEGIN:DAYLIGHT
TZOFFSETFROM:-0700
TZOFFSETTO:-0600
TZNAME:MDT
DTSTART:20260308T090000
END:DAYLIGHT
BEGIN:STANDARD
TZOFFSETFROM:-0600
TZOFFSETTO:-0700
TZNAME:MST
DTSTART:20261101T080000
END:STANDARD
BEGIN:DAYLIGHT
TZOFFSETFROM:-0700
TZOFFSETTO:-0600
TZNAME:MDT
DTSTART:20270314T090000
END:DAYLIGHT
BEGIN:STANDARD
TZOFFSETFROM:-0600
TZOFFSETTO:-0700
TZNAME:MST
DTSTART:20271107T080000
END:STANDARD
END:VTIMEZONE
BEGIN:VEVENT
DTSTART;TZID=America/Denver:20260101T120000
DTEND;TZID=America/Denver:20260101T130000
DTSTAMP:20260423T145036
CREATED:20240608T152048Z
LAST-MODIFIED:20250205T153915Z
UID:10002047-1767268800-1767272400@pikespkblues.org
SUMMARY:Jazz 93.5 Community Blues Hour with BJ Estares
DESCRIPTION:
URL:https://pikespkblues.org/event/jazz-93-5-community-blues-hour-with-bj-estares/2026-01-01/
LOCATION:CO
END:VEVENT
BEGIN:VEVENT
DTSTART;TZID=America/Denver:20260102T120000
DTEND;TZID=America/Denver:20260102T130000
DTSTAMP:20260423T145036
CREATED:20240608T152048Z
LAST-MODIFIED:20250205T153915Z
UID:10002048-1767355200-1767358800@pikespkblues.org
SUMMARY:Jazz 93.5 Community Blues Hour with BJ Estares
DESCRIPTION:
URL:https://pikespkblues.org/event/jazz-93-5-community-blues-hour-with-bj-estares/2026-01-02/
LOCATION:CO
END:VEVENT
BEGIN:VEVENT
DTSTART;TZID=America/Denver:20260102T180000
DTEND;TZID=America/Denver:20260102T210000
DTSTAMP:20260423T145036
CREATED:20251228T185308Z
LAST-MODIFIED:20251228T185308Z
UID:10005631-1767376800-1767387600@pikespkblues.org
SUMMARY:The Cleveland Experiment
DESCRIPTION:The Cleveland Experiment @ Rico’s Café and Wine Bar\, 322 1/2 N Tejon St (80903) on Friday\, January 2nd from 6:00 pm to 9:00 pm. [No Cover]
URL:https://pikespkblues.org/event/the-cleveland-experiment-17/
LOCATION:Rico’s Cafe and Wine Bar\, 322 1/2\, N Tejon St\, Colorado Springs\, CO\, 80903\, United States
CATEGORIES:Concerts
END:VEVENT
BEGIN:VEVENT
DTSTART;TZID=America/Denver:20260103T180000
DTEND;TZID=America/Denver:20260103T210000
DTSTAMP:20260423T145036
CREATED:20251228T185655Z
LAST-MODIFIED:20251228T185655Z
UID:10005632-1767463200-1767474000@pikespkblues.org
SUMMARY:Rafiel and The Roomshakers
DESCRIPTION:Rafiel and The Roomshakers @ Rico’s Café and Wine Bar\, 322 1/2 N Tejon St (80903) on Saturday\, January 3rd from 6:00 pm to 9:00 pm. [No Cover]
URL:https://pikespkblues.org/event/rafiel-and-the-roomshakers-9/
LOCATION:Rico’s Cafe and Wine Bar\, 322 1/2\, N Tejon St\, Colorado Springs\, CO\, 80903\, United States
CATEGORIES:Concerts
END:VEVENT
BEGIN:VEVENT
DTSTART;TZID=America/Denver:20260105T120000
DTEND;TZID=America/Denver:20260105T130000
DTSTAMP:20260423T145036
CREATED:20240608T152048Z
LAST-MODIFIED:20250205T153915Z
UID:10002049-1767614400-1767618000@pikespkblues.org
SUMMARY:Jazz 93.5 Community Blues Hour with BJ Estares
DESCRIPTION:
URL:https://pikespkblues.org/event/jazz-93-5-community-blues-hour-with-bj-estares/2026-01-05/
LOCATION:CO
END:VEVENT
BEGIN:VEVENT
DTSTART;TZID=America/Denver:20260105T170000
DTEND;TZID=America/Denver:20260105T200000
DTSTAMP:20260423T145036
CREATED:20251228T195442Z
LAST-MODIFIED:20251228T195442Z
UID:10005638-1767632400-1767643200@pikespkblues.org
SUMMARY:Scott "Shack" Hackler
DESCRIPTION:Scott “Shack” Hackler @ Morrison Holiday Bar\, Morrison on Monday\, January 5th at 5:00 pm.
URL:https://pikespkblues.org/event/scott-shack-hackler/
LOCATION:Morrison Holiday Bar\, 403 Bear Creek Ave\, Morrison\, CO\, 80465
CATEGORIES:Concerts
END:VEVENT
BEGIN:VEVENT
DTSTART;TZID=America/Denver:20260105T200000
DTEND;TZID=America/Denver:20260105T230000
DTSTAMP:20260423T145036
CREATED:20251009T001908Z
LAST-MODIFIED:20251009T010915Z
UID:10005314-1767643200-1767654000@pikespkblues.org
SUMMARY:Stormy Monday Blues Jam hosted by Randy Stephens & the Groove Makers
DESCRIPTION:Stormy Monday Blues Jam hosted by Randy Stephens & the Groove Makers @ Kinfolks\, 950 Manitou Ave\, Manitou Springs on Mondays from 8:00 pm to 11:00 pm. Sign up start at 7:30 pm. Bring your own axe and jam with these award winning musicians. Keys\, drums\, and amps provided. Horn players welcome.
URL:https://pikespkblues.org/event/stormy-monday-blues-jam-hosted-by-randy-stephens-the-groove-makers/2026-01-05/
LOCATION:Kinsfolks\, 950 Manitou Ave\, Manitou Springs\, CO\, 80829
CATEGORIES:Jams
END:VEVENT
BEGIN:VEVENT
DTSTART;TZID=America/Denver:20260106T120000
DTEND;TZID=America/Denver:20260106T130000
DTSTAMP:20260423T145036
CREATED:20240608T152048Z
LAST-MODIFIED:20250205T153915Z
UID:10002050-1767700800-1767704400@pikespkblues.org
SUMMARY:Jazz 93.5 Community Blues Hour with BJ Estares
DESCRIPTION:
URL:https://pikespkblues.org/event/jazz-93-5-community-blues-hour-with-bj-estares/2026-01-06/
LOCATION:CO
END:VEVENT
BEGIN:VEVENT
DTSTART;TZID=America/Denver:20260106T180000
DTEND;TZID=America/Denver:20260106T210000
DTSTAMP:20260423T145036
CREATED:20251004T004608Z
LAST-MODIFIED:20251004T182250Z
UID:10004793-1767722400-1767733200@pikespkblues.org
SUMMARY:Sweet T's Rude Blues Jam on Tuesdays at PEAK 31
DESCRIPTION:Sweet T’s Rude Blues Jam @ PEAK 31\, 2419 N Union Blvd (80909) on Tuesdays\, from 6:00 pm to 9:00 pm.
URL:https://pikespkblues.org/event/sweet-ts-rude-blues-jam-on-tuesdays-at-peak-31/2026-01-06/
LOCATION:PEAK 31\, 2419 N Union Blvd\, Colorado Springs\, CO\, 80909\, United States
CATEGORIES:Jams
END:VEVENT
BEGIN:VEVENT
DTSTART;TZID=America/Denver:20260107T120000
DTEND;TZID=America/Denver:20260107T130000
DTSTAMP:20260423T145036
CREATED:20240608T152048Z
LAST-MODIFIED:20250205T153915Z
UID:10002051-1767787200-1767790800@pikespkblues.org
SUMMARY:Jazz 93.5 Community Blues Hour with BJ Estares
DESCRIPTION:
URL:https://pikespkblues.org/event/jazz-93-5-community-blues-hour-with-bj-estares/2026-01-07/
LOCATION:CO
END:VEVENT
BEGIN:VEVENT
DTSTART;TZID=America/Denver:20260108T120000
DTEND;TZID=America/Denver:20260108T130000
DTSTAMP:20260423T145036
CREATED:20240608T152048Z
LAST-MODIFIED:20250205T153915Z
UID:10002052-1767873600-1767877200@pikespkblues.org
SUMMARY:Jazz 93.5 Community Blues Hour with BJ Estares
DESCRIPTION:
URL:https://pikespkblues.org/event/jazz-93-5-community-blues-hour-with-bj-estares/2026-01-08/
LOCATION:CO
END:VEVENT
BEGIN:VEVENT
DTSTART;TZID=America/Denver:20260109T120000
DTEND;TZID=America/Denver:20260109T130000
DTSTAMP:20260423T145036
CREATED:20240608T152048Z
LAST-MODIFIED:20250205T153915Z
UID:10002053-1767960000-1767963600@pikespkblues.org
SUMMARY:Jazz 93.5 Community Blues Hour with BJ Estares
DESCRIPTION:
URL:https://pikespkblues.org/event/jazz-93-5-community-blues-hour-with-bj-estares/2026-01-09/
LOCATION:CO
END:VEVENT
BEGIN:VEVENT
DTSTART;TZID=America/Denver:20260109T160000
DTEND;TZID=America/Denver:20260109T190000
DTSTAMP:20260423T145036
CREATED:20251219T203805Z
LAST-MODIFIED:20251219T233715Z
UID:10005624-1767974400-1767985200@pikespkblues.org
SUMMARY:Joe Sciallo and Al Chesis   *** PPBC Members ***
DESCRIPTION:Joe Sciallo and Al Chesis @ The Mining Exchange Hotel\, 8 S Nevada Ave (80903) on Friday\, January 9th from 4:00 pm to 7:00 pm. A Dizzy Charlies Out Of Office Americana Fridays event.
URL:https://pikespkblues.org/event/joe-sciallo-and-al-chesis-ppbc-members-2/
LOCATION:The Mining Exchange Hotel\, 8 S Nevada Ave\, Colorado Springs\, CO\, 80903\, United States
CATEGORIES:Concerts
END:VEVENT
BEGIN:VEVENT
DTSTART;TZID=America/Denver:20260109T190000
DTEND;TZID=America/Denver:20260109T220000
DTSTAMP:20260423T145036
CREATED:20251228T174303Z
LAST-MODIFIED:20251228T174303Z
UID:10005627-1767985200-1767996000@pikespkblues.org
SUMMARY:Mile High Blues Society Fundraiser with Reckless and Blue
DESCRIPTION:Mile High Blues Society Fundraiser with Reckless and Blue @ The Rusty Bucket Bar and Grill\, Lakewood on Friday\, January 9th at 7:00 pm.
URL:https://pikespkblues.org/event/mile-high-blues-society-fundraiser-with-reckless-and-blue/
LOCATION:The Rusty Bucket Bar and Grill\, 3355 S Wadsworth\, Lakewood\, CO\, 80277\, United States
CATEGORIES:Concerts
END:VEVENT
BEGIN:VEVENT
DTSTART;TZID=America/Denver:20260109T213000
DTEND;TZID=America/Denver:20260109T213000
DTSTAMP:20260423T145036
CREATED:20260101T181652Z
LAST-MODIFIED:20260101T181652Z
UID:10005647-1767994200-1767994200@pikespkblues.org
SUMMARY:Hoodoo Honey  *** PPBC Member Band ***
DESCRIPTION:Hoodoo Honey @ Summa\, 817 W Colorado Ave (80905) on Friday\, January 9th from 6:30 pm to 9:30 pm.
URL:https://pikespkblues.org/event/hoodoo-honey-ppbc-member-band-6/
LOCATION:Summa\, 817 W. Colorado Ave\, Colorado Springs\, CO\, 80905\, United States
CATEGORIES:Concerts
END:VEVENT
BEGIN:VEVENT
DTSTART;TZID=America/Denver:20260110T183000
DTEND;TZID=America/Denver:20260110T213000
DTSTAMP:20260423T145036
CREATED:20251230T190031Z
LAST-MODIFIED:20251230T190031Z
UID:10005640-1768069800-1768080600@pikespkblues.org
SUMMARY:Delta Sonics with Al Chesis   *** PPBC Member Band ***
DESCRIPTION:Delta Sonics with Al Chesis @ Vintage Himalayan Bar & Restaurant\, Denver on Saturday\, January 10th at 6:30 pm.
URL:https://pikespkblues.org/event/delta-sonics-with-al-chesis-ppbc-member-band-34/
LOCATION:Vintage Himalayan Bar & Restaurant\, 2598 S Broadway\, Denver\, CO\, 80210\, United States
CATEGORIES:Concerts
END:VEVENT
BEGIN:VEVENT
DTSTART;TZID=America/Denver:20260110T190000
DTEND;TZID=America/Denver:20260110T220000
DTSTAMP:20260423T145036
CREATED:20260106T174720Z
LAST-MODIFIED:20260106T174720Z
UID:10005649-1768071600-1768082400@pikespkblues.org
SUMMARY:Stone Gray - Dizzy Charlie's presents Blues and Funk at The Lounge
DESCRIPTION:Stone Gray @ The Best Coffee and Lounge\, 401 N Tejon St (80903)\, on Saturday\, January 10th from 7:00 pm to 10:00 pm.
URL:https://pikespkblues.org/event/stone-gray-dizzy-charlies-presents-blues-and-funk-at-the-lounge/
LOCATION:The Best Coffee & Lounge\, 401 N Tejon St\, Colorado Springs\, CO\, 80903\, United States
CATEGORIES:Concerts
END:VEVENT
BEGIN:VEVENT
DTSTART;TZID=America/Denver:20260112T120000
DTEND;TZID=America/Denver:20260112T130000
DTSTAMP:20260423T145036
CREATED:20240608T152048Z
LAST-MODIFIED:20250205T153915Z
UID:10002054-1768219200-1768222800@pikespkblues.org
SUMMARY:Jazz 93.5 Community Blues Hour with BJ Estares
DESCRIPTION:
URL:https://pikespkblues.org/event/jazz-93-5-community-blues-hour-with-bj-estares/2026-01-12/
LOCATION:CO
END:VEVENT
BEGIN:VEVENT
DTSTART;TZID=America/Denver:20260112T170000
DTEND;TZID=America/Denver:20260112T200000
DTSTAMP:20260423T145036
CREATED:20251228T195610Z
LAST-MODIFIED:20251228T195610Z
UID:10005639-1768237200-1768248000@pikespkblues.org
SUMMARY:Scott "Shack" Hackler
DESCRIPTION:Scott “Shack” Hackler @ Morrison Holiday Bar\, Morrison on Monday\, January 12th at 5:00 pm.
URL:https://pikespkblues.org/event/scott-shack-hackler-2/
LOCATION:Morrison Holiday Bar\, 403 Bear Creek Ave\, Morrison\, CO\, 80465
CATEGORIES:Concerts
END:VEVENT
BEGIN:VEVENT
DTSTART;TZID=America/Denver:20260112T200000
DTEND;TZID=America/Denver:20260112T230000
DTSTAMP:20260423T145036
CREATED:20251009T001908Z
LAST-MODIFIED:20251009T010915Z
UID:10005315-1768248000-1768258800@pikespkblues.org
SUMMARY:Stormy Monday Blues Jam hosted by Randy Stephens & the Groove Makers
DESCRIPTION:Stormy Monday Blues Jam hosted by Randy Stephens & the Groove Makers @ Kinfolks\, 950 Manitou Ave\, Manitou Springs on Mondays from 8:00 pm to 11:00 pm. Sign up start at 7:30 pm. Bring your own axe and jam with these award winning musicians. Keys\, drums\, and amps provided. Horn players welcome.
URL:https://pikespkblues.org/event/stormy-monday-blues-jam-hosted-by-randy-stephens-the-groove-makers/2026-01-12/
LOCATION:Kinsfolks\, 950 Manitou Ave\, Manitou Springs\, CO\, 80829
CATEGORIES:Jams
END:VEVENT
BEGIN:VEVENT
DTSTART;TZID=America/Denver:20260113T120000
DTEND;TZID=America/Denver:20260113T130000
DTSTAMP:20260423T145036
CREATED:20240608T152048Z
LAST-MODIFIED:20250205T153915Z
UID:10002055-1768305600-1768309200@pikespkblues.org
SUMMARY:Jazz 93.5 Community Blues Hour with BJ Estares
DESCRIPTION:
URL:https://pikespkblues.org/event/jazz-93-5-community-blues-hour-with-bj-estares/2026-01-13/
LOCATION:CO
END:VEVENT
BEGIN:VEVENT
DTSTART;TZID=America/Denver:20260113T180000
DTEND;TZID=America/Denver:20260113T210000
DTSTAMP:20260423T145036
CREATED:20251004T004608Z
LAST-MODIFIED:20251004T182250Z
UID:10004794-1768327200-1768338000@pikespkblues.org
SUMMARY:Sweet T's Rude Blues Jam on Tuesdays at PEAK 31
DESCRIPTION:Sweet T’s Rude Blues Jam @ PEAK 31\, 2419 N Union Blvd (80909) on Tuesdays\, from 6:00 pm to 9:00 pm.
URL:https://pikespkblues.org/event/sweet-ts-rude-blues-jam-on-tuesdays-at-peak-31/2026-01-13/
LOCATION:PEAK 31\, 2419 N Union Blvd\, Colorado Springs\, CO\, 80909\, United States
CATEGORIES:Jams
END:VEVENT
BEGIN:VEVENT
DTSTART;TZID=America/Denver:20260113T183000
DTEND;TZID=America/Denver:20260113T200000
DTSTAMP:20260423T145036
CREATED:20251116T003615Z
LAST-MODIFIED:20251116T003615Z
UID:10005603-1768329000-1768334400@pikespkblues.org
SUMMARY:Deborah Stafford & The Night Stalkers
DESCRIPTION:Deborah Stafford & The Night Stalkers @ Dazzle\, Denver on Tuesday\, January 13th at 6:30 pm
URL:https://pikespkblues.org/event/deborah-stafford-the-night-stalkers-3/
LOCATION:Dazzle\, 1080 14th Street\, Denver\, CO\, 80202
CATEGORIES:Concerts
END:VEVENT
BEGIN:VEVENT
DTSTART;TZID=America/Denver:20260114T120000
DTEND;TZID=America/Denver:20260114T130000
DTSTAMP:20260423T145036
CREATED:20240608T152048Z
LAST-MODIFIED:20250205T153915Z
UID:10002056-1768392000-1768395600@pikespkblues.org
SUMMARY:Jazz 93.5 Community Blues Hour with BJ Estares
DESCRIPTION:
URL:https://pikespkblues.org/event/jazz-93-5-community-blues-hour-with-bj-estares/2026-01-14/
LOCATION:CO
END:VEVENT
BEGIN:VEVENT
DTSTART;TZID=America/Denver:20260115T120000
DTEND;TZID=America/Denver:20260115T130000
DTSTAMP:20260423T145036
CREATED:20240608T152048Z
LAST-MODIFIED:20250205T153915Z
UID:10002057-1768478400-1768482000@pikespkblues.org
SUMMARY:Jazz 93.5 Community Blues Hour with BJ Estares
DESCRIPTION:
URL:https://pikespkblues.org/event/jazz-93-5-community-blues-hour-with-bj-estares/2026-01-15/
LOCATION:CO
END:VEVENT
BEGIN:VEVENT
DTSTART;TZID=America/Denver:20260115T200000
DTEND;TZID=America/Denver:20260115T200000
DTSTAMP:20260423T145036
CREATED:20251025T203659Z
LAST-MODIFIED:20260401T142351Z
UID:10005579-1768507200-1768507200@pikespkblues.org
SUMMARY:Colorado Blues Dance Shimmy Shakin' Blues 3 Year Anniversary Party with The Delta Sonics
DESCRIPTION:Colorado Blues Dance Shimmy Shakin’ Blues 3 Year Anniversary Party featuring The Delta Sonics with Al Chesis ***PPBC Member Band *** @ The Pearl\, Denver on Thursday\, January 15th from 8:00 pm to Midnight. Blues Musician Podcast Interview 7:00-8:00pm.
URL:https://pikespkblues.org/event/colorado-blues-dance-shimmy-shakin-blues-3-year-anniversary-party-with-the-delta-sonics/
LOCATION:The Pearl\, 2199 California St\, Denver\, CO\, 80205\, United States
CATEGORIES:Concerts,Dance
END:VEVENT
BEGIN:VEVENT
DTSTART;TZID=America/Denver:20260116T080000
DTEND;TZID=America/Denver:20260116T080000
DTSTAMP:20260423T145036
CREATED:20251227T174246Z
LAST-MODIFIED:20251227T174246Z
UID:10005625-1768550400-1768550400@pikespkblues.org
SUMMARY:Joe Sciallo & The Deep End   *** PPBC Member Band ***
DESCRIPTION:Joe Sciallo & The Deep End @ Summa\, 817 W Colorado Ave (80905) on Friday\, January 16th from 6:30 to 9:30 pm.
URL:https://pikespkblues.org/event/joe-sciallo-the-deep-end-ppbc-member-band/
LOCATION:Summa\, 817 W. Colorado Ave\, Colorado Springs\, CO\, 80905\, United States
CATEGORIES:Concerts
END:VEVENT
BEGIN:VEVENT
DTSTART;TZID=America/Denver:20260116T110000
DTEND;TZID=America/Denver:20260116T130000
DTSTAMP:20260423T145036
CREATED:20251230T190451Z
LAST-MODIFIED:20251230T190451Z
UID:10005641-1768561200-1768568400@pikespkblues.org
SUMMARY:Delta Sonics Duo with Al Chesis    *** PPBC Member Band ***
DESCRIPTION:Dazzle Lunch Show with Delta Sonics Duo featuring Al Chesis @ Dazzle\, Denver on Friday\, January 16th at 11:00 am.
URL:https://pikespkblues.org/event/delta-sonics-duo-with-al-chesis-ppbc-member-band-2/
LOCATION:Dazzle\, 1080 14th Street\, Denver\, CO\, 80202
CATEGORIES:Concerts
END:VEVENT
BEGIN:VEVENT
DTSTART;TZID=America/Denver:20260116T120000
DTEND;TZID=America/Denver:20260116T130000
DTSTAMP:20260423T145036
CREATED:20240608T152048Z
LAST-MODIFIED:20250205T153915Z
UID:10002058-1768564800-1768568400@pikespkblues.org
SUMMARY:Jazz 93.5 Community Blues Hour with BJ Estares
DESCRIPTION:
URL:https://pikespkblues.org/event/jazz-93-5-community-blues-hour-with-bj-estares/2026-01-16/
LOCATION:CO
END:VEVENT
BEGIN:VEVENT
DTSTART;TZID=America/Denver:20260116T190000
DTEND;TZID=America/Denver:20260116T220000
DTSTAMP:20260423T145036
CREATED:20251228T174826Z
LAST-MODIFIED:20251228T174826Z
UID:10005629-1768590000-1768600800@pikespkblues.org
SUMMARY:The Closers
DESCRIPTION:The Closers @ The Rusty Bucket Bar and Grill\, Lakewood on Friday\, January 16th at 7:00 pm.
URL:https://pikespkblues.org/event/the-closers/
LOCATION:The Rusty Bucket Bar and Grill\, 3355 S Wadsworth\, Lakewood\, CO\, 80277\, United States
CATEGORIES:Concerts
END:VEVENT
END:VCALENDAR