BEGIN:VCALENDAR
VERSION:2.0
PRODID:-//Pikes Peak Blues Community - ECPv6.15.20//NONSGML v1.0//EN
CALSCALE:GREGORIAN
METHOD:PUBLISH
X-ORIGINAL-URL:https://pikespkblues.org
X-WR-CALDESC:Events for Pikes Peak Blues Community
REFRESH-INTERVAL;VALUE=DURATION:PT1H
X-Robots-Tag:noindex
X-PUBLISHED-TTL:PT1H
BEGIN:VTIMEZONE
TZID:America/Denver
BEGIN:DAYLIGHT
TZOFFSETFROM:-0700
TZOFFSETTO:-0600
TZNAME:MDT
DTSTART:20250309T090000
END:DAYLIGHT
BEGIN:STANDARD
TZOFFSETFROM:-0600
TZOFFSETTO:-0700
TZNAME:MST
DTSTART:20251102T080000
END:STANDARD
BEGIN:DAYLIGHT
TZOFFSETFROM:-0700
TZOFFSETTO:-0600
TZNAME:MDT
DTSTART:20260308T090000
END:DAYLIGHT
BEGIN:STANDARD
TZOFFSETFROM:-0600
TZOFFSETTO:-0700
TZNAME:MST
DTSTART:20261101T080000
END:STANDARD
BEGIN:DAYLIGHT
TZOFFSETFROM:-0700
TZOFFSETTO:-0600
TZNAME:MDT
DTSTART:20270314T090000
END:DAYLIGHT
BEGIN:STANDARD
TZOFFSETFROM:-0600
TZOFFSETTO:-0700
TZNAME:MST
DTSTART:20271107T080000
END:STANDARD
END:VTIMEZONE
BEGIN:VEVENT
DTSTART;TZID=America/Denver:20261102T120000
DTEND;TZID=America/Denver:20261102T130000
DTSTAMP:20260425T090439
CREATED:20240608T152048Z
LAST-MODIFIED:20250205T153915Z
UID:10002264-1793620800-1793624400@pikespkblues.org
SUMMARY:Jazz 93.5 Community Blues Hour with BJ Estares
DESCRIPTION:
URL:https://pikespkblues.org/event/jazz-93-5-community-blues-hour-with-bj-estares/2026-11-02/
LOCATION:CO
END:VEVENT
BEGIN:VEVENT
DTSTART;TZID=America/Denver:20261103T120000
DTEND;TZID=America/Denver:20261103T130000
DTSTAMP:20260425T090439
CREATED:20240608T152048Z
LAST-MODIFIED:20250205T153915Z
UID:10002265-1793707200-1793710800@pikespkblues.org
SUMMARY:Jazz 93.5 Community Blues Hour with BJ Estares
DESCRIPTION:
URL:https://pikespkblues.org/event/jazz-93-5-community-blues-hour-with-bj-estares/2026-11-03/
LOCATION:CO
END:VEVENT
BEGIN:VEVENT
DTSTART;TZID=America/Denver:20261103T180000
DTEND;TZID=America/Denver:20261103T210000
DTSTAMP:20260425T090439
CREATED:20251004T004608Z
LAST-MODIFIED:20251004T182250Z
UID:10004836-1793728800-1793739600@pikespkblues.org
SUMMARY:Sweet T's Rude Blues Jam on Tuesdays at PEAK 31
DESCRIPTION:Sweet T’s Rude Blues Jam @ PEAK 31\, 2419 N Union Blvd (80909) on Tuesdays\, from 6:00 pm to 9:00 pm.
URL:https://pikespkblues.org/event/sweet-ts-rude-blues-jam-on-tuesdays-at-peak-31/2026-11-03/
LOCATION:PEAK 31\, 2419 N Union Blvd\, Colorado Springs\, CO\, 80909\, United States
CATEGORIES:Jams
END:VEVENT
BEGIN:VEVENT
DTSTART;TZID=America/Denver:20261104T120000
DTEND;TZID=America/Denver:20261104T130000
DTSTAMP:20260425T090439
CREATED:20240608T152048Z
LAST-MODIFIED:20250205T153915Z
UID:10002266-1793793600-1793797200@pikespkblues.org
SUMMARY:Jazz 93.5 Community Blues Hour with BJ Estares
DESCRIPTION:
URL:https://pikespkblues.org/event/jazz-93-5-community-blues-hour-with-bj-estares/2026-11-04/
LOCATION:CO
END:VEVENT
BEGIN:VEVENT
DTSTART;TZID=America/Denver:20261105T120000
DTEND;TZID=America/Denver:20261105T130000
DTSTAMP:20260425T090439
CREATED:20240608T152048Z
LAST-MODIFIED:20250205T153915Z
UID:10002267-1793880000-1793883600@pikespkblues.org
SUMMARY:Jazz 93.5 Community Blues Hour with BJ Estares
DESCRIPTION:
URL:https://pikespkblues.org/event/jazz-93-5-community-blues-hour-with-bj-estares/2026-11-05/
LOCATION:CO
END:VEVENT
BEGIN:VEVENT
DTSTART;TZID=America/Denver:20261105T200000
DTEND;TZID=America/Denver:20261105T230000
DTSTAMP:20260425T090439
CREATED:20260221T045616Z
LAST-MODIFIED:20260221T045617Z
UID:10005706-1793908800-1793919600@pikespkblues.org
SUMMARY:Blues Jam hosted by Randy Stephens & the Groove Makers
DESCRIPTION:Blues Jam hosted by Randy Stephens & the Groove Makers @ Kinfolks\, 950 Manitou Ave\, Manitou Springs on the first Thursday of  the month from 8:00 pm to 11:00 pm. Sign up start at 7:30 pm. Bring your own axe and jam with these award winning musicians. Keys\, drums\, and amps provided. Horn players welcome.
URL:https://pikespkblues.org/event/stormy-monday-blues-jam-hosted-by-randy-stephens-the-groove-makers-2-2/2026-11-05/
LOCATION:Kinsfolks\, 950 Manitou Ave\, Manitou Springs\, CO\, 80829
CATEGORIES:Jams
END:VEVENT
BEGIN:VEVENT
DTSTART;TZID=America/Denver:20261106T120000
DTEND;TZID=America/Denver:20261106T130000
DTSTAMP:20260425T090439
CREATED:20240608T152048Z
LAST-MODIFIED:20250205T153915Z
UID:10002268-1793966400-1793970000@pikespkblues.org
SUMMARY:Jazz 93.5 Community Blues Hour with BJ Estares
DESCRIPTION:
URL:https://pikespkblues.org/event/jazz-93-5-community-blues-hour-with-bj-estares/2026-11-06/
LOCATION:CO
END:VEVENT
BEGIN:VEVENT
DTSTART;TZID=America/Denver:20261109T120000
DTEND;TZID=America/Denver:20261109T130000
DTSTAMP:20260425T090439
CREATED:20240608T152048Z
LAST-MODIFIED:20250205T153915Z
UID:10002269-1794225600-1794229200@pikespkblues.org
SUMMARY:Jazz 93.5 Community Blues Hour with BJ Estares
DESCRIPTION:
URL:https://pikespkblues.org/event/jazz-93-5-community-blues-hour-with-bj-estares/2026-11-09/
LOCATION:CO
END:VEVENT
BEGIN:VEVENT
DTSTART;TZID=America/Denver:20261110T120000
DTEND;TZID=America/Denver:20261110T130000
DTSTAMP:20260425T090439
CREATED:20240608T152048Z
LAST-MODIFIED:20250205T153915Z
UID:10002270-1794312000-1794315600@pikespkblues.org
SUMMARY:Jazz 93.5 Community Blues Hour with BJ Estares
DESCRIPTION:
URL:https://pikespkblues.org/event/jazz-93-5-community-blues-hour-with-bj-estares/2026-11-10/
LOCATION:CO
END:VEVENT
BEGIN:VEVENT
DTSTART;TZID=America/Denver:20261110T180000
DTEND;TZID=America/Denver:20261110T210000
DTSTAMP:20260425T090439
CREATED:20251004T004608Z
LAST-MODIFIED:20251004T182250Z
UID:10004837-1794333600-1794344400@pikespkblues.org
SUMMARY:Sweet T's Rude Blues Jam on Tuesdays at PEAK 31
DESCRIPTION:Sweet T’s Rude Blues Jam @ PEAK 31\, 2419 N Union Blvd (80909) on Tuesdays\, from 6:00 pm to 9:00 pm.
URL:https://pikespkblues.org/event/sweet-ts-rude-blues-jam-on-tuesdays-at-peak-31/2026-11-10/
LOCATION:PEAK 31\, 2419 N Union Blvd\, Colorado Springs\, CO\, 80909\, United States
CATEGORIES:Jams
END:VEVENT
BEGIN:VEVENT
DTSTART;TZID=America/Denver:20261111T120000
DTEND;TZID=America/Denver:20261111T130000
DTSTAMP:20260425T090439
CREATED:20240608T152048Z
LAST-MODIFIED:20250205T153915Z
UID:10002271-1794398400-1794402000@pikespkblues.org
SUMMARY:Jazz 93.5 Community Blues Hour with BJ Estares
DESCRIPTION:
URL:https://pikespkblues.org/event/jazz-93-5-community-blues-hour-with-bj-estares/2026-11-11/
LOCATION:CO
END:VEVENT
BEGIN:VEVENT
DTSTART;TZID=America/Denver:20261112T120000
DTEND;TZID=America/Denver:20261112T130000
DTSTAMP:20260425T090439
CREATED:20240608T152048Z
LAST-MODIFIED:20250205T153915Z
UID:10002272-1794484800-1794488400@pikespkblues.org
SUMMARY:Jazz 93.5 Community Blues Hour with BJ Estares
DESCRIPTION:
URL:https://pikespkblues.org/event/jazz-93-5-community-blues-hour-with-bj-estares/2026-11-12/
LOCATION:CO
END:VEVENT
BEGIN:VEVENT
DTSTART;TZID=America/Denver:20261113T120000
DTEND;TZID=America/Denver:20261113T130000
DTSTAMP:20260425T090439
CREATED:20240608T152048Z
LAST-MODIFIED:20250205T153915Z
UID:10002273-1794571200-1794574800@pikespkblues.org
SUMMARY:Jazz 93.5 Community Blues Hour with BJ Estares
DESCRIPTION:
URL:https://pikespkblues.org/event/jazz-93-5-community-blues-hour-with-bj-estares/2026-11-13/
LOCATION:CO
END:VEVENT
BEGIN:VEVENT
DTSTART;TZID=America/Denver:20261116T120000
DTEND;TZID=America/Denver:20261116T130000
DTSTAMP:20260425T090439
CREATED:20240608T152048Z
LAST-MODIFIED:20250205T153915Z
UID:10002274-1794830400-1794834000@pikespkblues.org
SUMMARY:Jazz 93.5 Community Blues Hour with BJ Estares
DESCRIPTION:
URL:https://pikespkblues.org/event/jazz-93-5-community-blues-hour-with-bj-estares/2026-11-16/
LOCATION:CO
END:VEVENT
BEGIN:VEVENT
DTSTART;TZID=America/Denver:20261117T120000
DTEND;TZID=America/Denver:20261117T130000
DTSTAMP:20260425T090439
CREATED:20240608T152048Z
LAST-MODIFIED:20250205T153915Z
UID:10002275-1794916800-1794920400@pikespkblues.org
SUMMARY:Jazz 93.5 Community Blues Hour with BJ Estares
DESCRIPTION:
URL:https://pikespkblues.org/event/jazz-93-5-community-blues-hour-with-bj-estares/2026-11-17/
LOCATION:CO
END:VEVENT
BEGIN:VEVENT
DTSTART;TZID=America/Denver:20261117T180000
DTEND;TZID=America/Denver:20261117T210000
DTSTAMP:20260425T090439
CREATED:20251004T004608Z
LAST-MODIFIED:20251004T182250Z
UID:10004838-1794938400-1794949200@pikespkblues.org
SUMMARY:Sweet T's Rude Blues Jam on Tuesdays at PEAK 31
DESCRIPTION:Sweet T’s Rude Blues Jam @ PEAK 31\, 2419 N Union Blvd (80909) on Tuesdays\, from 6:00 pm to 9:00 pm.
URL:https://pikespkblues.org/event/sweet-ts-rude-blues-jam-on-tuesdays-at-peak-31/2026-11-17/
LOCATION:PEAK 31\, 2419 N Union Blvd\, Colorado Springs\, CO\, 80909\, United States
CATEGORIES:Jams
END:VEVENT
BEGIN:VEVENT
DTSTART;TZID=America/Denver:20261118T120000
DTEND;TZID=America/Denver:20261118T130000
DTSTAMP:20260425T090439
CREATED:20240608T152048Z
LAST-MODIFIED:20250205T153915Z
UID:10002276-1795003200-1795006800@pikespkblues.org
SUMMARY:Jazz 93.5 Community Blues Hour with BJ Estares
DESCRIPTION:
URL:https://pikespkblues.org/event/jazz-93-5-community-blues-hour-with-bj-estares/2026-11-18/
LOCATION:CO
END:VEVENT
BEGIN:VEVENT
DTSTART;TZID=America/Denver:20261119T120000
DTEND;TZID=America/Denver:20261119T130000
DTSTAMP:20260425T090439
CREATED:20240608T152048Z
LAST-MODIFIED:20250205T153915Z
UID:10002277-1795089600-1795093200@pikespkblues.org
SUMMARY:Jazz 93.5 Community Blues Hour with BJ Estares
DESCRIPTION:
URL:https://pikespkblues.org/event/jazz-93-5-community-blues-hour-with-bj-estares/2026-11-19/
LOCATION:CO
END:VEVENT
BEGIN:VEVENT
DTSTART;TZID=America/Denver:20261120T120000
DTEND;TZID=America/Denver:20261120T130000
DTSTAMP:20260425T090439
CREATED:20240608T152048Z
LAST-MODIFIED:20250205T153915Z
UID:10002278-1795176000-1795179600@pikespkblues.org
SUMMARY:Jazz 93.5 Community Blues Hour with BJ Estares
DESCRIPTION:
URL:https://pikespkblues.org/event/jazz-93-5-community-blues-hour-with-bj-estares/2026-11-20/
LOCATION:CO
END:VEVENT
BEGIN:VEVENT
DTSTART;TZID=America/Denver:20261123T120000
DTEND;TZID=America/Denver:20261123T130000
DTSTAMP:20260425T090439
CREATED:20240608T152048Z
LAST-MODIFIED:20250205T153915Z
UID:10002279-1795435200-1795438800@pikespkblues.org
SUMMARY:Jazz 93.5 Community Blues Hour with BJ Estares
DESCRIPTION:
URL:https://pikespkblues.org/event/jazz-93-5-community-blues-hour-with-bj-estares/2026-11-23/
LOCATION:CO
END:VEVENT
BEGIN:VEVENT
DTSTART;TZID=America/Denver:20261124T120000
DTEND;TZID=America/Denver:20261124T130000
DTSTAMP:20260425T090439
CREATED:20240608T152048Z
LAST-MODIFIED:20250205T153915Z
UID:10002280-1795521600-1795525200@pikespkblues.org
SUMMARY:Jazz 93.5 Community Blues Hour with BJ Estares
DESCRIPTION:
URL:https://pikespkblues.org/event/jazz-93-5-community-blues-hour-with-bj-estares/2026-11-24/
LOCATION:CO
END:VEVENT
BEGIN:VEVENT
DTSTART;TZID=America/Denver:20261124T180000
DTEND;TZID=America/Denver:20261124T210000
DTSTAMP:20260425T090439
CREATED:20251004T004608Z
LAST-MODIFIED:20251004T182250Z
UID:10004839-1795543200-1795554000@pikespkblues.org
SUMMARY:Sweet T's Rude Blues Jam on Tuesdays at PEAK 31
DESCRIPTION:Sweet T’s Rude Blues Jam @ PEAK 31\, 2419 N Union Blvd (80909) on Tuesdays\, from 6:00 pm to 9:00 pm.
URL:https://pikespkblues.org/event/sweet-ts-rude-blues-jam-on-tuesdays-at-peak-31/2026-11-24/
LOCATION:PEAK 31\, 2419 N Union Blvd\, Colorado Springs\, CO\, 80909\, United States
CATEGORIES:Jams
END:VEVENT
BEGIN:VEVENT
DTSTART;TZID=America/Denver:20261125T120000
DTEND;TZID=America/Denver:20261125T130000
DTSTAMP:20260425T090439
CREATED:20240608T152048Z
LAST-MODIFIED:20250205T153915Z
UID:10002281-1795608000-1795611600@pikespkblues.org
SUMMARY:Jazz 93.5 Community Blues Hour with BJ Estares
DESCRIPTION:
URL:https://pikespkblues.org/event/jazz-93-5-community-blues-hour-with-bj-estares/2026-11-25/
LOCATION:CO
END:VEVENT
BEGIN:VEVENT
DTSTART;TZID=America/Denver:20261126T120000
DTEND;TZID=America/Denver:20261126T130000
DTSTAMP:20260425T090439
CREATED:20240608T152048Z
LAST-MODIFIED:20250205T153915Z
UID:10002282-1795694400-1795698000@pikespkblues.org
SUMMARY:Jazz 93.5 Community Blues Hour with BJ Estares
DESCRIPTION:
URL:https://pikespkblues.org/event/jazz-93-5-community-blues-hour-with-bj-estares/2026-11-26/
LOCATION:CO
END:VEVENT
BEGIN:VEVENT
DTSTART;TZID=America/Denver:20261127T120000
DTEND;TZID=America/Denver:20261127T130000
DTSTAMP:20260425T090439
CREATED:20240608T152048Z
LAST-MODIFIED:20250205T153915Z
UID:10002283-1795780800-1795784400@pikespkblues.org
SUMMARY:Jazz 93.5 Community Blues Hour with BJ Estares
DESCRIPTION:
URL:https://pikespkblues.org/event/jazz-93-5-community-blues-hour-with-bj-estares/2026-11-27/
LOCATION:CO
END:VEVENT
BEGIN:VEVENT
DTSTART;TZID=America/Denver:20261130T120000
DTEND;TZID=America/Denver:20261130T130000
DTSTAMP:20260425T090439
CREATED:20240608T152048Z
LAST-MODIFIED:20250205T153915Z
UID:10002284-1796040000-1796043600@pikespkblues.org
SUMMARY:Jazz 93.5 Community Blues Hour with BJ Estares
DESCRIPTION:
URL:https://pikespkblues.org/event/jazz-93-5-community-blues-hour-with-bj-estares/2026-11-30/
LOCATION:CO
END:VEVENT
BEGIN:VEVENT
DTSTART;TZID=America/Denver:20261201T120000
DTEND;TZID=America/Denver:20261201T130000
DTSTAMP:20260425T090439
CREATED:20240608T152048Z
LAST-MODIFIED:20250205T153915Z
UID:10002285-1796126400-1796130000@pikespkblues.org
SUMMARY:Jazz 93.5 Community Blues Hour with BJ Estares
DESCRIPTION:
URL:https://pikespkblues.org/event/jazz-93-5-community-blues-hour-with-bj-estares/2026-12-01/
LOCATION:CO
END:VEVENT
BEGIN:VEVENT
DTSTART;TZID=America/Denver:20261201T180000
DTEND;TZID=America/Denver:20261201T210000
DTSTAMP:20260425T090439
CREATED:20251004T004608Z
LAST-MODIFIED:20251004T182250Z
UID:10004840-1796148000-1796158800@pikespkblues.org
SUMMARY:Sweet T's Rude Blues Jam on Tuesdays at PEAK 31
DESCRIPTION:Sweet T’s Rude Blues Jam @ PEAK 31\, 2419 N Union Blvd (80909) on Tuesdays\, from 6:00 pm to 9:00 pm.
URL:https://pikespkblues.org/event/sweet-ts-rude-blues-jam-on-tuesdays-at-peak-31/2026-12-01/
LOCATION:PEAK 31\, 2419 N Union Blvd\, Colorado Springs\, CO\, 80909\, United States
CATEGORIES:Jams
END:VEVENT
BEGIN:VEVENT
DTSTART;TZID=America/Denver:20261202T120000
DTEND;TZID=America/Denver:20261202T130000
DTSTAMP:20260425T090439
CREATED:20240608T152048Z
LAST-MODIFIED:20250205T153915Z
UID:10002286-1796212800-1796216400@pikespkblues.org
SUMMARY:Jazz 93.5 Community Blues Hour with BJ Estares
DESCRIPTION:
URL:https://pikespkblues.org/event/jazz-93-5-community-blues-hour-with-bj-estares/2026-12-02/
LOCATION:CO
END:VEVENT
BEGIN:VEVENT
DTSTART;TZID=America/Denver:20261203T120000
DTEND;TZID=America/Denver:20261203T130000
DTSTAMP:20260425T090439
CREATED:20240608T152048Z
LAST-MODIFIED:20250205T153915Z
UID:10002287-1796299200-1796302800@pikespkblues.org
SUMMARY:Jazz 93.5 Community Blues Hour with BJ Estares
DESCRIPTION:
URL:https://pikespkblues.org/event/jazz-93-5-community-blues-hour-with-bj-estares/2026-12-03/
LOCATION:CO
END:VEVENT
END:VCALENDAR