BEGIN:VCALENDAR
VERSION:2.0
PRODID:-//Pikes Peak Blues Community - ECPv6.15.20//NONSGML v1.0//EN
CALSCALE:GREGORIAN
METHOD:PUBLISH
X-ORIGINAL-URL:https://pikespkblues.org
X-WR-CALDESC:Events for Pikes Peak Blues Community
REFRESH-INTERVAL;VALUE=DURATION:PT1H
X-Robots-Tag:noindex
X-PUBLISHED-TTL:PT1H
BEGIN:VTIMEZONE
TZID:America/Denver
BEGIN:DAYLIGHT
TZOFFSETFROM:-0700
TZOFFSETTO:-0600
TZNAME:MDT
DTSTART:20240310T090000
END:DAYLIGHT
BEGIN:STANDARD
TZOFFSETFROM:-0600
TZOFFSETTO:-0700
TZNAME:MST
DTSTART:20241103T080000
END:STANDARD
BEGIN:DAYLIGHT
TZOFFSETFROM:-0700
TZOFFSETTO:-0600
TZNAME:MDT
DTSTART:20250309T090000
END:DAYLIGHT
BEGIN:STANDARD
TZOFFSETFROM:-0600
TZOFFSETTO:-0700
TZNAME:MST
DTSTART:20251102T080000
END:STANDARD
BEGIN:DAYLIGHT
TZOFFSETFROM:-0700
TZOFFSETTO:-0600
TZNAME:MDT
DTSTART:20260308T090000
END:DAYLIGHT
BEGIN:STANDARD
TZOFFSETFROM:-0600
TZOFFSETTO:-0700
TZNAME:MST
DTSTART:20261101T080000
END:STANDARD
END:VTIMEZONE
BEGIN:VEVENT
DTSTART;TZID=America/Denver:20250606T200000
DTEND;TZID=America/Denver:20250606T230000
DTSTAMP:20260425T124445
CREATED:20250402T214156Z
LAST-MODIFIED:20250402T214156Z
UID:10004336-1749240000-1749250800@pikespkblues.org
SUMMARY:The Randall Dubis Band
DESCRIPTION:The Randall Dubis Band @ The Woodcellar Bar & Grill\, Evergreen on Friday\, June 6th at 8:00 pm
URL:https://pikespkblues.org/event/the-randall-dubis-band-5/
LOCATION:The Woodcellar Bar & Grill\, 1552 Bergen Pkwy #101\, Evergreen\, CO\, 80439\, United States
CATEGORIES:Concerts
END:VEVENT
BEGIN:VEVENT
DTSTART;TZID=America/Denver:20250607T120000
DTEND;TZID=America/Denver:20250607T210000
DTSTAMP:20260425T124445
CREATED:20250416T205207Z
LAST-MODIFIED:20250416T205324Z
UID:10004353-1749297600-1749330000@pikespkblues.org
SUMMARY:Greeley Blues Jam Music Festival - Day 2
DESCRIPTION:Greeley Blues Jam Music Festival – Day 2\, featuring The Motet; Elvin Bishop & Charlie Musselwhite Duo; Eddie 9V; Jackie Venson; Ben Chapman & Meg McGee; Blackcat Zydeco\, Dwight Carrier and Erica Brown; and Guerrilla Fanfare Brass Band @ Island Grove Regional Park\, Greeley on Saturday\, June 7th at 12:00 pm
URL:https://pikespkblues.org/event/greeley-blues-jam-music-festival-day-2/
LOCATION:Island Grove Regional Park\, 501 N 14th Ave\, Greeley\, CO\, 80631\, United States
CATEGORIES:Concerts
END:VEVENT
BEGIN:VEVENT
DTSTART;TZID=America/Denver:20250607T180000
DTEND;TZID=America/Denver:20250607T210000
DTSTAMP:20260425T124445
CREATED:20250501T193011Z
LAST-MODIFIED:20250501T193012Z
UID:10004367-1749319200-1749330000@pikespkblues.org
SUMMARY:Rafiel and The Roomshakers
DESCRIPTION:Rafiel and The Roomshakers @ Rico’s Café and Wine Bar\, 322 1/2 N Tejon St\, Colorado Springs on Saturday\, June 7th at 6:00 pm.
URL:https://pikespkblues.org/event/rafiel-and-the-roomshakers-3/
LOCATION:Rico’s Cafe and Wine Bar\, 322 1/2\, N Tejon St\, Colorado Springs\, CO\, 80903\, United States
CATEGORIES:Concerts
END:VEVENT
BEGIN:VEVENT
DTSTART;TZID=America/Denver:20250607T190000
DTEND;TZID=America/Denver:20250607T223000
DTSTAMP:20260425T124445
CREATED:20250602T225709Z
LAST-MODIFIED:20250602T225709Z
UID:10004388-1749322800-1749335400@pikespkblues.org
SUMMARY:Vince Converse and Big Brother
DESCRIPTION:Vince Converse and Big Brother @ The Rusty Bucket\, Denver on Saturday\, June 7th at 7:00 pm
URL:https://pikespkblues.org/event/vince-converse-and-big-brother/
LOCATION:The Rusty Bucket Bar and Grill\, 3355 S Wadsworth\, Lakewood\, CO\, 80277\, United States
CATEGORIES:Concerts
END:VEVENT
BEGIN:VEVENT
DTSTART;TZID=America/Denver:20250609T120000
DTEND;TZID=America/Denver:20250609T130000
DTSTAMP:20260425T124445
CREATED:20240608T152048Z
LAST-MODIFIED:20250205T153915Z
UID:10001899-1749470400-1749474000@pikespkblues.org
SUMMARY:Jazz 93.5 Community Blues Hour with BJ Estares
DESCRIPTION:
URL:https://pikespkblues.org/event/jazz-93-5-community-blues-hour-with-bj-estares/2025-06-09/
LOCATION:CO
END:VEVENT
BEGIN:VEVENT
DTSTART;TZID=America/Denver:20250610T120000
DTEND;TZID=America/Denver:20250610T130000
DTSTAMP:20260425T124445
CREATED:20240608T152048Z
LAST-MODIFIED:20250205T153915Z
UID:10001900-1749556800-1749560400@pikespkblues.org
SUMMARY:Jazz 93.5 Community Blues Hour with BJ Estares
DESCRIPTION:
URL:https://pikespkblues.org/event/jazz-93-5-community-blues-hour-with-bj-estares/2025-06-10/
LOCATION:CO
END:VEVENT
BEGIN:VEVENT
DTSTART;TZID=America/Denver:20250610T173000
DTEND;TZID=America/Denver:20250610T193000
DTSTAMP:20260425T124445
CREATED:20250602T171722Z
LAST-MODIFIED:20250603T161723Z
UID:10004380-1749576600-1749583800@pikespkblues.org
SUMMARY:Rafiel and The Roomshakers
DESCRIPTION:Rafiel and The Roomshakers @ Bancroft Park\, Old Colorado City on Tuesday\, June 10th at 5:30 pm\nPart of Dizzy Charlie’s Music & Events “Tuesdays in Bancroft Park” free Summer Music Series
URL:https://pikespkblues.org/event/rafiel-and-the-roomshakers-5/
LOCATION:Bancroft Park\, 2408 W Colorado Ave\, Colorado Springs\, 80904\, United States
CATEGORIES:Concerts
END:VEVENT
BEGIN:VEVENT
DTSTART;TZID=America/Denver:20250611T120000
DTEND;TZID=America/Denver:20250611T130000
DTSTAMP:20260425T124445
CREATED:20240608T152048Z
LAST-MODIFIED:20250205T153915Z
UID:10001901-1749643200-1749646800@pikespkblues.org
SUMMARY:Jazz 93.5 Community Blues Hour with BJ Estares
DESCRIPTION:
URL:https://pikespkblues.org/event/jazz-93-5-community-blues-hour-with-bj-estares/2025-06-11/
LOCATION:CO
END:VEVENT
BEGIN:VEVENT
DTSTART;TZID=America/Denver:20250612T120000
DTEND;TZID=America/Denver:20250612T130000
DTSTAMP:20260425T124445
CREATED:20240608T152048Z
LAST-MODIFIED:20250205T153915Z
UID:10001902-1749729600-1749733200@pikespkblues.org
SUMMARY:Jazz 93.5 Community Blues Hour with BJ Estares
DESCRIPTION:
URL:https://pikespkblues.org/event/jazz-93-5-community-blues-hour-with-bj-estares/2025-06-12/
LOCATION:CO
END:VEVENT
BEGIN:VEVENT
DTSTART;TZID=America/Denver:20250613T120000
DTEND;TZID=America/Denver:20250613T130000
DTSTAMP:20260425T124445
CREATED:20240608T152048Z
LAST-MODIFIED:20250205T153915Z
UID:10001903-1749816000-1749819600@pikespkblues.org
SUMMARY:Jazz 93.5 Community Blues Hour with BJ Estares
DESCRIPTION:
URL:https://pikespkblues.org/event/jazz-93-5-community-blues-hour-with-bj-estares/2025-06-13/
LOCATION:CO
END:VEVENT
BEGIN:VEVENT
DTSTART;TZID=America/Denver:20250613T193000
DTEND;TZID=America/Denver:20250613T220000
DTSTAMP:20260425T124445
CREATED:20250430T004358Z
LAST-MODIFIED:20250430T004358Z
UID:10004361-1749843000-1749852000@pikespkblues.org
SUMMARY:Hoodoo Honey and Hurricane Dave and The Storm Chasers with special guest Dave Day
DESCRIPTION:Hoodoo Honey and Hurricane Dave and The Storm Chasers with special guest Dave Day @ The Basement at Oskar Blues Colorado Springs on Thursday\, June 13th at 7:30 pm
URL:https://pikespkblues.org/event/hoodoo-honey-and-hurricane-dave-and-the-storm-chasers-with-special-guest-dave-day/
LOCATION:The Basement at Oskar Blues Colorado Springs\, 118 N Tejon St\, Colorado Springs\, CO\, 80904\, United States
CATEGORIES:Concerts
END:VEVENT
BEGIN:VEVENT
DTSTART;TZID=America/Denver:20250616T120000
DTEND;TZID=America/Denver:20250616T130000
DTSTAMP:20260425T124445
CREATED:20240608T152048Z
LAST-MODIFIED:20250205T153915Z
UID:10001904-1750075200-1750078800@pikespkblues.org
SUMMARY:Jazz 93.5 Community Blues Hour with BJ Estares
DESCRIPTION:
URL:https://pikespkblues.org/event/jazz-93-5-community-blues-hour-with-bj-estares/2025-06-16/
LOCATION:CO
END:VEVENT
BEGIN:VEVENT
DTSTART;TZID=America/Denver:20250617T120000
DTEND;TZID=America/Denver:20250617T130000
DTSTAMP:20260425T124445
CREATED:20240608T152048Z
LAST-MODIFIED:20250205T153915Z
UID:10001905-1750161600-1750165200@pikespkblues.org
SUMMARY:Jazz 93.5 Community Blues Hour with BJ Estares
DESCRIPTION:
URL:https://pikespkblues.org/event/jazz-93-5-community-blues-hour-with-bj-estares/2025-06-17/
LOCATION:CO
END:VEVENT
BEGIN:VEVENT
DTSTART;TZID=America/Denver:20250617T173000
DTEND;TZID=America/Denver:20250617T193000
DTSTAMP:20260425T124446
CREATED:20250415T224654Z
LAST-MODIFIED:20250617T212623Z
UID:10004348-1750181400-1750188600@pikespkblues.org
SUMMARY:Jake Loggins Band - PPBC Paint The Town Blue concert. THIS CONCERT HAS BEEN CANCELLED DUE TO WEATHER CONCERNS AND WILL BE RESCHEDULED.
DESCRIPTION:Jake Loggins Band – a PPBC Paint The Town Blue concert in Bancroft Park\, Old Colorado City on Tuesday\, June 17th at 5:30 pm. \nNOTE: THIS CONCERT HAS BEEN CANCELLED DUE TO WEATHER CONCERNS AND WILL BE RESCHEDULED. PPBC WILL PROVIDE NOTICE OF THE NEW DATE ONCE IT HAS BEEN CONFIRMED.  THANK YOU.
URL:https://pikespkblues.org/event/jake-loggins-band-ppbc-paint-the-town-blue-concert/
LOCATION:Bancroft Park\, 2408 W Colorado Ave\, Colorado Springs\, 80904\, United States
CATEGORIES:Concerts
END:VEVENT
BEGIN:VEVENT
DTSTART;TZID=America/Denver:20250618T120000
DTEND;TZID=America/Denver:20250618T130000
DTSTAMP:20260425T124446
CREATED:20240608T152048Z
LAST-MODIFIED:20250205T153915Z
UID:10001906-1750248000-1750251600@pikespkblues.org
SUMMARY:Jazz 93.5 Community Blues Hour with BJ Estares
DESCRIPTION:
URL:https://pikespkblues.org/event/jazz-93-5-community-blues-hour-with-bj-estares/2025-06-18/
LOCATION:CO
END:VEVENT
BEGIN:VEVENT
DTSTART;TZID=America/Denver:20250619T120000
DTEND;TZID=America/Denver:20250619T130000
DTSTAMP:20260425T124446
CREATED:20240608T152048Z
LAST-MODIFIED:20250205T153915Z
UID:10001907-1750334400-1750338000@pikespkblues.org
SUMMARY:Jazz 93.5 Community Blues Hour with BJ Estares
DESCRIPTION:
URL:https://pikespkblues.org/event/jazz-93-5-community-blues-hour-with-bj-estares/2025-06-19/
LOCATION:CO
END:VEVENT
BEGIN:VEVENT
DTSTART;TZID=America/Denver:20250620T120000
DTEND;TZID=America/Denver:20250620T130000
DTSTAMP:20260425T124446
CREATED:20240608T152048Z
LAST-MODIFIED:20250205T153915Z
UID:10001908-1750420800-1750424400@pikespkblues.org
SUMMARY:Jazz 93.5 Community Blues Hour with BJ Estares
DESCRIPTION:
URL:https://pikespkblues.org/event/jazz-93-5-community-blues-hour-with-bj-estares/2025-06-20/
LOCATION:CO
END:VEVENT
BEGIN:VEVENT
DTSTART;TZID=America/Denver:20250620T210000
DTEND;TZID=America/Denver:20250620T233000
DTSTAMP:20260425T124446
CREATED:20250402T215051Z
LAST-MODIFIED:20250402T215051Z
UID:10004337-1750453200-1750462200@pikespkblues.org
SUMMARY:Maynard Mills Blues with John Long - Part of the Mile High Blues Event June 20-22\, 2025
DESCRIPTION:Maynard Mills Blues with John Long – Part of the Mile High Blues Event @ Sheraton Denver Downtown Hotel\, Denver on Friday\, June 20th at 9:00 pm. See https://www.milehighblues.com/ for more information on the three day event.
URL:https://pikespkblues.org/event/maynard-mills-blues-with-john-long-part-of-the-mile-high-blues-event-june-20-22-2025/
LOCATION:Sheraton Denver Downtown Hotel\, 1550 Court Place\, Denver\, CO\, 80301\, United States
CATEGORIES:Concerts
END:VEVENT
BEGIN:VEVENT
DTSTART;TZID=America/Denver:20250621T190000
DTEND;TZID=America/Denver:20250621T213000
DTSTAMP:20260425T124446
CREATED:20250618T200759Z
LAST-MODIFIED:20250619T192446Z
UID:10004391-1750532400-1750541400@pikespkblues.org
SUMMARY:Randy Stephens and the Groove Makers - Benefit Concert for Care and Share of Southern Colorado
DESCRIPTION:Randy Stephens and the Groove Makers – Benefit Concert for Care and Share of Southern Colorado @ Stargazers Theatre\, Colorado Springs on Saturday\, June 21st at 7:00 pm. Doors open at 6:00 pm. Admission: Two Non-Perishable Food Items or Cash Donation.
URL:https://pikespkblues.org/event/randy-stephens-and-the-groove-makers-benefit-concert-for-care-and-share-of-southern-colorado/
LOCATION:Stargazers Theatre\, 10 S Parkside Dr\, Colorado Springs\, CO\, 80910\, United States
CATEGORIES:Concerts
END:VEVENT
BEGIN:VEVENT
DTSTART;TZID=America/Denver:20250621T210000
DTEND;TZID=America/Denver:20250621T233000
DTSTAMP:20260425T124446
CREATED:20250402T215318Z
LAST-MODIFIED:20250402T215318Z
UID:10004338-1750539600-1750548600@pikespkblues.org
SUMMARY:Nic Clark Band - Part of the Mile High Blues Event June 20-22\, 2025
DESCRIPTION:Nic Clark Band – Part of the Mile High Blues Event @ Sheraton Denver Downtown Hotel\, Denver on Saturday\, June 21st at 9:00 pm. See https://www.milehighblues.com/ for more information on the three day event.
URL:https://pikespkblues.org/event/nic-clark-band-part-of-the-mile-high-blues-event-june-20-22-2025/
LOCATION:Sheraton Denver Downtown Hotel\, 1550 Court Place\, Denver\, CO\, 80301\, United States
CATEGORIES:Concerts
END:VEVENT
BEGIN:VEVENT
DTSTART;TZID=America/Denver:20250622T200000
DTEND;TZID=America/Denver:20250622T223000
DTSTAMP:20260425T124446
CREATED:20250402T215517Z
LAST-MODIFIED:20250601T190011Z
UID:10004339-1750622400-1750631400@pikespkblues.org
SUMMARY:Nic Clark Band - Part of the Mile High Blues Event June 20-22\, 2025
DESCRIPTION:Nic Clark Band – Part of the Mile High Blues Event @ Sheraton Denver Downtown Hotel\, Denver on Sunday\, June 22nd at 9:00 pm. See https://www.milehighblues.com/ for more information on the three day event.
URL:https://pikespkblues.org/event/nic-clark-band-part-of-the-mile-high-blues-event-june-20-22-2025-2/
LOCATION:Sheraton Denver Downtown Hotel\, 1550 Court Place\, Denver\, CO\, 80301\, United States
CATEGORIES:Concerts
END:VEVENT
BEGIN:VEVENT
DTSTART;TZID=America/Denver:20250623T120000
DTEND;TZID=America/Denver:20250623T130000
DTSTAMP:20260425T124446
CREATED:20240608T152048Z
LAST-MODIFIED:20250205T153915Z
UID:10001909-1750680000-1750683600@pikespkblues.org
SUMMARY:Jazz 93.5 Community Blues Hour with BJ Estares
DESCRIPTION:
URL:https://pikespkblues.org/event/jazz-93-5-community-blues-hour-with-bj-estares/2025-06-23/
LOCATION:CO
END:VEVENT
BEGIN:VEVENT
DTSTART;TZID=America/Denver:20250624T120000
DTEND;TZID=America/Denver:20250624T130000
DTSTAMP:20260425T124446
CREATED:20240608T152048Z
LAST-MODIFIED:20250205T153915Z
UID:10001910-1750766400-1750770000@pikespkblues.org
SUMMARY:Jazz 93.5 Community Blues Hour with BJ Estares
DESCRIPTION:
URL:https://pikespkblues.org/event/jazz-93-5-community-blues-hour-with-bj-estares/2025-06-24/
LOCATION:CO
END:VEVENT
BEGIN:VEVENT
DTSTART;TZID=America/Denver:20250624T173000
DTEND;TZID=America/Denver:20250624T193000
DTSTAMP:20260425T124446
CREATED:20250602T172314Z
LAST-MODIFIED:20250603T161934Z
UID:10004381-1750786200-1750793400@pikespkblues.org
SUMMARY:The Moldy Figs
DESCRIPTION:The Moldy Figs @ Bancroft Park\, Old Colorado City on Tuesday\, June 24th at 5:30 pm\nPart of Dizzy Charlie’s Music & Events “Tuesdays in Bancroft Park” free Summer Music Series
URL:https://pikespkblues.org/event/the-moldy-figs/
LOCATION:Bancroft Park\, 2408 W Colorado Ave\, Colorado Springs\, 80904\, United States
CATEGORIES:Concerts
END:VEVENT
BEGIN:VEVENT
DTSTART;TZID=America/Denver:20250625T120000
DTEND;TZID=America/Denver:20250625T130000
DTSTAMP:20260425T124446
CREATED:20240608T152048Z
LAST-MODIFIED:20250205T153915Z
UID:10001911-1750852800-1750856400@pikespkblues.org
SUMMARY:Jazz 93.5 Community Blues Hour with BJ Estares
DESCRIPTION:
URL:https://pikespkblues.org/event/jazz-93-5-community-blues-hour-with-bj-estares/2025-06-25/
LOCATION:CO
END:VEVENT
BEGIN:VEVENT
DTSTART;TZID=America/Denver:20250626T120000
DTEND;TZID=America/Denver:20250626T130000
DTSTAMP:20260425T124446
CREATED:20240608T152048Z
LAST-MODIFIED:20250205T153915Z
UID:10001912-1750939200-1750942800@pikespkblues.org
SUMMARY:Jazz 93.5 Community Blues Hour with BJ Estares
DESCRIPTION:
URL:https://pikespkblues.org/event/jazz-93-5-community-blues-hour-with-bj-estares/2025-06-26/
LOCATION:CO
END:VEVENT
BEGIN:VEVENT
DTSTART;TZID=America/Denver:20250626T193000
DTEND;TZID=America/Denver:20250626T220000
DTSTAMP:20260425T124446
CREATED:20250312T210012Z
LAST-MODIFIED:20250312T210012Z
UID:10004312-1750966200-1750975200@pikespkblues.org
SUMMARY:Marcia Ball
DESCRIPTION:Marcia Ball @ The Oriental Theatre\, Denver on Thursday\, June 26th at 7:30 pm.
URL:https://pikespkblues.org/event/marcia-ball/
LOCATION:Oriental Theater\, 4335 W 44th Ave\, Denver\, CO\, 80212\, United States
CATEGORIES:Concerts
END:VEVENT
BEGIN:VEVENT
DTSTART;TZID=America/Denver:20250627T120000
DTEND;TZID=America/Denver:20250627T130000
DTSTAMP:20260425T124446
CREATED:20240608T152048Z
LAST-MODIFIED:20250205T153915Z
UID:10001913-1751025600-1751029200@pikespkblues.org
SUMMARY:Jazz 93.5 Community Blues Hour with BJ Estares
DESCRIPTION:
URL:https://pikespkblues.org/event/jazz-93-5-community-blues-hour-with-bj-estares/2025-06-27/
LOCATION:CO
END:VEVENT
BEGIN:VEVENT
DTSTART;TZID=America/Denver:20250627T183000
DTEND;TZID=America/Denver:20250627T213000
DTSTAMP:20260425T124446
CREATED:20250307T173506Z
LAST-MODIFIED:20250601T191157Z
UID:10004308-1751049000-1751059800@pikespkblues.org
SUMMARY:23rd Annual Blues From The Top Music Festival - Day 1
DESCRIPTION:Blues From The Top Music Festival-Day 1 featuring JJ Grey & Mofo and Sonny Landreth @ Rendezvous Event Center\, Winter Park\, CO on Friday\, June 27th at 6:30 pm (Doors open at 4:30 pm)
URL:https://pikespkblues.org/event/23rd-annual-blues-from-the-top-music-festival-day-1/
LOCATION:Rendezvous Event Center\, 78821 U.S. 40\, Winter Park\, CO\, 80482\, United States
CATEGORIES:Concerts
END:VEVENT
BEGIN:VEVENT
DTSTART;TZID=America/Denver:20250628T110000
DTEND;TZID=America/Denver:20250628T180000
DTSTAMP:20260425T124446
CREATED:20250307T173750Z
LAST-MODIFIED:20250601T191908Z
UID:10004309-1751108400-1751133600@pikespkblues.org
SUMMARY:23rd Annual Blues From The Top Music Festival - Day 2
DESCRIPTION:Blues From The Top Music Festival-Day 2 featuring Little Feat\, The Record Company\, Joanne Shaw Taylor\, Dwayne Dopsie and The Zydeco Hellraisers\, and Vince Converse and Big Brother @ Rendezvous Event Center\, Winter Park\, CO on Saturday\, June 28th at 11:00 am (Doors open at 10:00 am)
URL:https://pikespkblues.org/event/23rd-annual-blues-from-the-top-music-festival-day-2/
LOCATION:Rendezvous Event Center\, 78821 U.S. 40\, Winter Park\, CO\, 80482\, United States
CATEGORIES:Concerts
END:VEVENT
END:VCALENDAR