BEGIN:VCALENDAR
VERSION:2.0
PRODID:-//Pikes Peak Blues Community - ECPv6.15.20//NONSGML v1.0//EN
CALSCALE:GREGORIAN
METHOD:PUBLISH
X-WR-CALNAME:Pikes Peak Blues Community
X-ORIGINAL-URL:https://pikespkblues.org
X-WR-CALDESC:Events for Pikes Peak Blues Community
REFRESH-INTERVAL;VALUE=DURATION:PT1H
X-Robots-Tag:noindex
X-PUBLISHED-TTL:PT1H
BEGIN:VTIMEZONE
TZID:America/Denver
BEGIN:DAYLIGHT
TZOFFSETFROM:-0700
TZOFFSETTO:-0600
TZNAME:MDT
DTSTART:20230312T090000
END:DAYLIGHT
BEGIN:STANDARD
TZOFFSETFROM:-0600
TZOFFSETTO:-0700
TZNAME:MST
DTSTART:20231105T080000
END:STANDARD
BEGIN:DAYLIGHT
TZOFFSETFROM:-0700
TZOFFSETTO:-0600
TZNAME:MDT
DTSTART:20240310T090000
END:DAYLIGHT
BEGIN:STANDARD
TZOFFSETFROM:-0600
TZOFFSETTO:-0700
TZNAME:MST
DTSTART:20241103T080000
END:STANDARD
BEGIN:DAYLIGHT
TZOFFSETFROM:-0700
TZOFFSETTO:-0600
TZNAME:MDT
DTSTART:20250309T090000
END:DAYLIGHT
BEGIN:STANDARD
TZOFFSETFROM:-0600
TZOFFSETTO:-0700
TZNAME:MST
DTSTART:20251102T080000
END:STANDARD
END:VTIMEZONE
BEGIN:VEVENT
DTSTART;TZID=America/Denver:20240717T120000
DTEND;TZID=America/Denver:20240717T130000
DTSTAMP:20260425T080941
CREATED:20240608T152048Z
LAST-MODIFIED:20250205T153915Z
UID:10001666-1721217600-1721221200@pikespkblues.org
SUMMARY:Jazz 93.5 Community Blues Hour with BJ Estares
DESCRIPTION:
URL:https://pikespkblues.org/event/jazz-93-5-community-blues-hour-with-bj-estares/2024-07-17/
LOCATION:CO
END:VEVENT
BEGIN:VEVENT
DTSTART;TZID=America/Denver:20240717T190000
DTEND;TZID=America/Denver:20240717T220000
DTSTAMP:20260425T080941
CREATED:20240429T173505Z
LAST-MODIFIED:20240504T212415Z
UID:10000054-1721242800-1721253600@pikespkblues.org
SUMMARY:The Tasty Blues Jam at Buzzed Crow
DESCRIPTION:
URL:https://pikespkblues.org/event/tasty-blues-jam-7/
LOCATION:CO
CATEGORIES:Jams
END:VEVENT
BEGIN:VEVENT
DTSTART;TZID=America/Denver:20240718T120000
DTEND;TZID=America/Denver:20240718T130000
DTSTAMP:20260425T080941
CREATED:20240608T152048Z
LAST-MODIFIED:20250205T153915Z
UID:10001667-1721304000-1721307600@pikespkblues.org
SUMMARY:Jazz 93.5 Community Blues Hour with BJ Estares
DESCRIPTION:
URL:https://pikespkblues.org/event/jazz-93-5-community-blues-hour-with-bj-estares/2024-07-18/
LOCATION:CO
END:VEVENT
BEGIN:VEVENT
DTSTART;TZID=America/Denver:20240718T200000
DTEND;TZID=America/Denver:20240718T200000
DTSTAMP:20260425T080941
CREATED:20240715T222501Z
LAST-MODIFIED:20240715T225137Z
UID:10002951-1721332800-1721332800@pikespkblues.org
SUMMARY:Samantha Fish
DESCRIPTION:
URL:https://pikespkblues.org/event/samantha-fish/
LOCATION:Lulu’s Downtown\, 32 S. Tejon St\, Colorado Springs\, CO\, 80903\, United States
CATEGORIES:Concerts
END:VEVENT
BEGIN:VEVENT
DTSTART;TZID=America/Denver:20240719T120000
DTEND;TZID=America/Denver:20240719T130000
DTSTAMP:20260425T080941
CREATED:20240608T152048Z
LAST-MODIFIED:20250205T153915Z
UID:10001668-1721390400-1721394000@pikespkblues.org
SUMMARY:Jazz 93.5 Community Blues Hour with BJ Estares
DESCRIPTION:
URL:https://pikespkblues.org/event/jazz-93-5-community-blues-hour-with-bj-estares/2024-07-19/
LOCATION:CO
END:VEVENT
BEGIN:VEVENT
DTSTART;TZID=America/Denver:20240719T200000
DTEND;TZID=America/Denver:20240719T200000
DTSTAMP:20260425T080941
CREATED:20240715T223603Z
LAST-MODIFIED:20240715T223603Z
UID:10002952-1721419200-1721419200@pikespkblues.org
SUMMARY:Samantha Fish with Zac Schulze Gang
DESCRIPTION:
URL:https://pikespkblues.org/event/samantha-fish-with-zac-schulze-gang/
LOCATION:Mishawaha Amphitheatre\, 13714 Poudre Canyon Highway\, Bellvue\, CO\, 80512\, United States
CATEGORIES:Concerts
END:VEVENT
BEGIN:VEVENT
DTSTART;TZID=America/Denver:20240720T180000
DTEND;TZID=America/Denver:20240720T210000
DTSTAMP:20260425T080941
CREATED:20240426T140333Z
LAST-MODIFIED:20240430T211612Z
UID:10000012-1721498400-1721509200@pikespkblues.org
SUMMARY:Old School Cool at Rico's
DESCRIPTION:Blues duo Old School Cool is Playing at Rico’s Café! Come hear the crazy mixed up world of Steve Shwen and Randy Mummert
URL:https://pikespkblues.org/event/old-school-cool-at-ricos-3/
LOCATION:CO
CATEGORIES:Concerts
ATTACH;FMTTYPE=image/png:https://pikespkblues.org/wp-content/uploads/2024/04/5425736939034728930-e1715578957159.png
END:VEVENT
BEGIN:VEVENT
DTSTART;TZID=America/Denver:20240720T190000
DTEND;TZID=America/Denver:20240720T190000
DTSTAMP:20260425T080941
CREATED:20240715T221513Z
LAST-MODIFIED:20240715T221513Z
UID:10002950-1721502000-1721502000@pikespkblues.org
SUMMARY:Christone "Kingfish" Ingram
DESCRIPTION:
URL:https://pikespkblues.org/event/christone-kingfish-ingram/
LOCATION:Dillon Amphitheater\, 201 W Lodgepole St\, Dillon\, CO\, 80435\, United States
CATEGORIES:Concerts
END:VEVENT
BEGIN:VEVENT
DTSTART;TZID=America/Denver:20240722T120000
DTEND;TZID=America/Denver:20240722T130000
DTSTAMP:20260425T080941
CREATED:20240608T152048Z
LAST-MODIFIED:20250205T153915Z
UID:10001669-1721649600-1721653200@pikespkblues.org
SUMMARY:Jazz 93.5 Community Blues Hour with BJ Estares
DESCRIPTION:
URL:https://pikespkblues.org/event/jazz-93-5-community-blues-hour-with-bj-estares/2024-07-22/
LOCATION:CO
END:VEVENT
BEGIN:VEVENT
DTSTART;TZID=America/Denver:20240723T120000
DTEND;TZID=America/Denver:20240723T130000
DTSTAMP:20260425T080941
CREATED:20240608T152048Z
LAST-MODIFIED:20250205T153915Z
UID:10001670-1721736000-1721739600@pikespkblues.org
SUMMARY:Jazz 93.5 Community Blues Hour with BJ Estares
DESCRIPTION:
URL:https://pikespkblues.org/event/jazz-93-5-community-blues-hour-with-bj-estares/2024-07-23/
LOCATION:CO
END:VEVENT
BEGIN:VEVENT
DTSTART;TZID=America/Denver:20240723T180000
DTEND;TZID=America/Denver:20240723T200000
DTSTAMP:20260425T080941
CREATED:20240607T225548Z
LAST-MODIFIED:20240607T225630Z
UID:10000063-1721757600-1721764800@pikespkblues.org
SUMMARY:Heavy Devils
DESCRIPTION:
URL:https://pikespkblues.org/event/heavy-devils/
LOCATION:Bancroft Park\, 2408 W Colorado Ave\, Colorado Springs\, 80904\, United States
CATEGORIES:Concerts
END:VEVENT
BEGIN:VEVENT
DTSTART;TZID=America/Denver:20240724T120000
DTEND;TZID=America/Denver:20240724T130000
DTSTAMP:20260425T080941
CREATED:20240608T152048Z
LAST-MODIFIED:20250205T153915Z
UID:10001671-1721822400-1721826000@pikespkblues.org
SUMMARY:Jazz 93.5 Community Blues Hour with BJ Estares
DESCRIPTION:
URL:https://pikespkblues.org/event/jazz-93-5-community-blues-hour-with-bj-estares/2024-07-24/
LOCATION:CO
END:VEVENT
BEGIN:VEVENT
DTSTART;TZID=America/Denver:20240725T120000
DTEND;TZID=America/Denver:20240725T130000
DTSTAMP:20260425T080941
CREATED:20240608T152048Z
LAST-MODIFIED:20250205T153915Z
UID:10001672-1721908800-1721912400@pikespkblues.org
SUMMARY:Jazz 93.5 Community Blues Hour with BJ Estares
DESCRIPTION:
URL:https://pikespkblues.org/event/jazz-93-5-community-blues-hour-with-bj-estares/2024-07-25/
LOCATION:CO
END:VEVENT
BEGIN:VEVENT
DTSTART;TZID=America/Denver:20240725T180000
DTEND;TZID=America/Denver:20240725T200000
DTSTAMP:20260425T080941
CREATED:20240426T140332Z
LAST-MODIFIED:20240607T231707Z
UID:10000009-1721930400-1721937600@pikespkblues.org
SUMMARY:PPBC Blues at Front Range BBQ with BJ Estares and Route 61
DESCRIPTION:https://www.facebook.com/p/BJ-Estares-and-Route-61-100063356491666/
URL:https://pikespkblues.org/event/ppbc-blues-at-front-range-bbq/
LOCATION:Front Range BBQ\, 2330 W Colorado Ave\, Colorado Springs\, CO\, 80904\, United States
CATEGORIES:Concerts
ATTACH;FMTTYPE=image/png:https://pikespkblues.org/wp-content/uploads/2024/04/BJ-Estares.png
ORGANIZER;CN="PPBC":MAILTO:info@pikespkblues.org
END:VEVENT
BEGIN:VEVENT
DTSTART;TZID=America/Denver:20240726T120000
DTEND;TZID=America/Denver:20240726T130000
DTSTAMP:20260425T080942
CREATED:20240608T152048Z
LAST-MODIFIED:20250205T153915Z
UID:10001673-1721995200-1721998800@pikespkblues.org
SUMMARY:Jazz 93.5 Community Blues Hour with BJ Estares
DESCRIPTION:
URL:https://pikespkblues.org/event/jazz-93-5-community-blues-hour-with-bj-estares/2024-07-26/
LOCATION:CO
END:VEVENT
BEGIN:VEVENT
DTSTART;TZID=America/Denver:20240726T193000
DTEND;TZID=America/Denver:20240727T220000
DTSTAMP:20260425T080942
CREATED:20240427T163651Z
LAST-MODIFIED:20240429T173328Z
UID:10000034-1722022200-1722117600@pikespkblues.org
SUMMARY:Tedeschi Trucks Band at Red Rocks
DESCRIPTION:
URL:https://pikespkblues.org/event/tedeschi-trucks-band-at-red-rocks/
LOCATION:CO
CATEGORIES:Concerts
END:VEVENT
BEGIN:VEVENT
DTSTART;TZID=America/Denver:20240726T200000
DTEND;TZID=America/Denver:20240726T220000
DTSTAMP:20260425T080942
CREATED:20240706T173751Z
LAST-MODIFIED:20240706T174814Z
UID:10002949-1722024000-1722031200@pikespkblues.org
SUMMARY:Blooz Blowdown at Fritzy's Basement Bar
DESCRIPTION:Featuring Hurricane Dave and the Storm Chasers
URL:https://pikespkblues.org/event/blooz-blowdown-at-fritzys/
LOCATION:Triple Nickel Bar\, 103 S. Wasatch\, Colorado Springs\, CO\, 80903\, United States
ORGANIZER;CN="PPBC":MAILTO:info@pikespkblues.org
END:VEVENT
BEGIN:VEVENT
DTSTART;TZID=America/Denver:20240727T150000
DTEND;TZID=America/Denver:20240727T213000
DTSTAMP:20260425T080942
CREATED:20240718T170915Z
LAST-MODIFIED:20240718T171042Z
UID:10002961-1722092400-1722115800@pikespkblues.org
SUMMARY:Clancy's Annual Sonic Blues Festival
DESCRIPTION:Clancy’s Annual Sonic Blues Festival \n \nFeaturing: Lionel Young and Erica Brown (3 pm)\, Jack Hadley (5 pm) and the Delta Sonics (7 pm)
URL:https://pikespkblues.org/event/clancys-annual-sonic-blues-festival/
LOCATION:Clancy’s Irish Pub\, 7000 West 38th Avenue\, Wheat Ridge\, CO 80033\, Wheat Ridge\, CO\, 80033\, United States
CATEGORIES:Concerts
END:VEVENT
BEGIN:VEVENT
DTSTART;TZID=America/Denver:20240728T110000
DTEND;TZID=America/Denver:20240728T160000
DTSTAMP:20260425T080942
CREATED:20240716T045304Z
LAST-MODIFIED:20240716T045304Z
UID:10002960-1722164400-1722182400@pikespkblues.org
SUMMARY:Blues Roots Denver and CMDance Present a Benefit for MusiCares®
DESCRIPTION:
URL:https://pikespkblues.org/event/blues-roots-denver-and-cmdance-present-a-benefit-for-musicares/
LOCATION:The Denver Turnverein\, 1570 North Clarkson Street\, Denver\, CO\, 80218\, United States
END:VEVENT
BEGIN:VEVENT
DTSTART;TZID=America/Denver:20240729T120000
DTEND;TZID=America/Denver:20240729T130000
DTSTAMP:20260425T080942
CREATED:20240608T152048Z
LAST-MODIFIED:20250205T153915Z
UID:10001674-1722254400-1722258000@pikespkblues.org
SUMMARY:Jazz 93.5 Community Blues Hour with BJ Estares
DESCRIPTION:
URL:https://pikespkblues.org/event/jazz-93-5-community-blues-hour-with-bj-estares/2024-07-29/
LOCATION:CO
END:VEVENT
BEGIN:VEVENT
DTSTART;TZID=America/Denver:20240729T193000
DTEND;TZID=America/Denver:20240730T220000
DTSTAMP:20260425T080942
CREATED:20240427T163651Z
LAST-MODIFIED:20240429T173328Z
UID:10000035-1722281400-1722376800@pikespkblues.org
SUMMARY:Santana and Counting Crows at Red Rocks
DESCRIPTION:
URL:https://pikespkblues.org/event/santana-and-counting-crows-at-red-rocks/
LOCATION:CO
CATEGORIES:Concerts
END:VEVENT
BEGIN:VEVENT
DTSTART;TZID=America/Denver:20240730T120000
DTEND;TZID=America/Denver:20240730T130000
DTSTAMP:20260425T080942
CREATED:20240608T152048Z
LAST-MODIFIED:20250205T153915Z
UID:10001675-1722340800-1722344400@pikespkblues.org
SUMMARY:Jazz 93.5 Community Blues Hour with BJ Estares
DESCRIPTION:
URL:https://pikespkblues.org/event/jazz-93-5-community-blues-hour-with-bj-estares/2024-07-30/
LOCATION:CO
END:VEVENT
BEGIN:VEVENT
DTSTART;TZID=America/Denver:20240730T173000
DTEND;TZID=America/Denver:20240730T193000
DTSTAMP:20260425T080942
CREATED:20240429T173240Z
LAST-MODIFIED:20240607T231450Z
UID:10000046-1722360600-1722367800@pikespkblues.org
SUMMARY:Austin Johnson
DESCRIPTION:Paint The Town Blue returns to Bancroft Park in 2024. Outstanding Blues artists will be playing at the bandshell this summer on alternate Tuesdays beginning June 4. This week the featured artist is Austin Johnson!
URL:https://pikespkblues.org/event/paint-the-town-bluefeaturing-austin-johnson-2/
LOCATION:Bancroft Park\, 2408 W Colorado Ave\, Colorado Springs\, 80904\, United States
CATEGORIES:Concerts
ATTACH;FMTTYPE=image/jpeg:https://pikespkblues.org/wp-content/uploads/2024/06/DSC_6745-scaled.jpg
ORGANIZER;CN="PPBC":MAILTO:info@pikespkblues.org
END:VEVENT
BEGIN:VEVENT
DTSTART;TZID=America/Denver:20240731T120000
DTEND;TZID=America/Denver:20240731T130000
DTSTAMP:20260425T080942
CREATED:20240608T152048Z
LAST-MODIFIED:20250205T153915Z
UID:10001676-1722427200-1722430800@pikespkblues.org
SUMMARY:Jazz 93.5 Community Blues Hour with BJ Estares
DESCRIPTION:
URL:https://pikespkblues.org/event/jazz-93-5-community-blues-hour-with-bj-estares/2024-07-31/
LOCATION:CO
END:VEVENT
BEGIN:VEVENT
DTSTART;TZID=America/Denver:20240731T190000
DTEND;TZID=America/Denver:20240731T220000
DTSTAMP:20260425T080942
CREATED:20240429T173519Z
LAST-MODIFIED:20240504T212523Z
UID:10000055-1722452400-1722463200@pikespkblues.org
SUMMARY:The Tasty Blues Jam at Buzzed Crow
DESCRIPTION:
URL:https://pikespkblues.org/event/tasty-blues-jam-8/
LOCATION:CO
CATEGORIES:Jams
END:VEVENT
BEGIN:VEVENT
DTSTART;TZID=America/Denver:20240801T120000
DTEND;TZID=America/Denver:20240801T130000
DTSTAMP:20260425T080942
CREATED:20240608T152048Z
LAST-MODIFIED:20250205T153915Z
UID:10001677-1722513600-1722517200@pikespkblues.org
SUMMARY:Jazz 93.5 Community Blues Hour with BJ Estares
DESCRIPTION:
URL:https://pikespkblues.org/event/jazz-93-5-community-blues-hour-with-bj-estares/2024-08-01/
LOCATION:CO
END:VEVENT
BEGIN:VEVENT
DTSTART;TZID=America/Denver:20240802T120000
DTEND;TZID=America/Denver:20240802T130000
DTSTAMP:20260425T080942
CREATED:20240608T152048Z
LAST-MODIFIED:20250205T153915Z
UID:10001678-1722600000-1722603600@pikespkblues.org
SUMMARY:Jazz 93.5 Community Blues Hour with BJ Estares
DESCRIPTION:
URL:https://pikespkblues.org/event/jazz-93-5-community-blues-hour-with-bj-estares/2024-08-02/
LOCATION:CO
END:VEVENT
BEGIN:VEVENT
DTSTART;TZID=America/Denver:20240804T193000
DTEND;TZID=America/Denver:20240804T220000
DTSTAMP:20260425T080942
CREATED:20240427T163705Z
LAST-MODIFIED:20240429T173342Z
UID:10000036-1722799800-1722808800@pikespkblues.org
SUMMARY:Joe Bonamassa at Red Rocks
DESCRIPTION:
URL:https://pikespkblues.org/event/joe-bonamassa-at-red-rocks/
LOCATION:CO
CATEGORIES:Concerts
END:VEVENT
BEGIN:VEVENT
DTSTART;TZID=America/Denver:20240805T120000
DTEND;TZID=America/Denver:20240805T130000
DTSTAMP:20260425T080942
CREATED:20240608T152048Z
LAST-MODIFIED:20250205T153915Z
UID:10001679-1722859200-1722862800@pikespkblues.org
SUMMARY:Jazz 93.5 Community Blues Hour with BJ Estares
DESCRIPTION:
URL:https://pikespkblues.org/event/jazz-93-5-community-blues-hour-with-bj-estares/2024-08-05/
LOCATION:CO
END:VEVENT
BEGIN:VEVENT
DTSTART;TZID=America/Denver:20240806T120000
DTEND;TZID=America/Denver:20240806T130000
DTSTAMP:20260425T080942
CREATED:20240608T152048Z
LAST-MODIFIED:20250205T153915Z
UID:10001680-1722945600-1722949200@pikespkblues.org
SUMMARY:Jazz 93.5 Community Blues Hour with BJ Estares
DESCRIPTION:
URL:https://pikespkblues.org/event/jazz-93-5-community-blues-hour-with-bj-estares/2024-08-06/
LOCATION:CO
END:VEVENT
END:VCALENDAR