BEGIN:VCALENDAR
VERSION:2.0
PRODID:-//Pikes Peak Blues Community - ECPv6.15.20//NONSGML v1.0//EN
CALSCALE:GREGORIAN
METHOD:PUBLISH
X-WR-CALNAME:Pikes Peak Blues Community
X-ORIGINAL-URL:https://pikespkblues.org
X-WR-CALDESC:Events for Pikes Peak Blues Community
REFRESH-INTERVAL;VALUE=DURATION:PT1H
X-Robots-Tag:noindex
X-PUBLISHED-TTL:PT1H
BEGIN:VTIMEZONE
TZID:America/Denver
BEGIN:DAYLIGHT
TZOFFSETFROM:-0700
TZOFFSETTO:-0600
TZNAME:MDT
DTSTART:20240310T090000
END:DAYLIGHT
BEGIN:STANDARD
TZOFFSETFROM:-0600
TZOFFSETTO:-0700
TZNAME:MST
DTSTART:20241103T080000
END:STANDARD
BEGIN:DAYLIGHT
TZOFFSETFROM:-0700
TZOFFSETTO:-0600
TZNAME:MDT
DTSTART:20250309T090000
END:DAYLIGHT
BEGIN:STANDARD
TZOFFSETFROM:-0600
TZOFFSETTO:-0700
TZNAME:MST
DTSTART:20251102T080000
END:STANDARD
BEGIN:DAYLIGHT
TZOFFSETFROM:-0700
TZOFFSETTO:-0600
TZNAME:MDT
DTSTART:20260308T090000
END:DAYLIGHT
BEGIN:STANDARD
TZOFFSETFROM:-0600
TZOFFSETTO:-0700
TZNAME:MST
DTSTART:20261101T080000
END:STANDARD
END:VTIMEZONE
BEGIN:VEVENT
DTSTART;TZID=America/Denver:20250730T120000
DTEND;TZID=America/Denver:20250730T130000
DTSTAMP:20260425T044909
CREATED:20240608T152048Z
LAST-MODIFIED:20250205T153915Z
UID:10001936-1753876800-1753880400@pikespkblues.org
SUMMARY:Jazz 93.5 Community Blues Hour with BJ Estares
DESCRIPTION:
URL:https://pikespkblues.org/event/jazz-93-5-community-blues-hour-with-bj-estares/2025-07-30/
LOCATION:CO
END:VEVENT
BEGIN:VEVENT
DTSTART;TZID=America/Denver:20250730T170000
DTEND;TZID=America/Denver:20250730T200000
DTSTAMP:20260425T044909
CREATED:20250701T204120Z
LAST-MODIFIED:20250827T194915Z
UID:10004408-1753894800-1753905600@pikespkblues.org
SUMMARY:Delta Sonics Duo *** PPBC Member Band ***
DESCRIPTION:Delta Sonics Duo *** PPBC Member Band *** @ Lowry Beer Garden\, Denver on Wednesday\, July 30th at 5:00 pm
URL:https://pikespkblues.org/event/the-delta-sonics-duo/
LOCATION:Lowry Beer Garden\, 7577 E Academy Blvd\, Denver\, CO\, 80230\, United States
CATEGORIES:Concerts
END:VEVENT
BEGIN:VEVENT
DTSTART;TZID=America/Denver:20250731T120000
DTEND;TZID=America/Denver:20250731T130000
DTSTAMP:20260425T044909
CREATED:20240608T152048Z
LAST-MODIFIED:20250205T153915Z
UID:10001937-1753963200-1753966800@pikespkblues.org
SUMMARY:Jazz 93.5 Community Blues Hour with BJ Estares
DESCRIPTION:
URL:https://pikespkblues.org/event/jazz-93-5-community-blues-hour-with-bj-estares/2025-07-31/
LOCATION:CO
END:VEVENT
BEGIN:VEVENT
DTSTART;TZID=America/Denver:20250731T180000
DTEND;TZID=America/Denver:20250731T210000
DTSTAMP:20260425T044909
CREATED:20250701T204412Z
LAST-MODIFIED:20250701T204412Z
UID:10004409-1753984800-1753995600@pikespkblues.org
SUMMARY:The Delta Sonics Duo
DESCRIPTION:The Delta Sonics Duo *** PPBC Member Band *** @ Halo Rooftop Bar at Belleville Station\, DTC\, Denver on Thursday\, July 31st at 6:00 pm
URL:https://pikespkblues.org/event/the-delta-sonics-duo-2/
LOCATION:Halo Rooftop Bar Denver DTC – Belleview Station\, 6885 E Chenango Ave\, Denver\, CO\, 80237\, United States
CATEGORIES:Concerts
END:VEVENT
BEGIN:VEVENT
DTSTART;TZID=America/Denver:20250731T180000
DTEND;TZID=America/Denver:20250731T210000
DTSTAMP:20260425T044909
CREATED:20250709T180834Z
LAST-MODIFIED:20250709T180834Z
UID:10004419-1753984800-1753995600@pikespkblues.org
SUMMARY:Robert Randolph with Erica Brown
DESCRIPTION:Robert Randolph with Erica Brown @ Levitt Pavilion\, Denver on Thursday\, July 31st at 6:00 pm. Free admission but you must RSVP (https://www.levittdenver.org/#/events).
URL:https://pikespkblues.org/event/robert-randolph-with-erica-brown/
LOCATION:Levitt Pavillion
CATEGORIES:Concerts
END:VEVENT
BEGIN:VEVENT
DTSTART;TZID=America/Denver:20250801T120000
DTEND;TZID=America/Denver:20250801T130000
DTSTAMP:20260425T044909
CREATED:20240608T152048Z
LAST-MODIFIED:20250205T153915Z
UID:10001938-1754049600-1754053200@pikespkblues.org
SUMMARY:Jazz 93.5 Community Blues Hour with BJ Estares
DESCRIPTION:
URL:https://pikespkblues.org/event/jazz-93-5-community-blues-hour-with-bj-estares/2025-08-01/
LOCATION:CO
END:VEVENT
BEGIN:VEVENT
DTSTART;TZID=America/Denver:20250801T180000
DTEND;TZID=America/Denver:20250801T210000
DTSTAMP:20260425T044909
CREATED:20250715T005343Z
LAST-MODIFIED:20250715T012349Z
UID:10004427-1754071200-1754082000@pikespkblues.org
SUMMARY:The Cleveland Experiment with Tommy Saxman
DESCRIPTION:The Cleveland Experiment with Tommy Saxman @ Rico’s Cafe & Wine Bar\, 322 1/2 N Tejon St\, Colorado Springs on Friday\, August 1st at 6:00 pm
URL:https://pikespkblues.org/event/the-cleveland-experiment-with-tony-saxman/
LOCATION:Rico’s Cafe and Wine Bar\, 322 1/2\, N Tejon St\, Colorado Springs\, CO\, 80903\, United States
CATEGORIES:Concerts
END:VEVENT
BEGIN:VEVENT
DTSTART;TZID=America/Denver:20250801T190000
DTEND;TZID=America/Denver:20250801T220000
DTSTAMP:20260425T044909
CREATED:20250716T222836Z
LAST-MODIFIED:20250716T222836Z
UID:10004434-1754074800-1754085600@pikespkblues.org
SUMMARY:Vince Converse & Big Brother
DESCRIPTION:Vince Converse & Big Brother @ The Rusty Bucket Bar and Grill\, Lakewood on Friday\, August 1st at 7:00 pm
URL:https://pikespkblues.org/event/vince-converse-big-brother-3/
LOCATION:The Rusty Bucket Bar and Grill\, 3355 S Wadsworth\, Lakewood\, CO\, 80277\, United States
CATEGORIES:Concerts
END:VEVENT
BEGIN:VEVENT
DTSTART;TZID=America/Denver:20250802T160000
DTEND;TZID=America/Denver:20250802T190000
DTSTAMP:20260425T044909
CREATED:20250501T191912Z
LAST-MODIFIED:20250501T191913Z
UID:10004364-1754150400-1754161200@pikespkblues.org
SUMMARY:Rafiel and The Roomshakers
DESCRIPTION:Rafiel and The Roomshakers @ Gold Hill Mesa Park\, 142 S Raven Mine Dr\, Colorado Springs on Saturday\, August 2nd at 4:00 pm.
URL:https://pikespkblues.org/event/rafiel-and-the-roomshakers-2/
LOCATION:Gold Hill Mesa Park\, 142 S. Raven Mine Dr\, Colorado Springs\, CO\, 80905\, United States
CATEGORIES:Concerts
END:VEVENT
BEGIN:VEVENT
DTSTART;TZID=America/Denver:20250804T120000
DTEND;TZID=America/Denver:20250804T130000
DTSTAMP:20260425T044909
CREATED:20240608T152048Z
LAST-MODIFIED:20250205T153915Z
UID:10001939-1754308800-1754312400@pikespkblues.org
SUMMARY:Jazz 93.5 Community Blues Hour with BJ Estares
DESCRIPTION:
URL:https://pikespkblues.org/event/jazz-93-5-community-blues-hour-with-bj-estares/2025-08-04/
LOCATION:CO
END:VEVENT
BEGIN:VEVENT
DTSTART;TZID=America/Denver:20250805T120000
DTEND;TZID=America/Denver:20250805T130000
DTSTAMP:20260425T044909
CREATED:20240608T152048Z
LAST-MODIFIED:20250205T153915Z
UID:10001940-1754395200-1754398800@pikespkblues.org
SUMMARY:Jazz 93.5 Community Blues Hour with BJ Estares
DESCRIPTION:
URL:https://pikespkblues.org/event/jazz-93-5-community-blues-hour-with-bj-estares/2025-08-05/
LOCATION:CO
END:VEVENT
BEGIN:VEVENT
DTSTART;TZID=America/Denver:20250805T173000
DTEND;TZID=America/Denver:20250805T193000
DTSTAMP:20260425T044909
CREATED:20250602T173052Z
LAST-MODIFIED:20250603T173341Z
UID:10004384-1754415000-1754422200@pikespkblues.org
SUMMARY:Totum Colloquium
DESCRIPTION:Totum Colloquium @ Bancroft Park\, Old Colorado City on Tuesday\, August 5th at 5:30 pm\nPart of Dizzy Charlie’s Music & Events “Tuesdays in Bancroft Park” free Summer Music Series
URL:https://pikespkblues.org/event/totum-colloquium/
LOCATION:Bancroft Park\, 2408 W Colorado Ave\, Colorado Springs\, 80904\, United States
CATEGORIES:Concerts
END:VEVENT
BEGIN:VEVENT
DTSTART;TZID=America/Denver:20250806T120000
DTEND;TZID=America/Denver:20250806T130000
DTSTAMP:20260425T044909
CREATED:20240608T152048Z
LAST-MODIFIED:20250205T153915Z
UID:10001941-1754481600-1754485200@pikespkblues.org
SUMMARY:Jazz 93.5 Community Blues Hour with BJ Estares
DESCRIPTION:
URL:https://pikespkblues.org/event/jazz-93-5-community-blues-hour-with-bj-estares/2025-08-06/
LOCATION:CO
END:VEVENT
BEGIN:VEVENT
DTSTART;TZID=America/Denver:20250806T190000
DTEND;TZID=America/Denver:20250806T220000
DTSTAMP:20260425T044909
CREATED:20250701T215903Z
LAST-MODIFIED:20250701T215904Z
UID:10004411-1754506800-1754517600@pikespkblues.org
SUMMARY:Hurricane Dave and The Storm Chasers
DESCRIPTION:Hurricane Dave and The Storm Chasers *** PPBC Member Band *** @ Nissi’s\, Lafayette\, CO on Wednesday\, August 6th at 7:00 pm
URL:https://pikespkblues.org/event/hurricane-dave-and-the-storm-chasers-8/
LOCATION:Nissi’s\, 1455 Coal Creek Dr Unit T\, Lafayette\, CO\, 80026
CATEGORIES:Concerts
END:VEVENT
BEGIN:VEVENT
DTSTART;TZID=America/Denver:20250806T193000
DTEND;TZID=America/Denver:20250806T223000
DTSTAMP:20260425T044909
CREATED:20250716T221811Z
LAST-MODIFIED:20250716T222018Z
UID:10004432-1754508600-1754519400@pikespkblues.org
SUMMARY:The Robert Cray Band
DESCRIPTION:The Robert Cray Band @ Arvada Center for the Arts and Humanities\, Arvada on Wednesday\, August 6th at 7:30 pm
URL:https://pikespkblues.org/event/the-robert-cray-band/
LOCATION:Arvada Center for the Arts and Humanities\, 6901 Wadsworth Blvd\, Arvada\, CO\, 80003\, United States
CATEGORIES:Concerts
END:VEVENT
BEGIN:VEVENT
DTSTART;TZID=America/Denver:20250807T120000
DTEND;TZID=America/Denver:20250807T130000
DTSTAMP:20260425T044909
CREATED:20240608T152048Z
LAST-MODIFIED:20250205T153915Z
UID:10001942-1754568000-1754571600@pikespkblues.org
SUMMARY:Jazz 93.5 Community Blues Hour with BJ Estares
DESCRIPTION:
URL:https://pikespkblues.org/event/jazz-93-5-community-blues-hour-with-bj-estares/2025-08-07/
LOCATION:CO
END:VEVENT
BEGIN:VEVENT
DTSTART;TZID=America/Denver:20250808T120000
DTEND;TZID=America/Denver:20250808T130000
DTSTAMP:20260425T044909
CREATED:20240608T152048Z
LAST-MODIFIED:20250205T153915Z
UID:10001943-1754654400-1754658000@pikespkblues.org
SUMMARY:Jazz 93.5 Community Blues Hour with BJ Estares
DESCRIPTION:
URL:https://pikespkblues.org/event/jazz-93-5-community-blues-hour-with-bj-estares/2025-08-08/
LOCATION:CO
END:VEVENT
BEGIN:VEVENT
DTSTART;TZID=America/Denver:20250808T200000
DTEND;TZID=America/Denver:20250808T230000
DTSTAMP:20260425T044909
CREATED:20250805T225831Z
LAST-MODIFIED:20250805T225831Z
UID:10004451-1754683200-1754694000@pikespkblues.org
SUMMARY:Delta Sonics with Al Chesis
DESCRIPTION:Delta Sonics with Al Chesis @ Lincoln’s Roadhouse\, Denver on Friday\, August 8th at 8:00 pm
URL:https://pikespkblues.org/event/delta-sonics-with-al-chesis/
LOCATION:Lincoln’s Roadhouse\, 1201 S Pearl St\, Denver\, CO\, 80210\, United States
CATEGORIES:Concerts
END:VEVENT
BEGIN:VEVENT
DTSTART;TZID=America/Denver:20250809T183000
DTEND;TZID=America/Denver:20250809T213000
DTSTAMP:20260425T044909
CREATED:20250717T160526Z
LAST-MODIFIED:20250721T213351Z
UID:10004436-1754764200-1754775000@pikespkblues.org
SUMMARY:Joe Sciallo and The Deep End
DESCRIPTION:  \nJoe Sciallo and The Deep End @ Summa Taphouse\, 817 W Colorado Ave\, Colorado Springs on Saturday\, August 9th from 6:30 pm – 9:30 pm. Cover $10.00
URL:https://pikespkblues.org/event/joe-sciallo-and-the-deep-end/
LOCATION:Summa\, 817 W. Colorado Ave\, Colorado Springs\, CO\, 80905\, United States
CATEGORIES:Concerts
END:VEVENT
BEGIN:VEVENT
DTSTART;TZID=America/Denver:20250810T113000
DTEND;TZID=America/Denver:20250810T133000
DTSTAMP:20260425T044909
CREATED:20250806T003654Z
LAST-MODIFIED:20250806T003654Z
UID:10004454-1754825400-1754832600@pikespkblues.org
SUMMARY:Delta Sonics with Al Chesis at the Wheat Ridge Carnation Festival
DESCRIPTION:Delta Sonics with Al Chesis @ the Wheat Ridge Carnation Festival in Anderson Park\, 44th & Field St\, Wheat Ridge on Sunday\, August 10th at 11:30 am
URL:https://pikespkblues.org/event/delta-sonics-with-al-chesis-at-the-wheat-ridge-carnation-festival/
LOCATION:Anderson Park\, 4355 Field St\, Wheat Ridge\, CO\, 80033\, United States
CATEGORIES:Concerts
END:VEVENT
BEGIN:VEVENT
DTSTART;TZID=America/Denver:20250811T120000
DTEND;TZID=America/Denver:20250811T130000
DTSTAMP:20260425T044909
CREATED:20240608T152048Z
LAST-MODIFIED:20250205T153915Z
UID:10001944-1754913600-1754917200@pikespkblues.org
SUMMARY:Jazz 93.5 Community Blues Hour with BJ Estares
DESCRIPTION:
URL:https://pikespkblues.org/event/jazz-93-5-community-blues-hour-with-bj-estares/2025-08-11/
LOCATION:CO
END:VEVENT
BEGIN:VEVENT
DTSTART;TZID=America/Denver:20250812T120000
DTEND;TZID=America/Denver:20250812T130000
DTSTAMP:20260425T044909
CREATED:20240608T152048Z
LAST-MODIFIED:20250205T153915Z
UID:10001945-1755000000-1755003600@pikespkblues.org
SUMMARY:Jazz 93.5 Community Blues Hour with BJ Estares
DESCRIPTION:
URL:https://pikespkblues.org/event/jazz-93-5-community-blues-hour-with-bj-estares/2025-08-12/
LOCATION:CO
END:VEVENT
BEGIN:VEVENT
DTSTART;TZID=America/Denver:20250812T173000
DTEND;TZID=America/Denver:20250812T193000
DTSTAMP:20260425T044909
CREATED:20250316T172332Z
LAST-MODIFIED:20250603T173523Z
UID:10004318-1755019800-1755027000@pikespkblues.org
SUMMARY:Lethal Lisa McCall - PPBC Paint The Town Blue free public concert
DESCRIPTION:Lethal Lisa McCall – PPBC Paint The Town Blue free public concert in Bancroft Park\, Old Colorado City on Tuesday\, August 12th at 5:30 pm
URL:https://pikespkblues.org/event/lethal-lisa-mccall-ppbc-paint-the-town-blue-free-public-concert/
LOCATION:Bancroft Park\, 2408 W Colorado Ave\, Colorado Springs\, 80904\, United States
CATEGORIES:Concerts
END:VEVENT
BEGIN:VEVENT
DTSTART;TZID=America/Denver:20250813T120000
DTEND;TZID=America/Denver:20250813T130000
DTSTAMP:20260425T044909
CREATED:20240608T152048Z
LAST-MODIFIED:20250205T153915Z
UID:10001946-1755086400-1755090000@pikespkblues.org
SUMMARY:Jazz 93.5 Community Blues Hour with BJ Estares
DESCRIPTION:
URL:https://pikespkblues.org/event/jazz-93-5-community-blues-hour-with-bj-estares/2025-08-13/
LOCATION:CO
END:VEVENT
BEGIN:VEVENT
DTSTART;TZID=America/Denver:20250814T120000
DTEND;TZID=America/Denver:20250814T130000
DTSTAMP:20260425T044909
CREATED:20240608T152048Z
LAST-MODIFIED:20250205T153915Z
UID:10001947-1755172800-1755176400@pikespkblues.org
SUMMARY:Jazz 93.5 Community Blues Hour with BJ Estares
DESCRIPTION:
URL:https://pikespkblues.org/event/jazz-93-5-community-blues-hour-with-bj-estares/2025-08-14/
LOCATION:CO
END:VEVENT
BEGIN:VEVENT
DTSTART;TZID=America/Denver:20250814T180000
DTEND;TZID=America/Denver:20250814T203000
DTSTAMP:20260425T044909
CREATED:20250629T185300Z
LAST-MODIFIED:20250716T205730Z
UID:10004396-1755194400-1755203400@pikespkblues.org
SUMMARY:Reckless and Blue *** PPBC Paint The Town Blue Benefit Concert ***
DESCRIPTION:Reckless and Blue *** PPBC Paint The Town Blue Benefit Concert *** @ Thunder & Buttons\, 2415 W Colorado Ave\, Colorado Springs on Thursday\, August 14th at 6:00 pm. Doors open at 5:30 pm.  Tickets including one raffle coupon are $15.00 in advance / $20.00 at the door. \nPlease note that if you purchase tickets online\, there may appear to be a delay in processing. To avoid purchasing multiple tickets\, please check your email to see if you have received your tickets or send an email to info@pikespkblues.org and ask us to confirm that you do have tickets for the event. Thank you.
URL:https://pikespkblues.org/event/reckless-and-blue-ppbc-paint-the-town-blue-benefit-concert/
LOCATION:Thunder & Buttons\, 2415 W Colorado Ave\, Colorado Springs\, CO\, 80904
CATEGORIES:Concerts
END:VEVENT
BEGIN:VEVENT
DTSTART;TZID=America/Denver:20250815T120000
DTEND;TZID=America/Denver:20250815T130000
DTSTAMP:20260425T044909
CREATED:20240608T152048Z
LAST-MODIFIED:20250205T153915Z
UID:10001948-1755259200-1755262800@pikespkblues.org
SUMMARY:Jazz 93.5 Community Blues Hour with BJ Estares
DESCRIPTION:
URL:https://pikespkblues.org/event/jazz-93-5-community-blues-hour-with-bj-estares/2025-08-15/
LOCATION:CO
END:VEVENT
BEGIN:VEVENT
DTSTART;TZID=America/Denver:20250815T180000
DTEND;TZID=America/Denver:20250815T210000
DTSTAMP:20260425T044909
CREATED:20250805T231809Z
LAST-MODIFIED:20250805T231809Z
UID:10004453-1755280800-1755291600@pikespkblues.org
SUMMARY:Delta Sonics with Al Chesis
DESCRIPTION:Delta Sonics with Al Chesis @ ViewHouse Littleton\, 2680 W Main St\, Littleton on Friday\, August 15th at 6:00 pm
URL:https://pikespkblues.org/event/delta-sonics-with-al-chesis-2/
LOCATION:ViewHouse Littleton\, 2680 W Main St\, Littleton\, CO\, 80120\, United States
CATEGORIES:Concerts
END:VEVENT
BEGIN:VEVENT
DTSTART;TZID=America/Denver:20250816T130000
DTEND;TZID=America/Denver:20250816T150000
DTSTAMP:20260425T044909
CREATED:20250806T011453Z
LAST-MODIFIED:20250806T011453Z
UID:10004455-1755349200-1755356400@pikespkblues.org
SUMMARY:Delta Sonics with Al Chesis at The Barrel Room Summer BBQ in Lakewood
DESCRIPTION:Delta Sonics with Al Chesis @ The Barrel Room Summer BBQ in Lakewood on Saturday\, August 16th from 1:00 pm to 3:00 pm
URL:https://pikespkblues.org/event/delta-sonics-with-al-chesis-at-the-barrel-room-summer-bbq-in-lakewood/
LOCATION:The Barrel Room at The Gallery\, 1350 Colorado Mills Pkwy\, Lakewood\, CO\, 80401\, United States
CATEGORIES:Concerts
END:VEVENT
BEGIN:VEVENT
DTSTART;TZID=America/Denver:20250816T173000
DTEND;TZID=America/Denver:20250816T193000
DTSTAMP:20260425T044909
CREATED:20250725T212251Z
LAST-MODIFIED:20250805T165211Z
UID:10004441-1755365400-1755372600@pikespkblues.org
SUMMARY:Summertime Blues with Stonefish    ** CANCELED **
DESCRIPTION:** CANCELED ** \nSummertime Blues with Stonefish\, hosted by the Pikes Peak Blues Community in Bancroft Park\, Old Colorado City on Sunday\, August 16th at 5:30 pm. Stonefish features Michael Amodeo\, who was a member of PPBC’s youth band while in high school. In addition to the concert\, please join Teri Senior and other PPBC board members for other events and festivities in Bancroft Park from 4:00 pm to 9:00 pm.  \n ** CANCELED **
URL:https://pikespkblues.org/event/summertime-blues-with-stonefish/
LOCATION:Bancroft Park\, 2408 W Colorado Ave\, Colorado Springs\, 80904\, United States
CATEGORIES:Concerts
END:VEVENT
END:VCALENDAR