BEGIN:VCALENDAR
VERSION:2.0
PRODID:-//Pikes Peak Blues Community - ECPv6.15.20//NONSGML v1.0//EN
CALSCALE:GREGORIAN
METHOD:PUBLISH
X-WR-CALNAME:Pikes Peak Blues Community
X-ORIGINAL-URL:https://pikespkblues.org
X-WR-CALDESC:Events for Pikes Peak Blues Community
REFRESH-INTERVAL;VALUE=DURATION:PT1H
X-Robots-Tag:noindex
X-PUBLISHED-TTL:PT1H
BEGIN:VTIMEZONE
TZID:America/Denver
BEGIN:DAYLIGHT
TZOFFSETFROM:-0700
TZOFFSETTO:-0600
TZNAME:MDT
DTSTART:20230312T090000
END:DAYLIGHT
BEGIN:STANDARD
TZOFFSETFROM:-0600
TZOFFSETTO:-0700
TZNAME:MST
DTSTART:20231105T080000
END:STANDARD
BEGIN:DAYLIGHT
TZOFFSETFROM:-0700
TZOFFSETTO:-0600
TZNAME:MDT
DTSTART:20240310T090000
END:DAYLIGHT
BEGIN:STANDARD
TZOFFSETFROM:-0600
TZOFFSETTO:-0700
TZNAME:MST
DTSTART:20241103T080000
END:STANDARD
BEGIN:DAYLIGHT
TZOFFSETFROM:-0700
TZOFFSETTO:-0600
TZNAME:MDT
DTSTART:20250309T090000
END:DAYLIGHT
BEGIN:STANDARD
TZOFFSETFROM:-0600
TZOFFSETTO:-0700
TZNAME:MST
DTSTART:20251102T080000
END:STANDARD
END:VTIMEZONE
BEGIN:VEVENT
DTSTART;TZID=America/Denver:20240617T120000
DTEND;TZID=America/Denver:20240617T130000
DTSTAMP:20260424T090024
CREATED:20240608T152048Z
LAST-MODIFIED:20250205T153915Z
UID:10001644-1718625600-1718629200@pikespkblues.org
SUMMARY:Jazz 93.5 Community Blues Hour with BJ Estares
DESCRIPTION:
URL:https://pikespkblues.org/event/jazz-93-5-community-blues-hour-with-bj-estares/2024-06-17/
LOCATION:CO
END:VEVENT
BEGIN:VEVENT
DTSTART;TZID=America/Denver:20240618T120000
DTEND;TZID=America/Denver:20240618T130000
DTSTAMP:20260424T090024
CREATED:20240608T152048Z
LAST-MODIFIED:20250205T153915Z
UID:10001645-1718712000-1718715600@pikespkblues.org
SUMMARY:Jazz 93.5 Community Blues Hour with BJ Estares
DESCRIPTION:
URL:https://pikespkblues.org/event/jazz-93-5-community-blues-hour-with-bj-estares/2024-06-18/
LOCATION:CO
END:VEVENT
BEGIN:VEVENT
DTSTART;TZID=America/Denver:20240618T173000
DTEND;TZID=America/Denver:20240618T193000
DTSTAMP:20260424T090024
CREATED:20240428T152219Z
LAST-MODIFIED:20240605T172712Z
UID:10000040-1718731800-1718739000@pikespkblues.org
SUMMARY:Jake Loggins
DESCRIPTION:Paint The Town Blue returns to Bancroft Park in 2024. Outstanding Blues artists will be playing at the bandshell this summer on alternate Tuesdays beginning June 4. This week the featured artist is Jake Loggins!
URL:https://pikespkblues.org/event/paint-the-town-bluefeaturing-jake-loggins-2/
LOCATION:Bancroft Park\, 2408 W Colorado Ave\, Colorado Springs\, 80904\, United States
CATEGORIES:Concerts
ATTACH;FMTTYPE=image/jpeg:https://pikespkblues.org/wp-content/uploads/2024/04/Jake-Loggins-photo.jpg
ORGANIZER;CN="PPBC":MAILTO:info@pikespkblues.org
END:VEVENT
BEGIN:VEVENT
DTSTART;TZID=America/Denver:20240619T120000
DTEND;TZID=America/Denver:20240619T130000
DTSTAMP:20260424T090024
CREATED:20240608T152048Z
LAST-MODIFIED:20250205T153915Z
UID:10001646-1718798400-1718802000@pikespkblues.org
SUMMARY:Jazz 93.5 Community Blues Hour with BJ Estares
DESCRIPTION:
URL:https://pikespkblues.org/event/jazz-93-5-community-blues-hour-with-bj-estares/2024-06-19/
LOCATION:CO
END:VEVENT
BEGIN:VEVENT
DTSTART;TZID=America/Denver:20240619T190000
DTEND;TZID=America/Denver:20240619T220000
DTSTAMP:20260424T090024
CREATED:20240429T173505Z
LAST-MODIFIED:20240504T211930Z
UID:10000052-1718823600-1718834400@pikespkblues.org
SUMMARY:The Tasty Blues Jam at Buzzed Crow
DESCRIPTION:
URL:https://pikespkblues.org/event/tasty-blues-jam-5/
LOCATION:CO
CATEGORIES:Jams
END:VEVENT
BEGIN:VEVENT
DTSTART;TZID=America/Denver:20240620T120000
DTEND;TZID=America/Denver:20240620T130000
DTSTAMP:20260424T090024
CREATED:20240608T152048Z
LAST-MODIFIED:20250205T153915Z
UID:10001647-1718884800-1718888400@pikespkblues.org
SUMMARY:Jazz 93.5 Community Blues Hour with BJ Estares
DESCRIPTION:
URL:https://pikespkblues.org/event/jazz-93-5-community-blues-hour-with-bj-estares/2024-06-20/
LOCATION:CO
END:VEVENT
BEGIN:VEVENT
DTSTART;TZID=America/Denver:20240621T120000
DTEND;TZID=America/Denver:20240621T130000
DTSTAMP:20260424T090024
CREATED:20240608T152048Z
LAST-MODIFIED:20250205T153915Z
UID:10001648-1718971200-1718974800@pikespkblues.org
SUMMARY:Jazz 93.5 Community Blues Hour with BJ Estares
DESCRIPTION:
URL:https://pikespkblues.org/event/jazz-93-5-community-blues-hour-with-bj-estares/2024-06-21/
LOCATION:CO
END:VEVENT
BEGIN:VEVENT
DTSTART;TZID=America/Denver:20240622T190000
DTEND;TZID=America/Denver:20240622T210000
DTSTAMP:20260424T090024
CREATED:20240426T140318Z
LAST-MODIFIED:20240429T174359Z
UID:10000008-1719082800-1719090000@pikespkblues.org
SUMMARY:Reminiscent Souls at Stargazers
DESCRIPTION:
URL:https://pikespkblues.org/event/reminiscent-souls-at-stargazers/
LOCATION:CO
CATEGORIES:Concerts
ATTACH;FMTTYPE=image/jpeg:https://pikespkblues.org/wp-content/uploads/2024/04/ReminiscentSouls-photo.jpeg
END:VEVENT
BEGIN:VEVENT
DTSTART;TZID=America/Denver:20240623T100000
DTEND;TZID=America/Denver:20240623T120000
DTSTAMP:20260424T090024
CREATED:20240611T164835Z
LAST-MODIFIED:20240611T164901Z
UID:10001637-1719136800-1719144000@pikespkblues.org
SUMMARY:Tommy Saxman Foyer
DESCRIPTION:
URL:https://pikespkblues.org/event/tommy-saxman-foyer/
LOCATION:Coyote’s Coffee Den\, Highway 115 & 6th Street\, Penrose\, CO\, United States
CATEGORIES:Concerts
ATTACH;FMTTYPE=image/bmp:https://pikespkblues.org/wp-content/uploads/2024/06/TommySaxmanFoyer.bmp
END:VEVENT
BEGIN:VEVENT
DTSTART;TZID=America/Denver:20240624T120000
DTEND;TZID=America/Denver:20240624T130000
DTSTAMP:20260424T090024
CREATED:20240608T152048Z
LAST-MODIFIED:20250205T153915Z
UID:10001649-1719230400-1719234000@pikespkblues.org
SUMMARY:Jazz 93.5 Community Blues Hour with BJ Estares
DESCRIPTION:
URL:https://pikespkblues.org/event/jazz-93-5-community-blues-hour-with-bj-estares/2024-06-24/
LOCATION:CO
END:VEVENT
BEGIN:VEVENT
DTSTART;TZID=America/Denver:20240625T120000
DTEND;TZID=America/Denver:20240625T130000
DTSTAMP:20260424T090024
CREATED:20240608T152048Z
LAST-MODIFIED:20250205T153915Z
UID:10001650-1719316800-1719320400@pikespkblues.org
SUMMARY:Jazz 93.5 Community Blues Hour with BJ Estares
DESCRIPTION:
URL:https://pikespkblues.org/event/jazz-93-5-community-blues-hour-with-bj-estares/2024-06-25/
LOCATION:CO
END:VEVENT
BEGIN:VEVENT
DTSTART;TZID=America/Denver:20240625T180000
DTEND;TZID=America/Denver:20240625T200000
DTSTAMP:20260424T090024
CREATED:20240607T225247Z
LAST-MODIFIED:20240607T225247Z
UID:10000061-1719338400-1719345600@pikespkblues.org
SUMMARY:Black Hole Boogie Band
DESCRIPTION:Music In The Park
URL:https://pikespkblues.org/event/black-hole-boogie-band/
LOCATION:Bancroft Park\, 2408 W Colorado Ave\, Colorado Springs\, 80904\, United States
CATEGORIES:Concerts
END:VEVENT
BEGIN:VEVENT
DTSTART;TZID=America/Denver:20240626T120000
DTEND;TZID=America/Denver:20240626T130000
DTSTAMP:20260424T090024
CREATED:20240608T152048Z
LAST-MODIFIED:20250205T153915Z
UID:10001651-1719403200-1719406800@pikespkblues.org
SUMMARY:Jazz 93.5 Community Blues Hour with BJ Estares
DESCRIPTION:
URL:https://pikespkblues.org/event/jazz-93-5-community-blues-hour-with-bj-estares/2024-06-26/
LOCATION:CO
END:VEVENT
BEGIN:VEVENT
DTSTART;TZID=America/Denver:20240627T120000
DTEND;TZID=America/Denver:20240627T130000
DTSTAMP:20260424T090024
CREATED:20240608T152048Z
LAST-MODIFIED:20250205T153915Z
UID:10001652-1719489600-1719493200@pikespkblues.org
SUMMARY:Jazz 93.5 Community Blues Hour with BJ Estares
DESCRIPTION:
URL:https://pikespkblues.org/event/jazz-93-5-community-blues-hour-with-bj-estares/2024-06-27/
LOCATION:CO
END:VEVENT
BEGIN:VEVENT
DTSTART;TZID=America/Denver:20240628T000000
DTEND;TZID=America/Denver:20240630T000000
DTSTAMP:20260424T090024
CREATED:20240426T140333Z
LAST-MODIFIED:20240504T212157Z
UID:10000011-1719532800-1719705600@pikespkblues.org
SUMMARY:Blues From The Top Music Festival\, Winter Park
DESCRIPTION:
URL:https://pikespkblues.org/event/blues-from-the-top/
LOCATION:CO
CATEGORIES:Concerts
END:VEVENT
BEGIN:VEVENT
DTSTART;TZID=America/Denver:20240628T120000
DTEND;TZID=America/Denver:20240628T130000
DTSTAMP:20260424T090024
CREATED:20240608T152048Z
LAST-MODIFIED:20250205T153915Z
UID:10001653-1719576000-1719579600@pikespkblues.org
SUMMARY:Jazz 93.5 Community Blues Hour with BJ Estares
DESCRIPTION:
URL:https://pikespkblues.org/event/jazz-93-5-community-blues-hour-with-bj-estares/2024-06-28/
LOCATION:CO
END:VEVENT
BEGIN:VEVENT
DTSTART;TZID=America/Denver:20240701T120000
DTEND;TZID=America/Denver:20240701T130000
DTSTAMP:20260424T090024
CREATED:20240608T152048Z
LAST-MODIFIED:20250205T153915Z
UID:10001654-1719835200-1719838800@pikespkblues.org
SUMMARY:Jazz 93.5 Community Blues Hour with BJ Estares
DESCRIPTION:
URL:https://pikespkblues.org/event/jazz-93-5-community-blues-hour-with-bj-estares/2024-07-01/
LOCATION:CO
END:VEVENT
BEGIN:VEVENT
DTSTART;TZID=America/Denver:20240702T120000
DTEND;TZID=America/Denver:20240702T130000
DTSTAMP:20260424T090024
CREATED:20240608T152048Z
LAST-MODIFIED:20250205T153915Z
UID:10001655-1719921600-1719925200@pikespkblues.org
SUMMARY:Jazz 93.5 Community Blues Hour with BJ Estares
DESCRIPTION:
URL:https://pikespkblues.org/event/jazz-93-5-community-blues-hour-with-bj-estares/2024-07-02/
LOCATION:CO
END:VEVENT
BEGIN:VEVENT
DTSTART;TZID=America/Denver:20240702T173000
DTEND;TZID=America/Denver:20240702T193000
DTSTAMP:20260424T090024
CREATED:20240429T173240Z
LAST-MODIFIED:20240605T172832Z
UID:10000044-1719941400-1719948600@pikespkblues.org
SUMMARY:Cous and the Brotherhood
DESCRIPTION:Paint The Town Blue returns to Bancroft Park in 2024. Outstanding Blues artists will be playing at the bandshell this summer on alternate Tuesdays beginning June 4. This week the featured band is Cous and the Brotherhood!
URL:https://pikespkblues.org/event/paint-the-town-bluefeaturing-cous-and-the-brotherhood-2/
LOCATION:Bancroft Park\, 2408 W Colorado Ave\, Colorado Springs\, 80904\, United States
CATEGORIES:Concerts
ATTACH;FMTTYPE=image/jpeg:https://pikespkblues.org/wp-content/uploads/2024/04/CousTheBrotherhood-photo.jpeg
ORGANIZER;CN="PPBC":MAILTO:info@pikespkblues.org
END:VEVENT
BEGIN:VEVENT
DTSTART;TZID=America/Denver:20240703T120000
DTEND;TZID=America/Denver:20240703T130000
DTSTAMP:20260424T090024
CREATED:20240608T152048Z
LAST-MODIFIED:20250205T153915Z
UID:10001656-1720008000-1720011600@pikespkblues.org
SUMMARY:Jazz 93.5 Community Blues Hour with BJ Estares
DESCRIPTION:
URL:https://pikespkblues.org/event/jazz-93-5-community-blues-hour-with-bj-estares/2024-07-03/
LOCATION:CO
END:VEVENT
BEGIN:VEVENT
DTSTART;TZID=America/Denver:20240703T190000
DTEND;TZID=America/Denver:20240703T220000
DTSTAMP:20260424T090024
CREATED:20240429T173505Z
LAST-MODIFIED:20240504T212301Z
UID:10000053-1720033200-1720044000@pikespkblues.org
SUMMARY:The Tasty Blues Jam at Buzzed Crow
DESCRIPTION:
URL:https://pikespkblues.org/event/tasty-blues-jam-6/
LOCATION:CO
CATEGORIES:Jams
END:VEVENT
BEGIN:VEVENT
DTSTART;TZID=America/Denver:20240704T120000
DTEND;TZID=America/Denver:20240704T130000
DTSTAMP:20260424T090024
CREATED:20240608T152048Z
LAST-MODIFIED:20250205T153915Z
UID:10001657-1720094400-1720098000@pikespkblues.org
SUMMARY:Jazz 93.5 Community Blues Hour with BJ Estares
DESCRIPTION:
URL:https://pikespkblues.org/event/jazz-93-5-community-blues-hour-with-bj-estares/2024-07-04/
LOCATION:CO
END:VEVENT
BEGIN:VEVENT
DTSTART;TZID=America/Denver:20240704T193000
DTEND;TZID=America/Denver:20240704T220000
DTSTAMP:20260424T090024
CREATED:20240427T163651Z
LAST-MODIFIED:20240429T173328Z
UID:10000033-1720121400-1720130400@pikespkblues.org
SUMMARY:Blues Traveler at Red Rocks
DESCRIPTION:
URL:https://pikespkblues.org/event/blues-traveler-at-red-rocks/
LOCATION:CO
CATEGORIES:Concerts
END:VEVENT
BEGIN:VEVENT
DTSTART;TZID=America/Denver:20240705T120000
DTEND;TZID=America/Denver:20240705T130000
DTSTAMP:20260424T090024
CREATED:20240608T152048Z
LAST-MODIFIED:20250205T153915Z
UID:10001658-1720180800-1720184400@pikespkblues.org
SUMMARY:Jazz 93.5 Community Blues Hour with BJ Estares
DESCRIPTION:
URL:https://pikespkblues.org/event/jazz-93-5-community-blues-hour-with-bj-estares/2024-07-05/
LOCATION:CO
END:VEVENT
BEGIN:VEVENT
DTSTART;TZID=America/Denver:20240708T120000
DTEND;TZID=America/Denver:20240708T130000
DTSTAMP:20260424T090024
CREATED:20240608T152048Z
LAST-MODIFIED:20250205T153915Z
UID:10001659-1720440000-1720443600@pikespkblues.org
SUMMARY:Jazz 93.5 Community Blues Hour with BJ Estares
DESCRIPTION:
URL:https://pikespkblues.org/event/jazz-93-5-community-blues-hour-with-bj-estares/2024-07-08/
LOCATION:CO
END:VEVENT
BEGIN:VEVENT
DTSTART;TZID=America/Denver:20240709T120000
DTEND;TZID=America/Denver:20240709T130000
DTSTAMP:20260424T090024
CREATED:20240608T152048Z
LAST-MODIFIED:20250205T153915Z
UID:10001660-1720526400-1720530000@pikespkblues.org
SUMMARY:Jazz 93.5 Community Blues Hour with BJ Estares
DESCRIPTION:
URL:https://pikespkblues.org/event/jazz-93-5-community-blues-hour-with-bj-estares/2024-07-09/
LOCATION:CO
END:VEVENT
BEGIN:VEVENT
DTSTART;TZID=America/Denver:20240709T180000
DTEND;TZID=America/Denver:20240709T200000
DTSTAMP:20260424T090024
CREATED:20240607T225427Z
LAST-MODIFIED:20240607T225427Z
UID:10000062-1720548000-1720555200@pikespkblues.org
SUMMARY:Tyler Stuckey Trio
DESCRIPTION:Music In The Park
URL:https://pikespkblues.org/event/tyler-stuckey-trio/
LOCATION:Bancroft Park\, 2408 W Colorado Ave\, Colorado Springs\, 80904\, United States
CATEGORIES:Concerts
END:VEVENT
BEGIN:VEVENT
DTSTART;TZID=America/Denver:20240710T120000
DTEND;TZID=America/Denver:20240710T130000
DTSTAMP:20260424T090024
CREATED:20240608T152048Z
LAST-MODIFIED:20250205T153915Z
UID:10001661-1720612800-1720616400@pikespkblues.org
SUMMARY:Jazz 93.5 Community Blues Hour with BJ Estares
DESCRIPTION:
URL:https://pikespkblues.org/event/jazz-93-5-community-blues-hour-with-bj-estares/2024-07-10/
LOCATION:CO
END:VEVENT
BEGIN:VEVENT
DTSTART;TZID=America/Denver:20240711T120000
DTEND;TZID=America/Denver:20240711T130000
DTSTAMP:20260424T090024
CREATED:20240608T152048Z
LAST-MODIFIED:20250205T153915Z
UID:10001662-1720699200-1720702800@pikespkblues.org
SUMMARY:Jazz 93.5 Community Blues Hour with BJ Estares
DESCRIPTION:
URL:https://pikespkblues.org/event/jazz-93-5-community-blues-hour-with-bj-estares/2024-07-11/
LOCATION:CO
END:VEVENT
BEGIN:VEVENT
DTSTART;TZID=America/Denver:20240712T120000
DTEND;TZID=America/Denver:20240712T130000
DTSTAMP:20260424T090024
CREATED:20240608T152048Z
LAST-MODIFIED:20250205T153915Z
UID:10001663-1720785600-1720789200@pikespkblues.org
SUMMARY:Jazz 93.5 Community Blues Hour with BJ Estares
DESCRIPTION:
URL:https://pikespkblues.org/event/jazz-93-5-community-blues-hour-with-bj-estares/2024-07-12/
LOCATION:CO
END:VEVENT
END:VCALENDAR