BEGIN:VCALENDAR
VERSION:2.0
PRODID:-//Pikes Peak Blues Community - ECPv6.15.20//NONSGML v1.0//EN
CALSCALE:GREGORIAN
METHOD:PUBLISH
X-ORIGINAL-URL:https://pikespkblues.org
X-WR-CALDESC:Events for Pikes Peak Blues Community
REFRESH-INTERVAL;VALUE=DURATION:PT1H
X-Robots-Tag:noindex
X-PUBLISHED-TTL:PT1H
BEGIN:VTIMEZONE
TZID:America/Denver
BEGIN:DAYLIGHT
TZOFFSETFROM:-0700
TZOFFSETTO:-0600
TZNAME:MDT
DTSTART:20260308T090000
END:DAYLIGHT
BEGIN:STANDARD
TZOFFSETFROM:-0600
TZOFFSETTO:-0700
TZNAME:MST
DTSTART:20261101T080000
END:STANDARD
BEGIN:DAYLIGHT
TZOFFSETFROM:-0700
TZOFFSETTO:-0600
TZNAME:MDT
DTSTART:20270314T090000
END:DAYLIGHT
BEGIN:STANDARD
TZOFFSETFROM:-0600
TZOFFSETTO:-0700
TZNAME:MST
DTSTART:20271107T080000
END:STANDARD
BEGIN:DAYLIGHT
TZOFFSETFROM:-0700
TZOFFSETTO:-0600
TZNAME:MDT
DTSTART:20280312T090000
END:DAYLIGHT
BEGIN:STANDARD
TZOFFSETFROM:-0600
TZOFFSETTO:-0700
TZNAME:MST
DTSTART:20281105T080000
END:STANDARD
END:VTIMEZONE
BEGIN:VEVENT
DTSTART;TZID=America/Denver:20270512T120000
DTEND;TZID=America/Denver:20270512T130000
DTSTAMP:20260425T071718
CREATED:20240608T152048Z
LAST-MODIFIED:20250205T153915Z
UID:10002401-1810123200-1810126800@pikespkblues.org
SUMMARY:Jazz 93.5 Community Blues Hour with BJ Estares
DESCRIPTION:
URL:https://pikespkblues.org/event/jazz-93-5-community-blues-hour-with-bj-estares/2027-05-12/
LOCATION:CO
END:VEVENT
BEGIN:VEVENT
DTSTART;TZID=America/Denver:20270513T120000
DTEND;TZID=America/Denver:20270513T130000
DTSTAMP:20260425T071718
CREATED:20240608T152048Z
LAST-MODIFIED:20250205T153915Z
UID:10002402-1810209600-1810213200@pikespkblues.org
SUMMARY:Jazz 93.5 Community Blues Hour with BJ Estares
DESCRIPTION:
URL:https://pikespkblues.org/event/jazz-93-5-community-blues-hour-with-bj-estares/2027-05-13/
LOCATION:CO
END:VEVENT
BEGIN:VEVENT
DTSTART;TZID=America/Denver:20270514T120000
DTEND;TZID=America/Denver:20270514T130000
DTSTAMP:20260425T071718
CREATED:20240608T152048Z
LAST-MODIFIED:20250205T153915Z
UID:10002403-1810296000-1810299600@pikespkblues.org
SUMMARY:Jazz 93.5 Community Blues Hour with BJ Estares
DESCRIPTION:
URL:https://pikespkblues.org/event/jazz-93-5-community-blues-hour-with-bj-estares/2027-05-14/
LOCATION:CO
END:VEVENT
BEGIN:VEVENT
DTSTART;TZID=America/Denver:20270517T120000
DTEND;TZID=America/Denver:20270517T130000
DTSTAMP:20260425T071718
CREATED:20240608T152048Z
LAST-MODIFIED:20250205T153915Z
UID:10002404-1810555200-1810558800@pikespkblues.org
SUMMARY:Jazz 93.5 Community Blues Hour with BJ Estares
DESCRIPTION:
URL:https://pikespkblues.org/event/jazz-93-5-community-blues-hour-with-bj-estares/2027-05-17/
LOCATION:CO
END:VEVENT
BEGIN:VEVENT
DTSTART;TZID=America/Denver:20270518T120000
DTEND;TZID=America/Denver:20270518T130000
DTSTAMP:20260425T071718
CREATED:20240608T152048Z
LAST-MODIFIED:20250205T153915Z
UID:10002405-1810641600-1810645200@pikespkblues.org
SUMMARY:Jazz 93.5 Community Blues Hour with BJ Estares
DESCRIPTION:
URL:https://pikespkblues.org/event/jazz-93-5-community-blues-hour-with-bj-estares/2027-05-18/
LOCATION:CO
END:VEVENT
BEGIN:VEVENT
DTSTART;TZID=America/Denver:20270518T180000
DTEND;TZID=America/Denver:20270518T210000
DTSTAMP:20260425T071718
CREATED:20251004T004608Z
LAST-MODIFIED:20251004T182250Z
UID:10004864-1810663200-1810674000@pikespkblues.org
SUMMARY:Sweet T's Rude Blues Jam on Tuesdays at PEAK 31
DESCRIPTION:Sweet T’s Rude Blues Jam @ PEAK 31\, 2419 N Union Blvd (80909) on Tuesdays\, from 6:00 pm to 9:00 pm.
URL:https://pikespkblues.org/event/sweet-ts-rude-blues-jam-on-tuesdays-at-peak-31/2027-05-18/
LOCATION:PEAK 31\, 2419 N Union Blvd\, Colorado Springs\, CO\, 80909\, United States
CATEGORIES:Jams
END:VEVENT
BEGIN:VEVENT
DTSTART;TZID=America/Denver:20270519T120000
DTEND;TZID=America/Denver:20270519T130000
DTSTAMP:20260425T071718
CREATED:20240608T152048Z
LAST-MODIFIED:20250205T153915Z
UID:10002406-1810728000-1810731600@pikespkblues.org
SUMMARY:Jazz 93.5 Community Blues Hour with BJ Estares
DESCRIPTION:
URL:https://pikespkblues.org/event/jazz-93-5-community-blues-hour-with-bj-estares/2027-05-19/
LOCATION:CO
END:VEVENT
BEGIN:VEVENT
DTSTART;TZID=America/Denver:20270520T120000
DTEND;TZID=America/Denver:20270520T130000
DTSTAMP:20260425T071718
CREATED:20240608T152048Z
LAST-MODIFIED:20250205T153915Z
UID:10002407-1810814400-1810818000@pikespkblues.org
SUMMARY:Jazz 93.5 Community Blues Hour with BJ Estares
DESCRIPTION:
URL:https://pikespkblues.org/event/jazz-93-5-community-blues-hour-with-bj-estares/2027-05-20/
LOCATION:CO
END:VEVENT
BEGIN:VEVENT
DTSTART;TZID=America/Denver:20270521T120000
DTEND;TZID=America/Denver:20270521T130000
DTSTAMP:20260425T071718
CREATED:20240608T152048Z
LAST-MODIFIED:20250205T153915Z
UID:10002408-1810900800-1810904400@pikespkblues.org
SUMMARY:Jazz 93.5 Community Blues Hour with BJ Estares
DESCRIPTION:
URL:https://pikespkblues.org/event/jazz-93-5-community-blues-hour-with-bj-estares/2027-05-21/
LOCATION:CO
END:VEVENT
BEGIN:VEVENT
DTSTART;TZID=America/Denver:20270524T120000
DTEND;TZID=America/Denver:20270524T130000
DTSTAMP:20260425T071718
CREATED:20240608T152048Z
LAST-MODIFIED:20250205T153915Z
UID:10002409-1811160000-1811163600@pikespkblues.org
SUMMARY:Jazz 93.5 Community Blues Hour with BJ Estares
DESCRIPTION:
URL:https://pikespkblues.org/event/jazz-93-5-community-blues-hour-with-bj-estares/2027-05-24/
LOCATION:CO
END:VEVENT
BEGIN:VEVENT
DTSTART;TZID=America/Denver:20270525T120000
DTEND;TZID=America/Denver:20270525T130000
DTSTAMP:20260425T071718
CREATED:20240608T152048Z
LAST-MODIFIED:20250205T153915Z
UID:10002410-1811246400-1811250000@pikespkblues.org
SUMMARY:Jazz 93.5 Community Blues Hour with BJ Estares
DESCRIPTION:
URL:https://pikespkblues.org/event/jazz-93-5-community-blues-hour-with-bj-estares/2027-05-25/
LOCATION:CO
END:VEVENT
BEGIN:VEVENT
DTSTART;TZID=America/Denver:20270525T180000
DTEND;TZID=America/Denver:20270525T210000
DTSTAMP:20260425T071718
CREATED:20251004T004608Z
LAST-MODIFIED:20251004T182250Z
UID:10004865-1811268000-1811278800@pikespkblues.org
SUMMARY:Sweet T's Rude Blues Jam on Tuesdays at PEAK 31
DESCRIPTION:Sweet T’s Rude Blues Jam @ PEAK 31\, 2419 N Union Blvd (80909) on Tuesdays\, from 6:00 pm to 9:00 pm.
URL:https://pikespkblues.org/event/sweet-ts-rude-blues-jam-on-tuesdays-at-peak-31/2027-05-25/
LOCATION:PEAK 31\, 2419 N Union Blvd\, Colorado Springs\, CO\, 80909\, United States
CATEGORIES:Jams
END:VEVENT
BEGIN:VEVENT
DTSTART;TZID=America/Denver:20270526T120000
DTEND;TZID=America/Denver:20270526T130000
DTSTAMP:20260425T071718
CREATED:20240608T152048Z
LAST-MODIFIED:20250205T153915Z
UID:10002411-1811332800-1811336400@pikespkblues.org
SUMMARY:Jazz 93.5 Community Blues Hour with BJ Estares
DESCRIPTION:
URL:https://pikespkblues.org/event/jazz-93-5-community-blues-hour-with-bj-estares/2027-05-26/
LOCATION:CO
END:VEVENT
BEGIN:VEVENT
DTSTART;TZID=America/Denver:20270527T120000
DTEND;TZID=America/Denver:20270527T130000
DTSTAMP:20260425T071718
CREATED:20240608T152048Z
LAST-MODIFIED:20250205T153915Z
UID:10002412-1811419200-1811422800@pikespkblues.org
SUMMARY:Jazz 93.5 Community Blues Hour with BJ Estares
DESCRIPTION:
URL:https://pikespkblues.org/event/jazz-93-5-community-blues-hour-with-bj-estares/2027-05-27/
LOCATION:CO
END:VEVENT
BEGIN:VEVENT
DTSTART;TZID=America/Denver:20270528T120000
DTEND;TZID=America/Denver:20270528T130000
DTSTAMP:20260425T071718
CREATED:20240608T152048Z
LAST-MODIFIED:20250205T153915Z
UID:10002413-1811505600-1811509200@pikespkblues.org
SUMMARY:Jazz 93.5 Community Blues Hour with BJ Estares
DESCRIPTION:
URL:https://pikespkblues.org/event/jazz-93-5-community-blues-hour-with-bj-estares/2027-05-28/
LOCATION:CO
END:VEVENT
BEGIN:VEVENT
DTSTART;TZID=America/Denver:20270531T120000
DTEND;TZID=America/Denver:20270531T130000
DTSTAMP:20260425T071718
CREATED:20240608T152048Z
LAST-MODIFIED:20250205T153915Z
UID:10002414-1811764800-1811768400@pikespkblues.org
SUMMARY:Jazz 93.5 Community Blues Hour with BJ Estares
DESCRIPTION:
URL:https://pikespkblues.org/event/jazz-93-5-community-blues-hour-with-bj-estares/2027-05-31/
LOCATION:CO
END:VEVENT
BEGIN:VEVENT
DTSTART;TZID=America/Denver:20270601T120000
DTEND;TZID=America/Denver:20270601T130000
DTSTAMP:20260425T071718
CREATED:20240608T152048Z
LAST-MODIFIED:20250205T153915Z
UID:10002415-1811851200-1811854800@pikespkblues.org
SUMMARY:Jazz 93.5 Community Blues Hour with BJ Estares
DESCRIPTION:
URL:https://pikespkblues.org/event/jazz-93-5-community-blues-hour-with-bj-estares/2027-06-01/
LOCATION:CO
END:VEVENT
BEGIN:VEVENT
DTSTART;TZID=America/Denver:20270601T180000
DTEND;TZID=America/Denver:20270601T210000
DTSTAMP:20260425T071718
CREATED:20251004T004608Z
LAST-MODIFIED:20251004T182250Z
UID:10004866-1811872800-1811883600@pikespkblues.org
SUMMARY:Sweet T's Rude Blues Jam on Tuesdays at PEAK 31
DESCRIPTION:Sweet T’s Rude Blues Jam @ PEAK 31\, 2419 N Union Blvd (80909) on Tuesdays\, from 6:00 pm to 9:00 pm.
URL:https://pikespkblues.org/event/sweet-ts-rude-blues-jam-on-tuesdays-at-peak-31/2027-06-01/
LOCATION:PEAK 31\, 2419 N Union Blvd\, Colorado Springs\, CO\, 80909\, United States
CATEGORIES:Jams
END:VEVENT
BEGIN:VEVENT
DTSTART;TZID=America/Denver:20270602T120000
DTEND;TZID=America/Denver:20270602T130000
DTSTAMP:20260425T071718
CREATED:20240608T152048Z
LAST-MODIFIED:20250205T153915Z
UID:10002416-1811937600-1811941200@pikespkblues.org
SUMMARY:Jazz 93.5 Community Blues Hour with BJ Estares
DESCRIPTION:
URL:https://pikespkblues.org/event/jazz-93-5-community-blues-hour-with-bj-estares/2027-06-02/
LOCATION:CO
END:VEVENT
BEGIN:VEVENT
DTSTART;TZID=America/Denver:20270603T120000
DTEND;TZID=America/Denver:20270603T130000
DTSTAMP:20260425T071718
CREATED:20240608T152048Z
LAST-MODIFIED:20250205T153915Z
UID:10002417-1812024000-1812027600@pikespkblues.org
SUMMARY:Jazz 93.5 Community Blues Hour with BJ Estares
DESCRIPTION:
URL:https://pikespkblues.org/event/jazz-93-5-community-blues-hour-with-bj-estares/2027-06-03/
LOCATION:CO
END:VEVENT
BEGIN:VEVENT
DTSTART;TZID=America/Denver:20270603T200000
DTEND;TZID=America/Denver:20270603T230000
DTSTAMP:20260425T071718
CREATED:20260221T045616Z
LAST-MODIFIED:20260221T045617Z
UID:10005713-1812052800-1812063600@pikespkblues.org
SUMMARY:Blues Jam hosted by Randy Stephens & the Groove Makers
DESCRIPTION:Blues Jam hosted by Randy Stephens & the Groove Makers @ Kinfolks\, 950 Manitou Ave\, Manitou Springs on the first Thursday of  the month from 8:00 pm to 11:00 pm. Sign up start at 7:30 pm. Bring your own axe and jam with these award winning musicians. Keys\, drums\, and amps provided. Horn players welcome.
URL:https://pikespkblues.org/event/stormy-monday-blues-jam-hosted-by-randy-stephens-the-groove-makers-2-2/2027-06-03/
LOCATION:Kinsfolks\, 950 Manitou Ave\, Manitou Springs\, CO\, 80829
CATEGORIES:Jams
END:VEVENT
BEGIN:VEVENT
DTSTART;TZID=America/Denver:20270604T120000
DTEND;TZID=America/Denver:20270604T130000
DTSTAMP:20260425T071718
CREATED:20240608T152048Z
LAST-MODIFIED:20250205T153915Z
UID:10002418-1812110400-1812114000@pikespkblues.org
SUMMARY:Jazz 93.5 Community Blues Hour with BJ Estares
DESCRIPTION:
URL:https://pikespkblues.org/event/jazz-93-5-community-blues-hour-with-bj-estares/2027-06-04/
LOCATION:CO
END:VEVENT
BEGIN:VEVENT
DTSTART;TZID=America/Denver:20270607T120000
DTEND;TZID=America/Denver:20270607T130000
DTSTAMP:20260425T071718
CREATED:20240608T152048Z
LAST-MODIFIED:20250205T153915Z
UID:10002419-1812369600-1812373200@pikespkblues.org
SUMMARY:Jazz 93.5 Community Blues Hour with BJ Estares
DESCRIPTION:
URL:https://pikespkblues.org/event/jazz-93-5-community-blues-hour-with-bj-estares/2027-06-07/
LOCATION:CO
END:VEVENT
BEGIN:VEVENT
DTSTART;TZID=America/Denver:20270608T120000
DTEND;TZID=America/Denver:20270608T130000
DTSTAMP:20260425T071718
CREATED:20240608T152048Z
LAST-MODIFIED:20250205T153915Z
UID:10002420-1812456000-1812459600@pikespkblues.org
SUMMARY:Jazz 93.5 Community Blues Hour with BJ Estares
DESCRIPTION:
URL:https://pikespkblues.org/event/jazz-93-5-community-blues-hour-with-bj-estares/2027-06-08/
LOCATION:CO
END:VEVENT
BEGIN:VEVENT
DTSTART;TZID=America/Denver:20270608T180000
DTEND;TZID=America/Denver:20270608T210000
DTSTAMP:20260425T071718
CREATED:20251004T004608Z
LAST-MODIFIED:20251004T182250Z
UID:10004867-1812477600-1812488400@pikespkblues.org
SUMMARY:Sweet T's Rude Blues Jam on Tuesdays at PEAK 31
DESCRIPTION:Sweet T’s Rude Blues Jam @ PEAK 31\, 2419 N Union Blvd (80909) on Tuesdays\, from 6:00 pm to 9:00 pm.
URL:https://pikespkblues.org/event/sweet-ts-rude-blues-jam-on-tuesdays-at-peak-31/2027-06-08/
LOCATION:PEAK 31\, 2419 N Union Blvd\, Colorado Springs\, CO\, 80909\, United States
CATEGORIES:Jams
END:VEVENT
BEGIN:VEVENT
DTSTART;TZID=America/Denver:20270609T120000
DTEND;TZID=America/Denver:20270609T130000
DTSTAMP:20260425T071718
CREATED:20240608T152048Z
LAST-MODIFIED:20250205T153915Z
UID:10002421-1812542400-1812546000@pikespkblues.org
SUMMARY:Jazz 93.5 Community Blues Hour with BJ Estares
DESCRIPTION:
URL:https://pikespkblues.org/event/jazz-93-5-community-blues-hour-with-bj-estares/2027-06-09/
LOCATION:CO
END:VEVENT
BEGIN:VEVENT
DTSTART;TZID=America/Denver:20270610T120000
DTEND;TZID=America/Denver:20270610T130000
DTSTAMP:20260425T071718
CREATED:20240608T152048Z
LAST-MODIFIED:20250205T153915Z
UID:10002422-1812628800-1812632400@pikespkblues.org
SUMMARY:Jazz 93.5 Community Blues Hour with BJ Estares
DESCRIPTION:
URL:https://pikespkblues.org/event/jazz-93-5-community-blues-hour-with-bj-estares/2027-06-10/
LOCATION:CO
END:VEVENT
BEGIN:VEVENT
DTSTART;TZID=America/Denver:20270611T120000
DTEND;TZID=America/Denver:20270611T130000
DTSTAMP:20260425T071718
CREATED:20240608T152048Z
LAST-MODIFIED:20250205T153915Z
UID:10002423-1812715200-1812718800@pikespkblues.org
SUMMARY:Jazz 93.5 Community Blues Hour with BJ Estares
DESCRIPTION:
URL:https://pikespkblues.org/event/jazz-93-5-community-blues-hour-with-bj-estares/2027-06-11/
LOCATION:CO
END:VEVENT
BEGIN:VEVENT
DTSTART;TZID=America/Denver:20270614T120000
DTEND;TZID=America/Denver:20270614T130000
DTSTAMP:20260425T071718
CREATED:20240608T152048Z
LAST-MODIFIED:20250205T153915Z
UID:10002424-1812974400-1812978000@pikespkblues.org
SUMMARY:Jazz 93.5 Community Blues Hour with BJ Estares
DESCRIPTION:
URL:https://pikespkblues.org/event/jazz-93-5-community-blues-hour-with-bj-estares/2027-06-14/
LOCATION:CO
END:VEVENT
BEGIN:VEVENT
DTSTART;TZID=America/Denver:20270615T120000
DTEND;TZID=America/Denver:20270615T130000
DTSTAMP:20260425T071718
CREATED:20240608T152048Z
LAST-MODIFIED:20250205T153915Z
UID:10002425-1813060800-1813064400@pikespkblues.org
SUMMARY:Jazz 93.5 Community Blues Hour with BJ Estares
DESCRIPTION:
URL:https://pikespkblues.org/event/jazz-93-5-community-blues-hour-with-bj-estares/2027-06-15/
LOCATION:CO
END:VEVENT
END:VCALENDAR