BEGIN:VCALENDAR
VERSION:2.0
PRODID:-//Pikes Peak Blues Community - ECPv6.15.20//NONSGML v1.0//EN
CALSCALE:GREGORIAN
METHOD:PUBLISH
X-ORIGINAL-URL:https://pikespkblues.org
X-WR-CALDESC:Events for Pikes Peak Blues Community
REFRESH-INTERVAL;VALUE=DURATION:PT1H
X-Robots-Tag:noindex
X-PUBLISHED-TTL:PT1H
BEGIN:VTIMEZONE
TZID:America/Denver
BEGIN:DAYLIGHT
TZOFFSETFROM:-0700
TZOFFSETTO:-0600
TZNAME:MDT
DTSTART:20260308T090000
END:DAYLIGHT
BEGIN:STANDARD
TZOFFSETFROM:-0600
TZOFFSETTO:-0700
TZNAME:MST
DTSTART:20261101T080000
END:STANDARD
BEGIN:DAYLIGHT
TZOFFSETFROM:-0700
TZOFFSETTO:-0600
TZNAME:MDT
DTSTART:20270314T090000
END:DAYLIGHT
BEGIN:STANDARD
TZOFFSETFROM:-0600
TZOFFSETTO:-0700
TZNAME:MST
DTSTART:20271107T080000
END:STANDARD
BEGIN:DAYLIGHT
TZOFFSETFROM:-0700
TZOFFSETTO:-0600
TZNAME:MDT
DTSTART:20280312T090000
END:DAYLIGHT
BEGIN:STANDARD
TZOFFSETFROM:-0600
TZOFFSETTO:-0700
TZNAME:MST
DTSTART:20281105T080000
END:STANDARD
END:VTIMEZONE
BEGIN:VEVENT
DTSTART;TZID=America/Denver:20270112T120000
DTEND;TZID=America/Denver:20270112T130000
DTSTAMP:20260425T071510
CREATED:20240608T152048Z
LAST-MODIFIED:20250205T153915Z
UID:10002315-1799755200-1799758800@pikespkblues.org
SUMMARY:Jazz 93.5 Community Blues Hour with BJ Estares
DESCRIPTION:
URL:https://pikespkblues.org/event/jazz-93-5-community-blues-hour-with-bj-estares/2027-01-12/
LOCATION:CO
END:VEVENT
BEGIN:VEVENT
DTSTART;TZID=America/Denver:20270112T180000
DTEND;TZID=America/Denver:20270112T210000
DTSTAMP:20260425T071510
CREATED:20251004T004608Z
LAST-MODIFIED:20251004T182250Z
UID:10004846-1799776800-1799787600@pikespkblues.org
SUMMARY:Sweet T's Rude Blues Jam on Tuesdays at PEAK 31
DESCRIPTION:Sweet T’s Rude Blues Jam @ PEAK 31\, 2419 N Union Blvd (80909) on Tuesdays\, from 6:00 pm to 9:00 pm.
URL:https://pikespkblues.org/event/sweet-ts-rude-blues-jam-on-tuesdays-at-peak-31/2027-01-12/
LOCATION:PEAK 31\, 2419 N Union Blvd\, Colorado Springs\, CO\, 80909\, United States
CATEGORIES:Jams
END:VEVENT
BEGIN:VEVENT
DTSTART;TZID=America/Denver:20270113T120000
DTEND;TZID=America/Denver:20270113T130000
DTSTAMP:20260425T071510
CREATED:20240608T152048Z
LAST-MODIFIED:20250205T153915Z
UID:10002316-1799841600-1799845200@pikespkblues.org
SUMMARY:Jazz 93.5 Community Blues Hour with BJ Estares
DESCRIPTION:
URL:https://pikespkblues.org/event/jazz-93-5-community-blues-hour-with-bj-estares/2027-01-13/
LOCATION:CO
END:VEVENT
BEGIN:VEVENT
DTSTART;TZID=America/Denver:20270114T120000
DTEND;TZID=America/Denver:20270114T130000
DTSTAMP:20260425T071510
CREATED:20240608T152048Z
LAST-MODIFIED:20250205T153915Z
UID:10002317-1799928000-1799931600@pikespkblues.org
SUMMARY:Jazz 93.5 Community Blues Hour with BJ Estares
DESCRIPTION:
URL:https://pikespkblues.org/event/jazz-93-5-community-blues-hour-with-bj-estares/2027-01-14/
LOCATION:CO
END:VEVENT
BEGIN:VEVENT
DTSTART;TZID=America/Denver:20270115T120000
DTEND;TZID=America/Denver:20270115T130000
DTSTAMP:20260425T071510
CREATED:20240608T152048Z
LAST-MODIFIED:20250205T153915Z
UID:10002318-1800014400-1800018000@pikespkblues.org
SUMMARY:Jazz 93.5 Community Blues Hour with BJ Estares
DESCRIPTION:
URL:https://pikespkblues.org/event/jazz-93-5-community-blues-hour-with-bj-estares/2027-01-15/
LOCATION:CO
END:VEVENT
BEGIN:VEVENT
DTSTART;TZID=America/Denver:20270118T120000
DTEND;TZID=America/Denver:20270118T130000
DTSTAMP:20260425T071510
CREATED:20240608T152048Z
LAST-MODIFIED:20250205T153915Z
UID:10002319-1800273600-1800277200@pikespkblues.org
SUMMARY:Jazz 93.5 Community Blues Hour with BJ Estares
DESCRIPTION:
URL:https://pikespkblues.org/event/jazz-93-5-community-blues-hour-with-bj-estares/2027-01-18/
LOCATION:CO
END:VEVENT
BEGIN:VEVENT
DTSTART;TZID=America/Denver:20270119T120000
DTEND;TZID=America/Denver:20270119T130000
DTSTAMP:20260425T071510
CREATED:20240608T152048Z
LAST-MODIFIED:20250205T153915Z
UID:10002320-1800360000-1800363600@pikespkblues.org
SUMMARY:Jazz 93.5 Community Blues Hour with BJ Estares
DESCRIPTION:
URL:https://pikespkblues.org/event/jazz-93-5-community-blues-hour-with-bj-estares/2027-01-19/
LOCATION:CO
END:VEVENT
BEGIN:VEVENT
DTSTART;TZID=America/Denver:20270119T180000
DTEND;TZID=America/Denver:20270119T210000
DTSTAMP:20260425T071510
CREATED:20251004T004608Z
LAST-MODIFIED:20251004T182250Z
UID:10004847-1800381600-1800392400@pikespkblues.org
SUMMARY:Sweet T's Rude Blues Jam on Tuesdays at PEAK 31
DESCRIPTION:Sweet T’s Rude Blues Jam @ PEAK 31\, 2419 N Union Blvd (80909) on Tuesdays\, from 6:00 pm to 9:00 pm.
URL:https://pikespkblues.org/event/sweet-ts-rude-blues-jam-on-tuesdays-at-peak-31/2027-01-19/
LOCATION:PEAK 31\, 2419 N Union Blvd\, Colorado Springs\, CO\, 80909\, United States
CATEGORIES:Jams
END:VEVENT
BEGIN:VEVENT
DTSTART;TZID=America/Denver:20270120T120000
DTEND;TZID=America/Denver:20270120T130000
DTSTAMP:20260425T071510
CREATED:20240608T152048Z
LAST-MODIFIED:20250205T153915Z
UID:10002321-1800446400-1800450000@pikespkblues.org
SUMMARY:Jazz 93.5 Community Blues Hour with BJ Estares
DESCRIPTION:
URL:https://pikespkblues.org/event/jazz-93-5-community-blues-hour-with-bj-estares/2027-01-20/
LOCATION:CO
END:VEVENT
BEGIN:VEVENT
DTSTART;TZID=America/Denver:20270121T120000
DTEND;TZID=America/Denver:20270121T130000
DTSTAMP:20260425T071510
CREATED:20240608T152048Z
LAST-MODIFIED:20250205T153915Z
UID:10002322-1800532800-1800536400@pikespkblues.org
SUMMARY:Jazz 93.5 Community Blues Hour with BJ Estares
DESCRIPTION:
URL:https://pikespkblues.org/event/jazz-93-5-community-blues-hour-with-bj-estares/2027-01-21/
LOCATION:CO
END:VEVENT
BEGIN:VEVENT
DTSTART;TZID=America/Denver:20270122T120000
DTEND;TZID=America/Denver:20270122T130000
DTSTAMP:20260425T071510
CREATED:20240608T152048Z
LAST-MODIFIED:20250205T153915Z
UID:10002323-1800619200-1800622800@pikespkblues.org
SUMMARY:Jazz 93.5 Community Blues Hour with BJ Estares
DESCRIPTION:
URL:https://pikespkblues.org/event/jazz-93-5-community-blues-hour-with-bj-estares/2027-01-22/
LOCATION:CO
END:VEVENT
BEGIN:VEVENT
DTSTART;TZID=America/Denver:20270125T120000
DTEND;TZID=America/Denver:20270125T130000
DTSTAMP:20260425T071510
CREATED:20240608T152048Z
LAST-MODIFIED:20250205T153915Z
UID:10002324-1800878400-1800882000@pikespkblues.org
SUMMARY:Jazz 93.5 Community Blues Hour with BJ Estares
DESCRIPTION:
URL:https://pikespkblues.org/event/jazz-93-5-community-blues-hour-with-bj-estares/2027-01-25/
LOCATION:CO
END:VEVENT
BEGIN:VEVENT
DTSTART;TZID=America/Denver:20270126T120000
DTEND;TZID=America/Denver:20270126T130000
DTSTAMP:20260425T071510
CREATED:20240608T152048Z
LAST-MODIFIED:20250205T153915Z
UID:10002325-1800964800-1800968400@pikespkblues.org
SUMMARY:Jazz 93.5 Community Blues Hour with BJ Estares
DESCRIPTION:
URL:https://pikespkblues.org/event/jazz-93-5-community-blues-hour-with-bj-estares/2027-01-26/
LOCATION:CO
END:VEVENT
BEGIN:VEVENT
DTSTART;TZID=America/Denver:20270126T180000
DTEND;TZID=America/Denver:20270126T210000
DTSTAMP:20260425T071510
CREATED:20251004T004608Z
LAST-MODIFIED:20251004T182250Z
UID:10004848-1800986400-1800997200@pikespkblues.org
SUMMARY:Sweet T's Rude Blues Jam on Tuesdays at PEAK 31
DESCRIPTION:Sweet T’s Rude Blues Jam @ PEAK 31\, 2419 N Union Blvd (80909) on Tuesdays\, from 6:00 pm to 9:00 pm.
URL:https://pikespkblues.org/event/sweet-ts-rude-blues-jam-on-tuesdays-at-peak-31/2027-01-26/
LOCATION:PEAK 31\, 2419 N Union Blvd\, Colorado Springs\, CO\, 80909\, United States
CATEGORIES:Jams
END:VEVENT
BEGIN:VEVENT
DTSTART;TZID=America/Denver:20270127T120000
DTEND;TZID=America/Denver:20270127T130000
DTSTAMP:20260425T071510
CREATED:20240608T152048Z
LAST-MODIFIED:20250205T153915Z
UID:10002326-1801051200-1801054800@pikespkblues.org
SUMMARY:Jazz 93.5 Community Blues Hour with BJ Estares
DESCRIPTION:
URL:https://pikespkblues.org/event/jazz-93-5-community-blues-hour-with-bj-estares/2027-01-27/
LOCATION:CO
END:VEVENT
BEGIN:VEVENT
DTSTART;TZID=America/Denver:20270128T120000
DTEND;TZID=America/Denver:20270128T130000
DTSTAMP:20260425T071510
CREATED:20240608T152048Z
LAST-MODIFIED:20250205T153915Z
UID:10002327-1801137600-1801141200@pikespkblues.org
SUMMARY:Jazz 93.5 Community Blues Hour with BJ Estares
DESCRIPTION:
URL:https://pikespkblues.org/event/jazz-93-5-community-blues-hour-with-bj-estares/2027-01-28/
LOCATION:CO
END:VEVENT
BEGIN:VEVENT
DTSTART;TZID=America/Denver:20270129T120000
DTEND;TZID=America/Denver:20270129T130000
DTSTAMP:20260425T071510
CREATED:20240608T152048Z
LAST-MODIFIED:20250205T153915Z
UID:10002328-1801224000-1801227600@pikespkblues.org
SUMMARY:Jazz 93.5 Community Blues Hour with BJ Estares
DESCRIPTION:
URL:https://pikespkblues.org/event/jazz-93-5-community-blues-hour-with-bj-estares/2027-01-29/
LOCATION:CO
END:VEVENT
BEGIN:VEVENT
DTSTART;TZID=America/Denver:20270201T120000
DTEND;TZID=America/Denver:20270201T130000
DTSTAMP:20260425T071510
CREATED:20240608T152048Z
LAST-MODIFIED:20250205T153915Z
UID:10002329-1801483200-1801486800@pikespkblues.org
SUMMARY:Jazz 93.5 Community Blues Hour with BJ Estares
DESCRIPTION:
URL:https://pikespkblues.org/event/jazz-93-5-community-blues-hour-with-bj-estares/2027-02-01/
LOCATION:CO
END:VEVENT
BEGIN:VEVENT
DTSTART;TZID=America/Denver:20270202T120000
DTEND;TZID=America/Denver:20270202T130000
DTSTAMP:20260425T071510
CREATED:20240608T152048Z
LAST-MODIFIED:20250205T153915Z
UID:10002330-1801569600-1801573200@pikespkblues.org
SUMMARY:Jazz 93.5 Community Blues Hour with BJ Estares
DESCRIPTION:
URL:https://pikespkblues.org/event/jazz-93-5-community-blues-hour-with-bj-estares/2027-02-02/
LOCATION:CO
END:VEVENT
BEGIN:VEVENT
DTSTART;TZID=America/Denver:20270202T180000
DTEND;TZID=America/Denver:20270202T210000
DTSTAMP:20260425T071510
CREATED:20251004T004608Z
LAST-MODIFIED:20251004T182250Z
UID:10004849-1801591200-1801602000@pikespkblues.org
SUMMARY:Sweet T's Rude Blues Jam on Tuesdays at PEAK 31
DESCRIPTION:Sweet T’s Rude Blues Jam @ PEAK 31\, 2419 N Union Blvd (80909) on Tuesdays\, from 6:00 pm to 9:00 pm.
URL:https://pikespkblues.org/event/sweet-ts-rude-blues-jam-on-tuesdays-at-peak-31/2027-02-02/
LOCATION:PEAK 31\, 2419 N Union Blvd\, Colorado Springs\, CO\, 80909\, United States
CATEGORIES:Jams
END:VEVENT
BEGIN:VEVENT
DTSTART;TZID=America/Denver:20270203T120000
DTEND;TZID=America/Denver:20270203T130000
DTSTAMP:20260425T071510
CREATED:20240608T152048Z
LAST-MODIFIED:20250205T153915Z
UID:10002331-1801656000-1801659600@pikespkblues.org
SUMMARY:Jazz 93.5 Community Blues Hour with BJ Estares
DESCRIPTION:
URL:https://pikespkblues.org/event/jazz-93-5-community-blues-hour-with-bj-estares/2027-02-03/
LOCATION:CO
END:VEVENT
BEGIN:VEVENT
DTSTART;TZID=America/Denver:20270204T120000
DTEND;TZID=America/Denver:20270204T130000
DTSTAMP:20260425T071510
CREATED:20240608T152048Z
LAST-MODIFIED:20250205T153915Z
UID:10002332-1801742400-1801746000@pikespkblues.org
SUMMARY:Jazz 93.5 Community Blues Hour with BJ Estares
DESCRIPTION:
URL:https://pikespkblues.org/event/jazz-93-5-community-blues-hour-with-bj-estares/2027-02-04/
LOCATION:CO
END:VEVENT
BEGIN:VEVENT
DTSTART;TZID=America/Denver:20270204T200000
DTEND;TZID=America/Denver:20270204T230000
DTSTAMP:20260425T071510
CREATED:20260221T045616Z
LAST-MODIFIED:20260221T045617Z
UID:10005709-1801771200-1801782000@pikespkblues.org
SUMMARY:Blues Jam hosted by Randy Stephens & the Groove Makers
DESCRIPTION:Blues Jam hosted by Randy Stephens & the Groove Makers @ Kinfolks\, 950 Manitou Ave\, Manitou Springs on the first Thursday of  the month from 8:00 pm to 11:00 pm. Sign up start at 7:30 pm. Bring your own axe and jam with these award winning musicians. Keys\, drums\, and amps provided. Horn players welcome.
URL:https://pikespkblues.org/event/stormy-monday-blues-jam-hosted-by-randy-stephens-the-groove-makers-2-2/2027-02-04/
LOCATION:Kinsfolks\, 950 Manitou Ave\, Manitou Springs\, CO\, 80829
CATEGORIES:Jams
END:VEVENT
BEGIN:VEVENT
DTSTART;TZID=America/Denver:20270205T120000
DTEND;TZID=America/Denver:20270205T130000
DTSTAMP:20260425T071510
CREATED:20240608T152048Z
LAST-MODIFIED:20250205T153915Z
UID:10002333-1801828800-1801832400@pikespkblues.org
SUMMARY:Jazz 93.5 Community Blues Hour with BJ Estares
DESCRIPTION:
URL:https://pikespkblues.org/event/jazz-93-5-community-blues-hour-with-bj-estares/2027-02-05/
LOCATION:CO
END:VEVENT
BEGIN:VEVENT
DTSTART;TZID=America/Denver:20270208T120000
DTEND;TZID=America/Denver:20270208T130000
DTSTAMP:20260425T071510
CREATED:20240608T152048Z
LAST-MODIFIED:20250205T153915Z
UID:10002334-1802088000-1802091600@pikespkblues.org
SUMMARY:Jazz 93.5 Community Blues Hour with BJ Estares
DESCRIPTION:
URL:https://pikespkblues.org/event/jazz-93-5-community-blues-hour-with-bj-estares/2027-02-08/
LOCATION:CO
END:VEVENT
BEGIN:VEVENT
DTSTART;TZID=America/Denver:20270209T120000
DTEND;TZID=America/Denver:20270209T130000
DTSTAMP:20260425T071510
CREATED:20240608T152048Z
LAST-MODIFIED:20250205T153915Z
UID:10002335-1802174400-1802178000@pikespkblues.org
SUMMARY:Jazz 93.5 Community Blues Hour with BJ Estares
DESCRIPTION:
URL:https://pikespkblues.org/event/jazz-93-5-community-blues-hour-with-bj-estares/2027-02-09/
LOCATION:CO
END:VEVENT
BEGIN:VEVENT
DTSTART;TZID=America/Denver:20270209T180000
DTEND;TZID=America/Denver:20270209T210000
DTSTAMP:20260425T071510
CREATED:20251004T004608Z
LAST-MODIFIED:20251004T182250Z
UID:10004850-1802196000-1802206800@pikespkblues.org
SUMMARY:Sweet T's Rude Blues Jam on Tuesdays at PEAK 31
DESCRIPTION:Sweet T’s Rude Blues Jam @ PEAK 31\, 2419 N Union Blvd (80909) on Tuesdays\, from 6:00 pm to 9:00 pm.
URL:https://pikespkblues.org/event/sweet-ts-rude-blues-jam-on-tuesdays-at-peak-31/2027-02-09/
LOCATION:PEAK 31\, 2419 N Union Blvd\, Colorado Springs\, CO\, 80909\, United States
CATEGORIES:Jams
END:VEVENT
BEGIN:VEVENT
DTSTART;TZID=America/Denver:20270210T120000
DTEND;TZID=America/Denver:20270210T130000
DTSTAMP:20260425T071510
CREATED:20240608T152048Z
LAST-MODIFIED:20250205T153915Z
UID:10002336-1802260800-1802264400@pikespkblues.org
SUMMARY:Jazz 93.5 Community Blues Hour with BJ Estares
DESCRIPTION:
URL:https://pikespkblues.org/event/jazz-93-5-community-blues-hour-with-bj-estares/2027-02-10/
LOCATION:CO
END:VEVENT
BEGIN:VEVENT
DTSTART;TZID=America/Denver:20270211T120000
DTEND;TZID=America/Denver:20270211T130000
DTSTAMP:20260425T071510
CREATED:20240608T152048Z
LAST-MODIFIED:20250205T153915Z
UID:10002337-1802347200-1802350800@pikespkblues.org
SUMMARY:Jazz 93.5 Community Blues Hour with BJ Estares
DESCRIPTION:
URL:https://pikespkblues.org/event/jazz-93-5-community-blues-hour-with-bj-estares/2027-02-11/
LOCATION:CO
END:VEVENT
BEGIN:VEVENT
DTSTART;TZID=America/Denver:20270212T120000
DTEND;TZID=America/Denver:20270212T130000
DTSTAMP:20260425T071510
CREATED:20240608T152048Z
LAST-MODIFIED:20250205T153915Z
UID:10002338-1802433600-1802437200@pikespkblues.org
SUMMARY:Jazz 93.5 Community Blues Hour with BJ Estares
DESCRIPTION:
URL:https://pikespkblues.org/event/jazz-93-5-community-blues-hour-with-bj-estares/2027-02-12/
LOCATION:CO
END:VEVENT
END:VCALENDAR