BEGIN:VCALENDAR
VERSION:2.0
PRODID:-//Pikes Peak Blues Community - ECPv6.15.20//NONSGML v1.0//EN
CALSCALE:GREGORIAN
METHOD:PUBLISH
X-ORIGINAL-URL:https://pikespkblues.org
X-WR-CALDESC:Events for Pikes Peak Blues Community
REFRESH-INTERVAL;VALUE=DURATION:PT1H
X-Robots-Tag:noindex
X-PUBLISHED-TTL:PT1H
BEGIN:VTIMEZONE
TZID:America/Denver
BEGIN:DAYLIGHT
TZOFFSETFROM:-0700
TZOFFSETTO:-0600
TZNAME:MDT
DTSTART:20250309T090000
END:DAYLIGHT
BEGIN:STANDARD
TZOFFSETFROM:-0600
TZOFFSETTO:-0700
TZNAME:MST
DTSTART:20251102T080000
END:STANDARD
BEGIN:DAYLIGHT
TZOFFSETFROM:-0700
TZOFFSETTO:-0600
TZNAME:MDT
DTSTART:20260308T090000
END:DAYLIGHT
BEGIN:STANDARD
TZOFFSETFROM:-0600
TZOFFSETTO:-0700
TZNAME:MST
DTSTART:20261101T080000
END:STANDARD
BEGIN:DAYLIGHT
TZOFFSETFROM:-0700
TZOFFSETTO:-0600
TZNAME:MDT
DTSTART:20270314T090000
END:DAYLIGHT
BEGIN:STANDARD
TZOFFSETFROM:-0600
TZOFFSETTO:-0700
TZNAME:MST
DTSTART:20271107T080000
END:STANDARD
BEGIN:DAYLIGHT
TZOFFSETFROM:-0700
TZOFFSETTO:-0600
TZNAME:MDT
DTSTART:20280312T090000
END:DAYLIGHT
BEGIN:STANDARD
TZOFFSETFROM:-0600
TZOFFSETTO:-0700
TZNAME:MST
DTSTART:20281105T080000
END:STANDARD
END:VTIMEZONE
BEGIN:VEVENT
DTSTART;TZID=America/Denver:20261223T120000
DTEND;TZID=America/Denver:20261223T130000
DTSTAMP:20260424T081442
CREATED:20240608T152048Z
LAST-MODIFIED:20250205T153915Z
UID:10002301-1798027200-1798030800@pikespkblues.org
SUMMARY:Jazz 93.5 Community Blues Hour with BJ Estares
DESCRIPTION:
URL:https://pikespkblues.org/event/jazz-93-5-community-blues-hour-with-bj-estares/2026-12-23/
LOCATION:CO
END:VEVENT
BEGIN:VEVENT
DTSTART;TZID=America/Denver:20261224T120000
DTEND;TZID=America/Denver:20261224T130000
DTSTAMP:20260424T081442
CREATED:20240608T152048Z
LAST-MODIFIED:20250205T153915Z
UID:10002302-1798113600-1798117200@pikespkblues.org
SUMMARY:Jazz 93.5 Community Blues Hour with BJ Estares
DESCRIPTION:
URL:https://pikespkblues.org/event/jazz-93-5-community-blues-hour-with-bj-estares/2026-12-24/
LOCATION:CO
END:VEVENT
BEGIN:VEVENT
DTSTART;TZID=America/Denver:20261225T120000
DTEND;TZID=America/Denver:20261225T130000
DTSTAMP:20260424T081442
CREATED:20240608T152048Z
LAST-MODIFIED:20250205T153915Z
UID:10002303-1798200000-1798203600@pikespkblues.org
SUMMARY:Jazz 93.5 Community Blues Hour with BJ Estares
DESCRIPTION:
URL:https://pikespkblues.org/event/jazz-93-5-community-blues-hour-with-bj-estares/2026-12-25/
LOCATION:CO
END:VEVENT
BEGIN:VEVENT
DTSTART;TZID=America/Denver:20261228T120000
DTEND;TZID=America/Denver:20261228T130000
DTSTAMP:20260424T081442
CREATED:20240608T152048Z
LAST-MODIFIED:20250205T153915Z
UID:10002304-1798459200-1798462800@pikespkblues.org
SUMMARY:Jazz 93.5 Community Blues Hour with BJ Estares
DESCRIPTION:
URL:https://pikespkblues.org/event/jazz-93-5-community-blues-hour-with-bj-estares/2026-12-28/
LOCATION:CO
END:VEVENT
BEGIN:VEVENT
DTSTART;TZID=America/Denver:20261229T120000
DTEND;TZID=America/Denver:20261229T130000
DTSTAMP:20260424T081442
CREATED:20240608T152048Z
LAST-MODIFIED:20250205T153915Z
UID:10002305-1798545600-1798549200@pikespkblues.org
SUMMARY:Jazz 93.5 Community Blues Hour with BJ Estares
DESCRIPTION:
URL:https://pikespkblues.org/event/jazz-93-5-community-blues-hour-with-bj-estares/2026-12-29/
LOCATION:CO
END:VEVENT
BEGIN:VEVENT
DTSTART;TZID=America/Denver:20261229T180000
DTEND;TZID=America/Denver:20261229T210000
DTSTAMP:20260424T081442
CREATED:20251004T004608Z
LAST-MODIFIED:20251004T182250Z
UID:10004844-1798567200-1798578000@pikespkblues.org
SUMMARY:Sweet T's Rude Blues Jam on Tuesdays at PEAK 31
DESCRIPTION:Sweet T’s Rude Blues Jam @ PEAK 31\, 2419 N Union Blvd (80909) on Tuesdays\, from 6:00 pm to 9:00 pm.
URL:https://pikespkblues.org/event/sweet-ts-rude-blues-jam-on-tuesdays-at-peak-31/2026-12-29/
LOCATION:PEAK 31\, 2419 N Union Blvd\, Colorado Springs\, CO\, 80909\, United States
CATEGORIES:Jams
END:VEVENT
BEGIN:VEVENT
DTSTART;TZID=America/Denver:20261230T120000
DTEND;TZID=America/Denver:20261230T130000
DTSTAMP:20260424T081442
CREATED:20240608T152048Z
LAST-MODIFIED:20250205T153915Z
UID:10002306-1798632000-1798635600@pikespkblues.org
SUMMARY:Jazz 93.5 Community Blues Hour with BJ Estares
DESCRIPTION:
URL:https://pikespkblues.org/event/jazz-93-5-community-blues-hour-with-bj-estares/2026-12-30/
LOCATION:CO
END:VEVENT
BEGIN:VEVENT
DTSTART;TZID=America/Denver:20261231T120000
DTEND;TZID=America/Denver:20261231T130000
DTSTAMP:20260424T081442
CREATED:20240608T152048Z
LAST-MODIFIED:20250205T153915Z
UID:10002307-1798718400-1798722000@pikespkblues.org
SUMMARY:Jazz 93.5 Community Blues Hour with BJ Estares
DESCRIPTION:
URL:https://pikespkblues.org/event/jazz-93-5-community-blues-hour-with-bj-estares/2026-12-31/
LOCATION:CO
END:VEVENT
BEGIN:VEVENT
DTSTART;TZID=America/Denver:20270101T120000
DTEND;TZID=America/Denver:20270101T130000
DTSTAMP:20260424T081442
CREATED:20240608T152048Z
LAST-MODIFIED:20250205T153915Z
UID:10002308-1798804800-1798808400@pikespkblues.org
SUMMARY:Jazz 93.5 Community Blues Hour with BJ Estares
DESCRIPTION:
URL:https://pikespkblues.org/event/jazz-93-5-community-blues-hour-with-bj-estares/2027-01-01/
LOCATION:CO
END:VEVENT
BEGIN:VEVENT
DTSTART;TZID=America/Denver:20270104T120000
DTEND;TZID=America/Denver:20270104T130000
DTSTAMP:20260424T081442
CREATED:20240608T152048Z
LAST-MODIFIED:20250205T153915Z
UID:10002309-1799064000-1799067600@pikespkblues.org
SUMMARY:Jazz 93.5 Community Blues Hour with BJ Estares
DESCRIPTION:
URL:https://pikespkblues.org/event/jazz-93-5-community-blues-hour-with-bj-estares/2027-01-04/
LOCATION:CO
END:VEVENT
BEGIN:VEVENT
DTSTART;TZID=America/Denver:20270105T120000
DTEND;TZID=America/Denver:20270105T130000
DTSTAMP:20260424T081442
CREATED:20240608T152048Z
LAST-MODIFIED:20250205T153915Z
UID:10002310-1799150400-1799154000@pikespkblues.org
SUMMARY:Jazz 93.5 Community Blues Hour with BJ Estares
DESCRIPTION:
URL:https://pikespkblues.org/event/jazz-93-5-community-blues-hour-with-bj-estares/2027-01-05/
LOCATION:CO
END:VEVENT
BEGIN:VEVENT
DTSTART;TZID=America/Denver:20270105T180000
DTEND;TZID=America/Denver:20270105T210000
DTSTAMP:20260424T081442
CREATED:20251004T004608Z
LAST-MODIFIED:20251004T182250Z
UID:10004845-1799172000-1799182800@pikespkblues.org
SUMMARY:Sweet T's Rude Blues Jam on Tuesdays at PEAK 31
DESCRIPTION:Sweet T’s Rude Blues Jam @ PEAK 31\, 2419 N Union Blvd (80909) on Tuesdays\, from 6:00 pm to 9:00 pm.
URL:https://pikespkblues.org/event/sweet-ts-rude-blues-jam-on-tuesdays-at-peak-31/2027-01-05/
LOCATION:PEAK 31\, 2419 N Union Blvd\, Colorado Springs\, CO\, 80909\, United States
CATEGORIES:Jams
END:VEVENT
BEGIN:VEVENT
DTSTART;TZID=America/Denver:20270106T120000
DTEND;TZID=America/Denver:20270106T130000
DTSTAMP:20260424T081442
CREATED:20240608T152048Z
LAST-MODIFIED:20250205T153915Z
UID:10002311-1799236800-1799240400@pikespkblues.org
SUMMARY:Jazz 93.5 Community Blues Hour with BJ Estares
DESCRIPTION:
URL:https://pikespkblues.org/event/jazz-93-5-community-blues-hour-with-bj-estares/2027-01-06/
LOCATION:CO
END:VEVENT
BEGIN:VEVENT
DTSTART;TZID=America/Denver:20270107T120000
DTEND;TZID=America/Denver:20270107T130000
DTSTAMP:20260424T081442
CREATED:20240608T152048Z
LAST-MODIFIED:20250205T153915Z
UID:10002312-1799323200-1799326800@pikespkblues.org
SUMMARY:Jazz 93.5 Community Blues Hour with BJ Estares
DESCRIPTION:
URL:https://pikespkblues.org/event/jazz-93-5-community-blues-hour-with-bj-estares/2027-01-07/
LOCATION:CO
END:VEVENT
BEGIN:VEVENT
DTSTART;TZID=America/Denver:20270107T200000
DTEND;TZID=America/Denver:20270107T230000
DTSTAMP:20260424T081442
CREATED:20260221T045616Z
LAST-MODIFIED:20260221T045617Z
UID:10005708-1799352000-1799362800@pikespkblues.org
SUMMARY:Blues Jam hosted by Randy Stephens & the Groove Makers
DESCRIPTION:Blues Jam hosted by Randy Stephens & the Groove Makers @ Kinfolks\, 950 Manitou Ave\, Manitou Springs on the first Thursday of  the month from 8:00 pm to 11:00 pm. Sign up start at 7:30 pm. Bring your own axe and jam with these award winning musicians. Keys\, drums\, and amps provided. Horn players welcome.
URL:https://pikespkblues.org/event/stormy-monday-blues-jam-hosted-by-randy-stephens-the-groove-makers-2-2/2027-01-07/
LOCATION:Kinsfolks\, 950 Manitou Ave\, Manitou Springs\, CO\, 80829
CATEGORIES:Jams
END:VEVENT
BEGIN:VEVENT
DTSTART;TZID=America/Denver:20270108T120000
DTEND;TZID=America/Denver:20270108T130000
DTSTAMP:20260424T081442
CREATED:20240608T152048Z
LAST-MODIFIED:20250205T153915Z
UID:10002313-1799409600-1799413200@pikespkblues.org
SUMMARY:Jazz 93.5 Community Blues Hour with BJ Estares
DESCRIPTION:
URL:https://pikespkblues.org/event/jazz-93-5-community-blues-hour-with-bj-estares/2027-01-08/
LOCATION:CO
END:VEVENT
BEGIN:VEVENT
DTSTART;TZID=America/Denver:20270111T120000
DTEND;TZID=America/Denver:20270111T130000
DTSTAMP:20260424T081442
CREATED:20240608T152048Z
LAST-MODIFIED:20250205T153915Z
UID:10002314-1799668800-1799672400@pikespkblues.org
SUMMARY:Jazz 93.5 Community Blues Hour with BJ Estares
DESCRIPTION:
URL:https://pikespkblues.org/event/jazz-93-5-community-blues-hour-with-bj-estares/2027-01-11/
LOCATION:CO
END:VEVENT
BEGIN:VEVENT
DTSTART;TZID=America/Denver:20270112T120000
DTEND;TZID=America/Denver:20270112T130000
DTSTAMP:20260424T081442
CREATED:20240608T152048Z
LAST-MODIFIED:20250205T153915Z
UID:10002315-1799755200-1799758800@pikespkblues.org
SUMMARY:Jazz 93.5 Community Blues Hour with BJ Estares
DESCRIPTION:
URL:https://pikespkblues.org/event/jazz-93-5-community-blues-hour-with-bj-estares/2027-01-12/
LOCATION:CO
END:VEVENT
BEGIN:VEVENT
DTSTART;TZID=America/Denver:20270112T180000
DTEND;TZID=America/Denver:20270112T210000
DTSTAMP:20260424T081442
CREATED:20251004T004608Z
LAST-MODIFIED:20251004T182250Z
UID:10004846-1799776800-1799787600@pikespkblues.org
SUMMARY:Sweet T's Rude Blues Jam on Tuesdays at PEAK 31
DESCRIPTION:Sweet T’s Rude Blues Jam @ PEAK 31\, 2419 N Union Blvd (80909) on Tuesdays\, from 6:00 pm to 9:00 pm.
URL:https://pikespkblues.org/event/sweet-ts-rude-blues-jam-on-tuesdays-at-peak-31/2027-01-12/
LOCATION:PEAK 31\, 2419 N Union Blvd\, Colorado Springs\, CO\, 80909\, United States
CATEGORIES:Jams
END:VEVENT
BEGIN:VEVENT
DTSTART;TZID=America/Denver:20270113T120000
DTEND;TZID=America/Denver:20270113T130000
DTSTAMP:20260424T081442
CREATED:20240608T152048Z
LAST-MODIFIED:20250205T153915Z
UID:10002316-1799841600-1799845200@pikespkblues.org
SUMMARY:Jazz 93.5 Community Blues Hour with BJ Estares
DESCRIPTION:
URL:https://pikespkblues.org/event/jazz-93-5-community-blues-hour-with-bj-estares/2027-01-13/
LOCATION:CO
END:VEVENT
BEGIN:VEVENT
DTSTART;TZID=America/Denver:20270114T120000
DTEND;TZID=America/Denver:20270114T130000
DTSTAMP:20260424T081442
CREATED:20240608T152048Z
LAST-MODIFIED:20250205T153915Z
UID:10002317-1799928000-1799931600@pikespkblues.org
SUMMARY:Jazz 93.5 Community Blues Hour with BJ Estares
DESCRIPTION:
URL:https://pikespkblues.org/event/jazz-93-5-community-blues-hour-with-bj-estares/2027-01-14/
LOCATION:CO
END:VEVENT
BEGIN:VEVENT
DTSTART;TZID=America/Denver:20270115T120000
DTEND;TZID=America/Denver:20270115T130000
DTSTAMP:20260424T081442
CREATED:20240608T152048Z
LAST-MODIFIED:20250205T153915Z
UID:10002318-1800014400-1800018000@pikespkblues.org
SUMMARY:Jazz 93.5 Community Blues Hour with BJ Estares
DESCRIPTION:
URL:https://pikespkblues.org/event/jazz-93-5-community-blues-hour-with-bj-estares/2027-01-15/
LOCATION:CO
END:VEVENT
BEGIN:VEVENT
DTSTART;TZID=America/Denver:20270118T120000
DTEND;TZID=America/Denver:20270118T130000
DTSTAMP:20260424T081442
CREATED:20240608T152048Z
LAST-MODIFIED:20250205T153915Z
UID:10002319-1800273600-1800277200@pikespkblues.org
SUMMARY:Jazz 93.5 Community Blues Hour with BJ Estares
DESCRIPTION:
URL:https://pikespkblues.org/event/jazz-93-5-community-blues-hour-with-bj-estares/2027-01-18/
LOCATION:CO
END:VEVENT
BEGIN:VEVENT
DTSTART;TZID=America/Denver:20270119T120000
DTEND;TZID=America/Denver:20270119T130000
DTSTAMP:20260424T081442
CREATED:20240608T152048Z
LAST-MODIFIED:20250205T153915Z
UID:10002320-1800360000-1800363600@pikespkblues.org
SUMMARY:Jazz 93.5 Community Blues Hour with BJ Estares
DESCRIPTION:
URL:https://pikespkblues.org/event/jazz-93-5-community-blues-hour-with-bj-estares/2027-01-19/
LOCATION:CO
END:VEVENT
BEGIN:VEVENT
DTSTART;TZID=America/Denver:20270119T180000
DTEND;TZID=America/Denver:20270119T210000
DTSTAMP:20260424T081442
CREATED:20251004T004608Z
LAST-MODIFIED:20251004T182250Z
UID:10004847-1800381600-1800392400@pikespkblues.org
SUMMARY:Sweet T's Rude Blues Jam on Tuesdays at PEAK 31
DESCRIPTION:Sweet T’s Rude Blues Jam @ PEAK 31\, 2419 N Union Blvd (80909) on Tuesdays\, from 6:00 pm to 9:00 pm.
URL:https://pikespkblues.org/event/sweet-ts-rude-blues-jam-on-tuesdays-at-peak-31/2027-01-19/
LOCATION:PEAK 31\, 2419 N Union Blvd\, Colorado Springs\, CO\, 80909\, United States
CATEGORIES:Jams
END:VEVENT
BEGIN:VEVENT
DTSTART;TZID=America/Denver:20270120T120000
DTEND;TZID=America/Denver:20270120T130000
DTSTAMP:20260424T081442
CREATED:20240608T152048Z
LAST-MODIFIED:20250205T153915Z
UID:10002321-1800446400-1800450000@pikespkblues.org
SUMMARY:Jazz 93.5 Community Blues Hour with BJ Estares
DESCRIPTION:
URL:https://pikespkblues.org/event/jazz-93-5-community-blues-hour-with-bj-estares/2027-01-20/
LOCATION:CO
END:VEVENT
BEGIN:VEVENT
DTSTART;TZID=America/Denver:20270121T120000
DTEND;TZID=America/Denver:20270121T130000
DTSTAMP:20260424T081442
CREATED:20240608T152048Z
LAST-MODIFIED:20250205T153915Z
UID:10002322-1800532800-1800536400@pikespkblues.org
SUMMARY:Jazz 93.5 Community Blues Hour with BJ Estares
DESCRIPTION:
URL:https://pikespkblues.org/event/jazz-93-5-community-blues-hour-with-bj-estares/2027-01-21/
LOCATION:CO
END:VEVENT
BEGIN:VEVENT
DTSTART;TZID=America/Denver:20270122T120000
DTEND;TZID=America/Denver:20270122T130000
DTSTAMP:20260424T081442
CREATED:20240608T152048Z
LAST-MODIFIED:20250205T153915Z
UID:10002323-1800619200-1800622800@pikespkblues.org
SUMMARY:Jazz 93.5 Community Blues Hour with BJ Estares
DESCRIPTION:
URL:https://pikespkblues.org/event/jazz-93-5-community-blues-hour-with-bj-estares/2027-01-22/
LOCATION:CO
END:VEVENT
BEGIN:VEVENT
DTSTART;TZID=America/Denver:20270125T120000
DTEND;TZID=America/Denver:20270125T130000
DTSTAMP:20260424T081442
CREATED:20240608T152048Z
LAST-MODIFIED:20250205T153915Z
UID:10002324-1800878400-1800882000@pikespkblues.org
SUMMARY:Jazz 93.5 Community Blues Hour with BJ Estares
DESCRIPTION:
URL:https://pikespkblues.org/event/jazz-93-5-community-blues-hour-with-bj-estares/2027-01-25/
LOCATION:CO
END:VEVENT
BEGIN:VEVENT
DTSTART;TZID=America/Denver:20270126T120000
DTEND;TZID=America/Denver:20270126T130000
DTSTAMP:20260424T081442
CREATED:20240608T152048Z
LAST-MODIFIED:20250205T153915Z
UID:10002325-1800964800-1800968400@pikespkblues.org
SUMMARY:Jazz 93.5 Community Blues Hour with BJ Estares
DESCRIPTION:
URL:https://pikespkblues.org/event/jazz-93-5-community-blues-hour-with-bj-estares/2027-01-26/
LOCATION:CO
END:VEVENT
END:VCALENDAR