BEGIN:VCALENDAR
VERSION:2.0
PRODID:-//Pikes Peak Blues Community - ECPv6.15.20//NONSGML v1.0//EN
CALSCALE:GREGORIAN
METHOD:PUBLISH
X-ORIGINAL-URL:https://pikespkblues.org
X-WR-CALDESC:Events for Pikes Peak Blues Community
REFRESH-INTERVAL;VALUE=DURATION:PT1H
X-Robots-Tag:noindex
X-PUBLISHED-TTL:PT1H
BEGIN:VTIMEZONE
TZID:America/Denver
BEGIN:DAYLIGHT
TZOFFSETFROM:-0700
TZOFFSETTO:-0600
TZNAME:MDT
DTSTART:20240310T090000
END:DAYLIGHT
BEGIN:STANDARD
TZOFFSETFROM:-0600
TZOFFSETTO:-0700
TZNAME:MST
DTSTART:20241103T080000
END:STANDARD
BEGIN:DAYLIGHT
TZOFFSETFROM:-0700
TZOFFSETTO:-0600
TZNAME:MDT
DTSTART:20250309T090000
END:DAYLIGHT
BEGIN:STANDARD
TZOFFSETFROM:-0600
TZOFFSETTO:-0700
TZNAME:MST
DTSTART:20251102T080000
END:STANDARD
BEGIN:DAYLIGHT
TZOFFSETFROM:-0700
TZOFFSETTO:-0600
TZNAME:MDT
DTSTART:20260308T090000
END:DAYLIGHT
BEGIN:STANDARD
TZOFFSETFROM:-0600
TZOFFSETTO:-0700
TZNAME:MST
DTSTART:20261101T080000
END:STANDARD
END:VTIMEZONE
BEGIN:VEVENT
DTSTART;TZID=America/Denver:20250124T120000
DTEND;TZID=America/Denver:20250124T130000
DTSTAMP:20260425T081825
CREATED:20240608T152048Z
LAST-MODIFIED:20250205T153915Z
UID:10001803-1737720000-1737723600@pikespkblues.org
SUMMARY:Jazz 93.5 Community Blues Hour with BJ Estares
DESCRIPTION:
URL:https://pikespkblues.org/event/jazz-93-5-community-blues-hour-with-bj-estares/2025-01-24/
LOCATION:CO
END:VEVENT
BEGIN:VEVENT
DTSTART;TZID=America/Denver:20250124T183000
DTEND;TZID=America/Denver:20250124T203000
DTSTAMP:20260425T081825
CREATED:20250102T000445Z
LAST-MODIFIED:20250102T000445Z
UID:10004110-1737743400-1737750600@pikespkblues.org
SUMMARY:Hoodoo Honey
DESCRIPTION:Hoodoo Honey @ Falcon’s Edge Bar and Grill\, Peyton on January 24th 6:30 pm
URL:https://pikespkblues.org/event/hoodoo-honey-8/
LOCATION:Falcon’s Edge Bar and Grill\, 7656 Mclaughlin Rd #150\, Peyton\, CO\, 80831
CATEGORIES:Concerts
END:VEVENT
BEGIN:VEVENT
DTSTART;TZID=America/Denver:20250125T183000
DTEND;TZID=America/Denver:20250125T210000
DTSTAMP:20260425T081825
CREATED:20250108T051329Z
LAST-MODIFIED:20250108T051329Z
UID:10004112-1737829800-1737838800@pikespkblues.org
SUMMARY:Dizzy Charlie's Pop-Up Jazz and PPBC Special Jazz and Blues Night at Summa featuring The Heavy Devils and Hoodoo Honey
DESCRIPTION:Screenshot\nThe Heavy Devils and Hoodoo Honey @ Summa Taphouse\, Colorado Springs on Saturday\, 1/25 6:30 pm
URL:https://pikespkblues.org/event/dizzy-charlies-pop-up-jazz-and-ppbc-special-jazz-and-blues-night-at-summa-featuring-the-heavy-devils-and-hoodoo-honey/
LOCATION:Summa\, 817 W. Colorado Ave\, Colorado Springs\, CO\, 80905\, United States
CATEGORIES:Concerts
END:VEVENT
BEGIN:VEVENT
DTSTART;TZID=America/Denver:20250125T200000
DTEND;TZID=America/Denver:20250125T223000
DTSTAMP:20260425T081825
CREATED:20250109T165653Z
LAST-MODIFIED:20250109T165653Z
UID:10004116-1737835200-1737844200@pikespkblues.org
SUMMARY:The Delta Sonics
DESCRIPTION:The Delta Sonics with Al Chesis @ Dubbs Pub\, Littleton on January 25th 8:00 pm
URL:https://pikespkblues.org/event/the-delta-sonics-3/
LOCATION:Dubbs Pub\, 5301 S Broadway\, Littleton\, CO\, 80121\, United States
CATEGORIES:Concerts
END:VEVENT
BEGIN:VEVENT
DTSTART;TZID=America/Denver:20250126T173000
DTEND;TZID=America/Denver:20250126T200000
DTSTAMP:20260425T081825
CREATED:20241230T170652Z
LAST-MODIFIED:20241230T170652Z
UID:10004098-1737912600-1737921600@pikespkblues.org
SUMMARY:Chris Duarte with Michael Morrow & The Culprits
DESCRIPTION:Chris Duarte with Michael Morrow & The Culprits @ Buffalo Rose\, Golden January 26th 5:30 pm
URL:https://pikespkblues.org/event/chris-duarte-with-michael-morrow-the-culprits/
LOCATION:Buffalo Rose\, 1119 Washington Ave\, Golden\, CO\, 80401
CATEGORIES:Concerts
END:VEVENT
BEGIN:VEVENT
DTSTART;TZID=America/Denver:20250127T120000
DTEND;TZID=America/Denver:20250127T130000
DTSTAMP:20260425T081825
CREATED:20240608T152048Z
LAST-MODIFIED:20250205T153915Z
UID:10001804-1737979200-1737982800@pikespkblues.org
SUMMARY:Jazz 93.5 Community Blues Hour with BJ Estares
DESCRIPTION:
URL:https://pikespkblues.org/event/jazz-93-5-community-blues-hour-with-bj-estares/2025-01-27/
LOCATION:CO
END:VEVENT
BEGIN:VEVENT
DTSTART;TZID=America/Denver:20250128T120000
DTEND;TZID=America/Denver:20250128T130000
DTSTAMP:20260425T081825
CREATED:20240608T152048Z
LAST-MODIFIED:20250205T153915Z
UID:10001805-1738065600-1738069200@pikespkblues.org
SUMMARY:Jazz 93.5 Community Blues Hour with BJ Estares
DESCRIPTION:
URL:https://pikespkblues.org/event/jazz-93-5-community-blues-hour-with-bj-estares/2025-01-28/
LOCATION:CO
END:VEVENT
BEGIN:VEVENT
DTSTART;TZID=America/Denver:20250129T120000
DTEND;TZID=America/Denver:20250129T130000
DTSTAMP:20260425T081825
CREATED:20240608T152048Z
LAST-MODIFIED:20250205T153915Z
UID:10001806-1738152000-1738155600@pikespkblues.org
SUMMARY:Jazz 93.5 Community Blues Hour with BJ Estares
DESCRIPTION:
URL:https://pikespkblues.org/event/jazz-93-5-community-blues-hour-with-bj-estares/2025-01-29/
LOCATION:CO
END:VEVENT
BEGIN:VEVENT
DTSTART;TZID=America/Denver:20250130T120000
DTEND;TZID=America/Denver:20250130T130000
DTSTAMP:20260425T081825
CREATED:20240608T152048Z
LAST-MODIFIED:20250205T153915Z
UID:10001807-1738238400-1738242000@pikespkblues.org
SUMMARY:Jazz 93.5 Community Blues Hour with BJ Estares
DESCRIPTION:
URL:https://pikespkblues.org/event/jazz-93-5-community-blues-hour-with-bj-estares/2025-01-30/
LOCATION:CO
END:VEVENT
BEGIN:VEVENT
DTSTART;TZID=America/Denver:20250130T200000
DTEND;TZID=America/Denver:20250130T223000
DTSTAMP:20260425T081825
CREATED:20250109T170158Z
LAST-MODIFIED:20250109T170158Z
UID:10004117-1738267200-1738276200@pikespkblues.org
SUMMARY:The Delta Sonics
DESCRIPTION:The Delta Sonics with Al Chesis @ Two Moons Music Hall\, Denver on January 30th 8:00 pm
URL:https://pikespkblues.org/event/the-delta-sonics-4/
LOCATION:Two Moons Music Hall\, 2944 Larimer St\, Denver\, CO\, 80205\, United States
CATEGORIES:Concerts
END:VEVENT
BEGIN:VEVENT
DTSTART;TZID=America/Denver:20250131T120000
DTEND;TZID=America/Denver:20250131T130000
DTSTAMP:20260425T081825
CREATED:20240608T152048Z
LAST-MODIFIED:20250205T153915Z
UID:10001808-1738324800-1738328400@pikespkblues.org
SUMMARY:Jazz 93.5 Community Blues Hour with BJ Estares
DESCRIPTION:
URL:https://pikespkblues.org/event/jazz-93-5-community-blues-hour-with-bj-estares/2025-01-31/
LOCATION:CO
END:VEVENT
BEGIN:VEVENT
DTSTART;TZID=America/Denver:20250131T190000
DTEND;TZID=America/Denver:20250131T220000
DTSTAMP:20260425T081825
CREATED:20250112T205052Z
LAST-MODIFIED:20250112T205052Z
UID:10004119-1738350000-1738360800@pikespkblues.org
SUMMARY:Double Your Trouble - The Quintessential Stevie Ray Vaughan Tribute
DESCRIPTION:Double Your Trouble – The Quintessential Stevie Ray Vaughan Tribute @ Stargazers Theatre on Friday January 31st 7:00 pm
URL:https://pikespkblues.org/event/double-your-trouble-the-quintessential-stevie-ray-vaughan-tribute/
LOCATION:Stargazers Theatre\, 10 S Parkside Dr\, Colorado Springs\, CO\, 80910\, United States
CATEGORIES:Concerts
END:VEVENT
BEGIN:VEVENT
DTSTART;TZID=America/Denver:20250131T190000
DTEND;TZID=America/Denver:20250131T235500
DTSTAMP:20260425T081825
CREATED:20241230T171945Z
LAST-MODIFIED:20241230T171945Z
UID:10004099-1738350000-1738367700@pikespkblues.org
SUMMARY:Greg Koch featuring The Koch Marshall Trio
DESCRIPTION:Greg Koch featuring The Koch Marshall Trio @ The Basement at Oskar Blues Colorado Springs January 31st 7:00 pm
URL:https://pikespkblues.org/event/greg-koch-featuring-the-koch-marshall-trio/
LOCATION:The Basement at Oskar Blues Colorado Springs\, 118 N Tejon St\, Colorado Springs\, CO\, 80904\, United States
CATEGORIES:Concerts
END:VEVENT
BEGIN:VEVENT
DTSTART;TZID=America/Denver:20250201T190000
DTEND;TZID=America/Denver:20250201T220000
DTSTAMP:20260425T081825
CREATED:20250109T170532Z
LAST-MODIFIED:20250109T170532Z
UID:10004118-1738436400-1738447200@pikespkblues.org
SUMMARY:The Delta Sonics
DESCRIPTION:The Delta Sonics with Al Chesis @ The Studio on Main Street\, Parker on February 1st 7:00 pm
URL:https://pikespkblues.org/event/the-delta-sonics-5/
LOCATION:The Studio at Mainstreet\, 19604 E Mainstreet\, Parker\, CO\, 80138\, United States
CATEGORIES:Concerts
END:VEVENT
BEGIN:VEVENT
DTSTART;TZID=America/Denver:20250203T120000
DTEND;TZID=America/Denver:20250203T130000
DTSTAMP:20260425T081825
CREATED:20240608T152048Z
LAST-MODIFIED:20250205T153915Z
UID:10001809-1738584000-1738587600@pikespkblues.org
SUMMARY:Jazz 93.5 Community Blues Hour with BJ Estares
DESCRIPTION:
URL:https://pikespkblues.org/event/jazz-93-5-community-blues-hour-with-bj-estares/2025-02-03/
LOCATION:CO
END:VEVENT
BEGIN:VEVENT
DTSTART;TZID=America/Denver:20250204T120000
DTEND;TZID=America/Denver:20250204T130000
DTSTAMP:20260425T081825
CREATED:20240608T152048Z
LAST-MODIFIED:20250205T153915Z
UID:10001810-1738670400-1738674000@pikespkblues.org
SUMMARY:Jazz 93.5 Community Blues Hour with BJ Estares
DESCRIPTION:
URL:https://pikespkblues.org/event/jazz-93-5-community-blues-hour-with-bj-estares/2025-02-04/
LOCATION:CO
END:VEVENT
BEGIN:VEVENT
DTSTART;TZID=America/Denver:20250205T120000
DTEND;TZID=America/Denver:20250205T130000
DTSTAMP:20260425T081825
CREATED:20240608T152048Z
LAST-MODIFIED:20250205T153915Z
UID:10001811-1738756800-1738760400@pikespkblues.org
SUMMARY:Jazz 93.5 Community Blues Hour with BJ Estares
DESCRIPTION:
URL:https://pikespkblues.org/event/jazz-93-5-community-blues-hour-with-bj-estares/2025-02-05/
LOCATION:CO
END:VEVENT
BEGIN:VEVENT
DTSTART;TZID=America/Denver:20250206T120000
DTEND;TZID=America/Denver:20250206T130000
DTSTAMP:20260425T081825
CREATED:20240608T152048Z
LAST-MODIFIED:20250205T153915Z
UID:10001812-1738843200-1738846800@pikespkblues.org
SUMMARY:Jazz 93.5 Community Blues Hour with BJ Estares
DESCRIPTION:
URL:https://pikespkblues.org/event/jazz-93-5-community-blues-hour-with-bj-estares/2025-02-06/
LOCATION:CO
END:VEVENT
BEGIN:VEVENT
DTSTART;TZID=America/Denver:20250206T170000
DTEND;TZID=America/Denver:20250206T200000
DTSTAMP:20260425T081825
CREATED:20250205T153510Z
LAST-MODIFIED:20250205T154319Z
UID:10004126-1738861200-1738872000@pikespkblues.org
SUMMARY:John Wise/Tribe
DESCRIPTION:John Wise/Tribe @ Rico’s Café & Wine Bar on Thursday\, February 6th at 5:00 pm
URL:https://pikespkblues.org/event/john-wise-tribe-5/
LOCATION:Rico’s Cafe and Wine Bar\, 322 1/2\, N Tejon St\, Colorado Springs\, CO\, 80903\, United States
CATEGORIES:Concerts
END:VEVENT
BEGIN:VEVENT
DTSTART;TZID=America/Denver:20250207T120000
DTEND;TZID=America/Denver:20250207T130000
DTSTAMP:20260425T081825
CREATED:20240608T152048Z
LAST-MODIFIED:20250205T153915Z
UID:10001813-1738929600-1738933200@pikespkblues.org
SUMMARY:Jazz 93.5 Community Blues Hour with BJ Estares
DESCRIPTION:
URL:https://pikespkblues.org/event/jazz-93-5-community-blues-hour-with-bj-estares/2025-02-07/
LOCATION:CO
END:VEVENT
BEGIN:VEVENT
DTSTART;TZID=America/Denver:20250207T180000
DTEND;TZID=America/Denver:20250207T210000
DTSTAMP:20260425T081825
CREATED:20250205T153810Z
LAST-MODIFIED:20250205T154520Z
UID:10004127-1738951200-1738962000@pikespkblues.org
SUMMARY:The Cleveland Experiment
DESCRIPTION:The Cleveland Experiment @ Rico’s Café & Wine Bar on Friday\, February 7th at 6:00 pm
URL:https://pikespkblues.org/event/the-cleveland-experiment-8/
LOCATION:Rico’s Cafe and Wine Bar\, 322 1/2\, N Tejon St\, Colorado Springs\, CO\, 80903\, United States
CATEGORIES:Concerts
END:VEVENT
BEGIN:VEVENT
DTSTART;TZID=America/Denver:20250210T120000
DTEND;TZID=America/Denver:20250210T130000
DTSTAMP:20260425T081825
CREATED:20240608T152048Z
LAST-MODIFIED:20250205T153915Z
UID:10001814-1739188800-1739192400@pikespkblues.org
SUMMARY:Jazz 93.5 Community Blues Hour with BJ Estares
DESCRIPTION:
URL:https://pikespkblues.org/event/jazz-93-5-community-blues-hour-with-bj-estares/2025-02-10/
LOCATION:CO
END:VEVENT
BEGIN:VEVENT
DTSTART;TZID=America/Denver:20250211T120000
DTEND;TZID=America/Denver:20250211T130000
DTSTAMP:20260425T081825
CREATED:20240608T152048Z
LAST-MODIFIED:20250205T153915Z
UID:10001815-1739275200-1739278800@pikespkblues.org
SUMMARY:Jazz 93.5 Community Blues Hour with BJ Estares
DESCRIPTION:
URL:https://pikespkblues.org/event/jazz-93-5-community-blues-hour-with-bj-estares/2025-02-11/
LOCATION:CO
END:VEVENT
BEGIN:VEVENT
DTSTART;TZID=America/Denver:20250212T120000
DTEND;TZID=America/Denver:20250212T130000
DTSTAMP:20260425T081825
CREATED:20240608T152048Z
LAST-MODIFIED:20250205T153915Z
UID:10001816-1739361600-1739365200@pikespkblues.org
SUMMARY:Jazz 93.5 Community Blues Hour with BJ Estares
DESCRIPTION:
URL:https://pikespkblues.org/event/jazz-93-5-community-blues-hour-with-bj-estares/2025-02-12/
LOCATION:CO
END:VEVENT
BEGIN:VEVENT
DTSTART;TZID=America/Denver:20250213T120000
DTEND;TZID=America/Denver:20250213T130000
DTSTAMP:20260425T081825
CREATED:20240608T152048Z
LAST-MODIFIED:20250205T153915Z
UID:10001817-1739448000-1739451600@pikespkblues.org
SUMMARY:Jazz 93.5 Community Blues Hour with BJ Estares
DESCRIPTION:
URL:https://pikespkblues.org/event/jazz-93-5-community-blues-hour-with-bj-estares/2025-02-13/
LOCATION:CO
END:VEVENT
BEGIN:VEVENT
DTSTART;TZID=America/Denver:20250214T120000
DTEND;TZID=America/Denver:20250214T130000
DTSTAMP:20260425T081825
CREATED:20240608T152048Z
LAST-MODIFIED:20250205T153915Z
UID:10001818-1739534400-1739538000@pikespkblues.org
SUMMARY:Jazz 93.5 Community Blues Hour with BJ Estares
DESCRIPTION:
URL:https://pikespkblues.org/event/jazz-93-5-community-blues-hour-with-bj-estares/2025-02-14/
LOCATION:CO
END:VEVENT
BEGIN:VEVENT
DTSTART;TZID=America/Denver:20250214T170000
DTEND;TZID=America/Denver:20250214T200000
DTSTAMP:20260425T081826
CREATED:20250206T173030Z
LAST-MODIFIED:20250206T173030Z
UID:10004296-1739552400-1739563200@pikespkblues.org
SUMMARY:Hoodoo Honey
DESCRIPTION:Hoodoo Honey @ The Townhouse Sports Grill\, Manitou Springs on Friday\, February 14th at 5:00 pm
URL:https://pikespkblues.org/event/hoodoo-honey-10/
LOCATION:The Townhouse Sports Grill\, 907 Manitou Ave\, Manitou Springs\, CO\, 80829
CATEGORIES:Concerts
END:VEVENT
BEGIN:VEVENT
DTSTART;TZID=America/Denver:20250214T200000
DTEND;TZID=America/Denver:20250214T223000
DTSTAMP:20260425T081826
CREATED:20250116T002520Z
LAST-MODIFIED:20250116T003311Z
UID:10004122-1739563200-1739572200@pikespkblues.org
SUMMARY:Tinsley Ellis - "Naked Truth" Tour
DESCRIPTION:Tinsley Ellis – “Naked Truth Tour” @ Velvet Elk Lounge\, Boulder on Friday February 14th 8:00 pm
URL:https://pikespkblues.org/event/tinsley-ellis-naked-truth-tour/
LOCATION:Velvet Elk Lounge\, 2037 13th St\, Boulder\, CO\, 80392\, United States
CATEGORIES:Concerts
END:VEVENT
BEGIN:VEVENT
DTSTART;TZID=America/Denver:20250215T200000
DTEND;TZID=America/Denver:20250215T223000
DTSTAMP:20260425T081826
CREATED:20250215T044651Z
LAST-MODIFIED:20250215T044651Z
UID:10004298-1739649600-1739658600@pikespkblues.org
SUMMARY:Jeremie Albino with Bryce Taylor and Benjamin Dakota Rogers
DESCRIPTION:Jeremie Albino with Bryce Taylor and Benjamin Dakota Rogers @ Lulu’s Downtown on Saturday\, February 15th 8:00 pm
URL:https://pikespkblues.org/event/jeremie-albino-with-bryce-taylor-and-benjamin-dakota-rogers/
LOCATION:Lulu’s Downtown\, 32 S. Tejon St\, Colorado Springs\, CO\, 80903\, United States
CATEGORIES:Concerts
END:VEVENT
BEGIN:VEVENT
DTSTART;TZID=America/Denver:20250216T190000
DTEND;TZID=America/Denver:20250216T213000
DTSTAMP:20260425T081826
CREATED:20250116T003106Z
LAST-MODIFIED:20250211T231720Z
UID:10004123-1739732400-1739741400@pikespkblues.org
SUMMARY:Tinsley Ellis - "Naked Truth" Tour
DESCRIPTION:Tinsley Ellis – “Naked Truth” Tour @ Swallow Hill Music\, Denver on Sunday February 16th 7:00 pm
URL:https://pikespkblues.org/event/tinsley-ellis-naked-truth-tour-2/
LOCATION:Swallow Hill Music\, 71 E Yale Ave\, Denver\, CO\, 80210
CATEGORIES:Concerts
END:VEVENT
END:VCALENDAR