BEGIN:VCALENDAR
VERSION:2.0
PRODID:-//Pikes Peak Blues Community - ECPv6.15.20//NONSGML v1.0//EN
CALSCALE:GREGORIAN
METHOD:PUBLISH
X-WR-CALNAME:Pikes Peak Blues Community
X-ORIGINAL-URL:https://pikespkblues.org
X-WR-CALDESC:Events for Pikes Peak Blues Community
REFRESH-INTERVAL;VALUE=DURATION:PT1H
X-Robots-Tag:noindex
X-PUBLISHED-TTL:PT1H
BEGIN:VTIMEZONE
TZID:America/Denver
BEGIN:DAYLIGHT
TZOFFSETFROM:-0700
TZOFFSETTO:-0600
TZNAME:MDT
DTSTART:20250309T090000
END:DAYLIGHT
BEGIN:STANDARD
TZOFFSETFROM:-0600
TZOFFSETTO:-0700
TZNAME:MST
DTSTART:20251102T080000
END:STANDARD
BEGIN:DAYLIGHT
TZOFFSETFROM:-0700
TZOFFSETTO:-0600
TZNAME:MDT
DTSTART:20260308T090000
END:DAYLIGHT
BEGIN:STANDARD
TZOFFSETFROM:-0600
TZOFFSETTO:-0700
TZNAME:MST
DTSTART:20261101T080000
END:STANDARD
BEGIN:DAYLIGHT
TZOFFSETFROM:-0700
TZOFFSETTO:-0600
TZNAME:MDT
DTSTART:20270314T090000
END:DAYLIGHT
BEGIN:STANDARD
TZOFFSETFROM:-0600
TZOFFSETTO:-0700
TZNAME:MST
DTSTART:20271107T080000
END:STANDARD
END:VTIMEZONE
BEGIN:VEVENT
DTSTART;TZID=America/Denver:20260828T120000
DTEND;TZID=America/Denver:20260828T130000
DTSTAMP:20260423T233309
CREATED:20240608T152048Z
LAST-MODIFIED:20250205T153915Z
UID:10002218-1787918400-1787922000@pikespkblues.org
SUMMARY:Jazz 93.5 Community Blues Hour with BJ Estares
DESCRIPTION:
URL:https://pikespkblues.org/event/jazz-93-5-community-blues-hour-with-bj-estares/2026-08-28/
LOCATION:CO
END:VEVENT
BEGIN:VEVENT
DTSTART;TZID=America/Denver:20260831T120000
DTEND;TZID=America/Denver:20260831T130000
DTSTAMP:20260423T233309
CREATED:20240608T152048Z
LAST-MODIFIED:20250205T153915Z
UID:10002219-1788177600-1788181200@pikespkblues.org
SUMMARY:Jazz 93.5 Community Blues Hour with BJ Estares
DESCRIPTION:
URL:https://pikespkblues.org/event/jazz-93-5-community-blues-hour-with-bj-estares/2026-08-31/
LOCATION:CO
END:VEVENT
BEGIN:VEVENT
DTSTART;TZID=America/Denver:20260901T120000
DTEND;TZID=America/Denver:20260901T130000
DTSTAMP:20260423T233309
CREATED:20240608T152048Z
LAST-MODIFIED:20250205T153915Z
UID:10002220-1788264000-1788267600@pikespkblues.org
SUMMARY:Jazz 93.5 Community Blues Hour with BJ Estares
DESCRIPTION:
URL:https://pikespkblues.org/event/jazz-93-5-community-blues-hour-with-bj-estares/2026-09-01/
LOCATION:CO
END:VEVENT
BEGIN:VEVENT
DTSTART;TZID=America/Denver:20260901T180000
DTEND;TZID=America/Denver:20260901T210000
DTSTAMP:20260423T233309
CREATED:20251004T004608Z
LAST-MODIFIED:20251004T182250Z
UID:10004827-1788285600-1788296400@pikespkblues.org
SUMMARY:Sweet T's Rude Blues Jam on Tuesdays at PEAK 31
DESCRIPTION:Sweet T’s Rude Blues Jam @ PEAK 31\, 2419 N Union Blvd (80909) on Tuesdays\, from 6:00 pm to 9:00 pm.
URL:https://pikespkblues.org/event/sweet-ts-rude-blues-jam-on-tuesdays-at-peak-31/2026-09-01/
LOCATION:PEAK 31\, 2419 N Union Blvd\, Colorado Springs\, CO\, 80909\, United States
CATEGORIES:Jams
END:VEVENT
BEGIN:VEVENT
DTSTART;TZID=America/Denver:20260902T120000
DTEND;TZID=America/Denver:20260902T130000
DTSTAMP:20260423T233309
CREATED:20240608T152048Z
LAST-MODIFIED:20250205T153915Z
UID:10002221-1788350400-1788354000@pikespkblues.org
SUMMARY:Jazz 93.5 Community Blues Hour with BJ Estares
DESCRIPTION:
URL:https://pikespkblues.org/event/jazz-93-5-community-blues-hour-with-bj-estares/2026-09-02/
LOCATION:CO
END:VEVENT
BEGIN:VEVENT
DTSTART;TZID=America/Denver:20260903T120000
DTEND;TZID=America/Denver:20260903T130000
DTSTAMP:20260423T233309
CREATED:20240608T152048Z
LAST-MODIFIED:20250205T153915Z
UID:10002222-1788436800-1788440400@pikespkblues.org
SUMMARY:Jazz 93.5 Community Blues Hour with BJ Estares
DESCRIPTION:
URL:https://pikespkblues.org/event/jazz-93-5-community-blues-hour-with-bj-estares/2026-09-03/
LOCATION:CO
END:VEVENT
BEGIN:VEVENT
DTSTART;TZID=America/Denver:20260903T200000
DTEND;TZID=America/Denver:20260903T230000
DTSTAMP:20260423T233309
CREATED:20260221T045616Z
LAST-MODIFIED:20260221T045617Z
UID:10005704-1788465600-1788476400@pikespkblues.org
SUMMARY:Blues Jam hosted by Randy Stephens & the Groove Makers
DESCRIPTION:Blues Jam hosted by Randy Stephens & the Groove Makers @ Kinfolks\, 950 Manitou Ave\, Manitou Springs on the first Thursday of  the month from 8:00 pm to 11:00 pm. Sign up start at 7:30 pm. Bring your own axe and jam with these award winning musicians. Keys\, drums\, and amps provided. Horn players welcome.
URL:https://pikespkblues.org/event/stormy-monday-blues-jam-hosted-by-randy-stephens-the-groove-makers-2-2/2026-09-03/
LOCATION:Kinsfolks\, 950 Manitou Ave\, Manitou Springs\, CO\, 80829
CATEGORIES:Jams
END:VEVENT
BEGIN:VEVENT
DTSTART;TZID=America/Denver:20260904T120000
DTEND;TZID=America/Denver:20260904T130000
DTSTAMP:20260423T233309
CREATED:20240608T152048Z
LAST-MODIFIED:20250205T153915Z
UID:10002223-1788523200-1788526800@pikespkblues.org
SUMMARY:Jazz 93.5 Community Blues Hour with BJ Estares
DESCRIPTION:
URL:https://pikespkblues.org/event/jazz-93-5-community-blues-hour-with-bj-estares/2026-09-04/
LOCATION:CO
END:VEVENT
BEGIN:VEVENT
DTSTART;TZID=America/Denver:20260907T120000
DTEND;TZID=America/Denver:20260907T130000
DTSTAMP:20260423T233309
CREATED:20240608T152048Z
LAST-MODIFIED:20250205T153915Z
UID:10002224-1788782400-1788786000@pikespkblues.org
SUMMARY:Jazz 93.5 Community Blues Hour with BJ Estares
DESCRIPTION:
URL:https://pikespkblues.org/event/jazz-93-5-community-blues-hour-with-bj-estares/2026-09-07/
LOCATION:CO
END:VEVENT
BEGIN:VEVENT
DTSTART;TZID=America/Denver:20260908T120000
DTEND;TZID=America/Denver:20260908T130000
DTSTAMP:20260423T233309
CREATED:20240608T152048Z
LAST-MODIFIED:20250205T153915Z
UID:10002225-1788868800-1788872400@pikespkblues.org
SUMMARY:Jazz 93.5 Community Blues Hour with BJ Estares
DESCRIPTION:
URL:https://pikespkblues.org/event/jazz-93-5-community-blues-hour-with-bj-estares/2026-09-08/
LOCATION:CO
END:VEVENT
BEGIN:VEVENT
DTSTART;TZID=America/Denver:20260908T180000
DTEND;TZID=America/Denver:20260908T210000
DTSTAMP:20260423T233309
CREATED:20251004T004608Z
LAST-MODIFIED:20251004T182250Z
UID:10004828-1788890400-1788901200@pikespkblues.org
SUMMARY:Sweet T's Rude Blues Jam on Tuesdays at PEAK 31
DESCRIPTION:Sweet T’s Rude Blues Jam @ PEAK 31\, 2419 N Union Blvd (80909) on Tuesdays\, from 6:00 pm to 9:00 pm.
URL:https://pikespkblues.org/event/sweet-ts-rude-blues-jam-on-tuesdays-at-peak-31/2026-09-08/
LOCATION:PEAK 31\, 2419 N Union Blvd\, Colorado Springs\, CO\, 80909\, United States
CATEGORIES:Jams
END:VEVENT
BEGIN:VEVENT
DTSTART;TZID=America/Denver:20260909T120000
DTEND;TZID=America/Denver:20260909T130000
DTSTAMP:20260423T233309
CREATED:20240608T152048Z
LAST-MODIFIED:20250205T153915Z
UID:10002226-1788955200-1788958800@pikespkblues.org
SUMMARY:Jazz 93.5 Community Blues Hour with BJ Estares
DESCRIPTION:
URL:https://pikespkblues.org/event/jazz-93-5-community-blues-hour-with-bj-estares/2026-09-09/
LOCATION:CO
END:VEVENT
BEGIN:VEVENT
DTSTART;TZID=America/Denver:20260910T120000
DTEND;TZID=America/Denver:20260910T130000
DTSTAMP:20260423T233309
CREATED:20240608T152048Z
LAST-MODIFIED:20250205T153915Z
UID:10002227-1789041600-1789045200@pikespkblues.org
SUMMARY:Jazz 93.5 Community Blues Hour with BJ Estares
DESCRIPTION:
URL:https://pikespkblues.org/event/jazz-93-5-community-blues-hour-with-bj-estares/2026-09-10/
LOCATION:CO
END:VEVENT
BEGIN:VEVENT
DTSTART;TZID=America/Denver:20260911T120000
DTEND;TZID=America/Denver:20260911T130000
DTSTAMP:20260423T233309
CREATED:20240608T152048Z
LAST-MODIFIED:20250205T153915Z
UID:10002228-1789128000-1789131600@pikespkblues.org
SUMMARY:Jazz 93.5 Community Blues Hour with BJ Estares
DESCRIPTION:
URL:https://pikespkblues.org/event/jazz-93-5-community-blues-hour-with-bj-estares/2026-09-11/
LOCATION:CO
END:VEVENT
BEGIN:VEVENT
DTSTART;TZID=America/Denver:20260914T120000
DTEND;TZID=America/Denver:20260914T130000
DTSTAMP:20260423T233309
CREATED:20240608T152048Z
LAST-MODIFIED:20250205T153915Z
UID:10002229-1789387200-1789390800@pikespkblues.org
SUMMARY:Jazz 93.5 Community Blues Hour with BJ Estares
DESCRIPTION:
URL:https://pikespkblues.org/event/jazz-93-5-community-blues-hour-with-bj-estares/2026-09-14/
LOCATION:CO
END:VEVENT
BEGIN:VEVENT
DTSTART;TZID=America/Denver:20260915T120000
DTEND;TZID=America/Denver:20260915T130000
DTSTAMP:20260423T233309
CREATED:20240608T152048Z
LAST-MODIFIED:20250205T153915Z
UID:10002230-1789473600-1789477200@pikespkblues.org
SUMMARY:Jazz 93.5 Community Blues Hour with BJ Estares
DESCRIPTION:
URL:https://pikespkblues.org/event/jazz-93-5-community-blues-hour-with-bj-estares/2026-09-15/
LOCATION:CO
END:VEVENT
BEGIN:VEVENT
DTSTART;TZID=America/Denver:20260915T180000
DTEND;TZID=America/Denver:20260915T210000
DTSTAMP:20260423T233309
CREATED:20251004T004608Z
LAST-MODIFIED:20251004T182250Z
UID:10004829-1789495200-1789506000@pikespkblues.org
SUMMARY:Sweet T's Rude Blues Jam on Tuesdays at PEAK 31
DESCRIPTION:Sweet T’s Rude Blues Jam @ PEAK 31\, 2419 N Union Blvd (80909) on Tuesdays\, from 6:00 pm to 9:00 pm.
URL:https://pikespkblues.org/event/sweet-ts-rude-blues-jam-on-tuesdays-at-peak-31/2026-09-15/
LOCATION:PEAK 31\, 2419 N Union Blvd\, Colorado Springs\, CO\, 80909\, United States
CATEGORIES:Jams
END:VEVENT
BEGIN:VEVENT
DTSTART;TZID=America/Denver:20260916T120000
DTEND;TZID=America/Denver:20260916T130000
DTSTAMP:20260423T233309
CREATED:20240608T152048Z
LAST-MODIFIED:20250205T153915Z
UID:10002231-1789560000-1789563600@pikespkblues.org
SUMMARY:Jazz 93.5 Community Blues Hour with BJ Estares
DESCRIPTION:
URL:https://pikespkblues.org/event/jazz-93-5-community-blues-hour-with-bj-estares/2026-09-16/
LOCATION:CO
END:VEVENT
BEGIN:VEVENT
DTSTART;TZID=America/Denver:20260917T120000
DTEND;TZID=America/Denver:20260917T130000
DTSTAMP:20260423T233309
CREATED:20240608T152048Z
LAST-MODIFIED:20250205T153915Z
UID:10002232-1789646400-1789650000@pikespkblues.org
SUMMARY:Jazz 93.5 Community Blues Hour with BJ Estares
DESCRIPTION:
URL:https://pikespkblues.org/event/jazz-93-5-community-blues-hour-with-bj-estares/2026-09-17/
LOCATION:CO
END:VEVENT
BEGIN:VEVENT
DTSTART;TZID=America/Denver:20260918T120000
DTEND;TZID=America/Denver:20260918T130000
DTSTAMP:20260423T233309
CREATED:20240608T152048Z
LAST-MODIFIED:20250205T153915Z
UID:10002233-1789732800-1789736400@pikespkblues.org
SUMMARY:Jazz 93.5 Community Blues Hour with BJ Estares
DESCRIPTION:
URL:https://pikespkblues.org/event/jazz-93-5-community-blues-hour-with-bj-estares/2026-09-18/
LOCATION:CO
END:VEVENT
BEGIN:VEVENT
DTSTART;TZID=America/Denver:20260921T120000
DTEND;TZID=America/Denver:20260921T130000
DTSTAMP:20260423T233309
CREATED:20240608T152048Z
LAST-MODIFIED:20250205T153915Z
UID:10002234-1789992000-1789995600@pikespkblues.org
SUMMARY:Jazz 93.5 Community Blues Hour with BJ Estares
DESCRIPTION:
URL:https://pikespkblues.org/event/jazz-93-5-community-blues-hour-with-bj-estares/2026-09-21/
LOCATION:CO
END:VEVENT
BEGIN:VEVENT
DTSTART;TZID=America/Denver:20260922T120000
DTEND;TZID=America/Denver:20260922T130000
DTSTAMP:20260423T233309
CREATED:20240608T152048Z
LAST-MODIFIED:20250205T153915Z
UID:10002235-1790078400-1790082000@pikespkblues.org
SUMMARY:Jazz 93.5 Community Blues Hour with BJ Estares
DESCRIPTION:
URL:https://pikespkblues.org/event/jazz-93-5-community-blues-hour-with-bj-estares/2026-09-22/
LOCATION:CO
END:VEVENT
BEGIN:VEVENT
DTSTART;TZID=America/Denver:20260922T180000
DTEND;TZID=America/Denver:20260922T210000
DTSTAMP:20260423T233309
CREATED:20251004T004608Z
LAST-MODIFIED:20251004T182250Z
UID:10004830-1790100000-1790110800@pikespkblues.org
SUMMARY:Sweet T's Rude Blues Jam on Tuesdays at PEAK 31
DESCRIPTION:Sweet T’s Rude Blues Jam @ PEAK 31\, 2419 N Union Blvd (80909) on Tuesdays\, from 6:00 pm to 9:00 pm.
URL:https://pikespkblues.org/event/sweet-ts-rude-blues-jam-on-tuesdays-at-peak-31/2026-09-22/
LOCATION:PEAK 31\, 2419 N Union Blvd\, Colorado Springs\, CO\, 80909\, United States
CATEGORIES:Jams
END:VEVENT
BEGIN:VEVENT
DTSTART;TZID=America/Denver:20260923T120000
DTEND;TZID=America/Denver:20260923T130000
DTSTAMP:20260423T233309
CREATED:20240608T152048Z
LAST-MODIFIED:20250205T153915Z
UID:10002236-1790164800-1790168400@pikespkblues.org
SUMMARY:Jazz 93.5 Community Blues Hour with BJ Estares
DESCRIPTION:
URL:https://pikespkblues.org/event/jazz-93-5-community-blues-hour-with-bj-estares/2026-09-23/
LOCATION:CO
END:VEVENT
BEGIN:VEVENT
DTSTART;TZID=America/Denver:20260924T120000
DTEND;TZID=America/Denver:20260924T130000
DTSTAMP:20260423T233309
CREATED:20240608T152048Z
LAST-MODIFIED:20250205T153915Z
UID:10002237-1790251200-1790254800@pikespkblues.org
SUMMARY:Jazz 93.5 Community Blues Hour with BJ Estares
DESCRIPTION:
URL:https://pikespkblues.org/event/jazz-93-5-community-blues-hour-with-bj-estares/2026-09-24/
LOCATION:CO
END:VEVENT
BEGIN:VEVENT
DTSTART;TZID=America/Denver:20260925T120000
DTEND;TZID=America/Denver:20260925T130000
DTSTAMP:20260423T233309
CREATED:20240608T152048Z
LAST-MODIFIED:20250205T153915Z
UID:10002238-1790337600-1790341200@pikespkblues.org
SUMMARY:Jazz 93.5 Community Blues Hour with BJ Estares
DESCRIPTION:
URL:https://pikespkblues.org/event/jazz-93-5-community-blues-hour-with-bj-estares/2026-09-25/
LOCATION:CO
END:VEVENT
BEGIN:VEVENT
DTSTART;TZID=America/Denver:20260928T120000
DTEND;TZID=America/Denver:20260928T130000
DTSTAMP:20260423T233309
CREATED:20240608T152048Z
LAST-MODIFIED:20250205T153915Z
UID:10002239-1790596800-1790600400@pikespkblues.org
SUMMARY:Jazz 93.5 Community Blues Hour with BJ Estares
DESCRIPTION:
URL:https://pikespkblues.org/event/jazz-93-5-community-blues-hour-with-bj-estares/2026-09-28/
LOCATION:CO
END:VEVENT
BEGIN:VEVENT
DTSTART;TZID=America/Denver:20260929T120000
DTEND;TZID=America/Denver:20260929T130000
DTSTAMP:20260423T233309
CREATED:20240608T152048Z
LAST-MODIFIED:20250205T153915Z
UID:10002240-1790683200-1790686800@pikespkblues.org
SUMMARY:Jazz 93.5 Community Blues Hour with BJ Estares
DESCRIPTION:
URL:https://pikespkblues.org/event/jazz-93-5-community-blues-hour-with-bj-estares/2026-09-29/
LOCATION:CO
END:VEVENT
BEGIN:VEVENT
DTSTART;TZID=America/Denver:20260929T180000
DTEND;TZID=America/Denver:20260929T210000
DTSTAMP:20260423T233309
CREATED:20251004T004608Z
LAST-MODIFIED:20251004T182250Z
UID:10004831-1790704800-1790715600@pikespkblues.org
SUMMARY:Sweet T's Rude Blues Jam on Tuesdays at PEAK 31
DESCRIPTION:Sweet T’s Rude Blues Jam @ PEAK 31\, 2419 N Union Blvd (80909) on Tuesdays\, from 6:00 pm to 9:00 pm.
URL:https://pikespkblues.org/event/sweet-ts-rude-blues-jam-on-tuesdays-at-peak-31/2026-09-29/
LOCATION:PEAK 31\, 2419 N Union Blvd\, Colorado Springs\, CO\, 80909\, United States
CATEGORIES:Jams
END:VEVENT
BEGIN:VEVENT
DTSTART;TZID=America/Denver:20260930T120000
DTEND;TZID=America/Denver:20260930T130000
DTSTAMP:20260423T233309
CREATED:20240608T152048Z
LAST-MODIFIED:20250205T153915Z
UID:10002241-1790769600-1790773200@pikespkblues.org
SUMMARY:Jazz 93.5 Community Blues Hour with BJ Estares
DESCRIPTION:
URL:https://pikespkblues.org/event/jazz-93-5-community-blues-hour-with-bj-estares/2026-09-30/
LOCATION:CO
END:VEVENT
END:VCALENDAR