BEGIN:VCALENDAR
VERSION:2.0
PRODID:-//Pikes Peak Blues Community - ECPv6.15.20//NONSGML v1.0//EN
CALSCALE:GREGORIAN
METHOD:PUBLISH
X-WR-CALNAME:Pikes Peak Blues Community
X-ORIGINAL-URL:https://pikespkblues.org
X-WR-CALDESC:Events for Pikes Peak Blues Community
REFRESH-INTERVAL;VALUE=DURATION:PT1H
X-Robots-Tag:noindex
X-PUBLISHED-TTL:PT1H
BEGIN:VTIMEZONE
TZID:America/Denver
BEGIN:DAYLIGHT
TZOFFSETFROM:-0700
TZOFFSETTO:-0600
TZNAME:MDT
DTSTART:20230312T090000
END:DAYLIGHT
BEGIN:STANDARD
TZOFFSETFROM:-0600
TZOFFSETTO:-0700
TZNAME:MST
DTSTART:20231105T080000
END:STANDARD
BEGIN:DAYLIGHT
TZOFFSETFROM:-0700
TZOFFSETTO:-0600
TZNAME:MDT
DTSTART:20240310T090000
END:DAYLIGHT
BEGIN:STANDARD
TZOFFSETFROM:-0600
TZOFFSETTO:-0700
TZNAME:MST
DTSTART:20241103T080000
END:STANDARD
BEGIN:DAYLIGHT
TZOFFSETFROM:-0700
TZOFFSETTO:-0600
TZNAME:MDT
DTSTART:20250309T090000
END:DAYLIGHT
BEGIN:STANDARD
TZOFFSETFROM:-0600
TZOFFSETTO:-0700
TZNAME:MST
DTSTART:20251102T080000
END:STANDARD
END:VTIMEZONE
BEGIN:VEVENT
DTSTART;TZID=America/Denver:20240428T143000
DTEND;TZID=America/Denver:20240428T163000
DTSTAMP:20260423T164300
CREATED:20240427T163706Z
LAST-MODIFIED:20240427T170533Z
UID:10000038-1714314600-1714321800@pikespkblues.org
SUMMARY:The Sunday Blues Jam
DESCRIPTION:The Sunday Blues Jam featuring Austin Johnson\, Ted Johnson\, Noah Mast and Matt Campbell. Every Sunday from 2:30 to 4:30.
URL:https://pikespkblues.org/event/the-sunday-blues-jam/
LOCATION:CO
CATEGORIES:Jams
END:VEVENT
BEGIN:VEVENT
DTSTART;TZID=America/Denver:20240501T183000
DTEND;TZID=America/Denver:20240501T213000
DTSTAMP:20260423T164300
CREATED:20240426T140302Z
LAST-MODIFIED:20240429T173243Z
UID:10000006-1714588200-1714599000@pikespkblues.org
SUMMARY:Hoodoo Honey
DESCRIPTION:
URL:https://pikespkblues.org/event/hoodoo-honey/
LOCATION:Front Range BBQ\, 2330 W Colorado Ave\, Colorado Springs\, CO\, 80904\, United States
CATEGORIES:Concerts
ATTACH;FMTTYPE=image/jpeg:https://pikespkblues.org/wp-content/uploads/2024/04/Hoodoo-Honey-photo.jpg
ORGANIZER;CN="Teri Senor":MAILTO:tsenor@pikespkblues.org
END:VEVENT
BEGIN:VEVENT
DTSTART;TZID=America/Denver:20240501T190000
DTEND;TZID=America/Denver:20240501T220000
DTSTAMP:20260423T164300
CREATED:20240429T173343Z
LAST-MODIFIED:20240430T200030Z
UID:10000048-1714590000-1714600800@pikespkblues.org
SUMMARY:Tasty Blues Jam
DESCRIPTION:
URL:https://pikespkblues.org/event/tasty-blues-jam/
LOCATION:Buzzed Crow Bistro\, 5853 Palmer Park Blvd\, Colorado Springs\, CO\, United States
CATEGORIES:Jams
END:VEVENT
BEGIN:VEVENT
DTSTART;TZID=America/Denver:20240503T180000
DTEND;TZID=America/Denver:20240503T210000
DTSTAMP:20260423T164300
CREATED:20240429T173520Z
LAST-MODIFIED:20240430T182324Z
UID:10000056-1714759200-1714770000@pikespkblues.org
SUMMARY:Plan C at PizzAmore
DESCRIPTION:
URL:https://pikespkblues.org/event/plan-c-at-pizzamore/
LOCATION:PizzAmoré\, 236 E Cheyenne Mountain Blvd\, Colorado Springs\, 80906\, United States
CATEGORIES:Concerts
ORGANIZER;CN="Randy Mummert":MAILTO:rmummert@pikespkblues.org
END:VEVENT
BEGIN:VEVENT
DTSTART;TZID=America/Denver:20240503T190000
DTEND;TZID=America/Denver:20240503T210000
DTSTAMP:20260423T164300
CREATED:20240426T140301Z
LAST-MODIFIED:20240430T182206Z
UID:10000005-1714762800-1714770000@pikespkblues.org
SUMMARY:Coco Montoya at Stargazers
DESCRIPTION:
URL:https://pikespkblues.org/event/coco-montoya-at-stargazers/
LOCATION:Stargazers Theatre\, 10 S Parkside Dr\, Colorado Springs\, CO\, 80910\, United States
CATEGORIES:Concerts
ATTACH;FMTTYPE=image/jpeg:https://pikespkblues.org/wp-content/uploads/2024/04/Coco-Montoya-photo.jpg
END:VEVENT
BEGIN:VEVENT
DTSTART;TZID=America/Denver:20240504T113000
DTEND;TZID=America/Denver:20240504T133000
DTSTAMP:20260423T164300
CREATED:20240427T205936Z
LAST-MODIFIED:20240428T225415Z
UID:10000039-1714822200-1714829400@pikespkblues.org
SUMMARY:Hoodoo Honey at the Canon City Blossom Festival
DESCRIPTION:
URL:https://pikespkblues.org/event/hoodoo-honey-at-the-canon-city-blossom-festival/
LOCATION:CO
ATTACH;FMTTYPE=image/jpeg:https://pikespkblues.org/wp-content/uploads/2024/04/Hoodoo-Honey-photo.jpg
END:VEVENT
BEGIN:VEVENT
DTSTART;TZID=America/Denver:20240504T200000
DTEND;TZID=America/Denver:20240505T000000
DTSTAMP:20260423T164300
CREATED:20240427T163603Z
LAST-MODIFIED:20240501T200106Z
UID:10000031-1714852800-1714867200@pikespkblues.org
SUMMARY:Cous & The Brotherhood at Mother Muffs
DESCRIPTION:
URL:https://pikespkblues.org/event/cous-the-brotherhood-at-mother-muffs-2/
LOCATION:Mother Muffs\, 2432 W Colorado Ave\, Colorado Springs\, 80904\, United States
CATEGORIES:Concerts
ATTACH;FMTTYPE=image/jpeg:https://pikespkblues.org/wp-content/uploads/2024/04/CousTheBrotherhood-photo.jpeg
ORGANIZER;CN="Ron Cousar":MAILTO:rcousar@pikespkblues.org
END:VEVENT
BEGIN:VEVENT
DTSTART;TZID=America/Denver:20240506T180000
DTEND;TZID=America/Denver:20240506T210000
DTSTAMP:20260423T164300
CREATED:20240426T153729Z
LAST-MODIFIED:20240430T211806Z
UID:10000017-1715018400-1715029200@pikespkblues.org
SUMMARY:Old School Cool at PizzAmore
DESCRIPTION:Blues duo Old School Cool is Playing at Rico’s Café! Come hear the crazy mixed up world of Steve Shwen and Randy Mummert
URL:https://pikespkblues.org/event/old-school-cool-at-pizzamore-2/
LOCATION:PizzAmoré\, 236 E Cheyenne Mountain Blvd\, Colorado Springs\, 80906\, United States
CATEGORIES:Concerts
ATTACH;FMTTYPE=image/png:https://pikespkblues.org/wp-content/uploads/2024/04/5425736939034728930-e1715578957159.png
ORGANIZER;CN="Randy Mummert":MAILTO:rmummert@pikespkblues.org
END:VEVENT
BEGIN:VEVENT
DTSTART;TZID=America/Denver:20240511T130000
DTEND;TZID=America/Denver:20240511T160000
DTSTAMP:20260423T164300
CREATED:20240426T153729Z
LAST-MODIFIED:20240504T155706Z
UID:10000018-1715432400-1715443200@pikespkblues.org
SUMMARY:Hoodoo Honey at Pikes Peak Harley Davidson
DESCRIPTION:
URL:https://pikespkblues.org/event/harley-davidson-event-2/
LOCATION:Harley Davidson\, 5867 N Nevada Ave\, Colorado Springs\, 80918\, United States
CATEGORIES:Concerts
ATTACH;FMTTYPE=image/jpeg:https://pikespkblues.org/wp-content/uploads/2024/04/Hoodoo-Honey-photo.jpg
ORGANIZER;CN="Teri Senor":MAILTO:tsenor@pikespkblues.org
END:VEVENT
BEGIN:VEVENT
DTSTART;TZID=America/Denver:20240513T160000
DTEND;TZID=America/Denver:20240513T170000
DTSTAMP:20260423T164300
CREATED:20240427T163706Z
LAST-MODIFIED:20240429T173343Z
UID:10000037-1715616000-1715619600@pikespkblues.org
SUMMARY:PPBC Board meeting
DESCRIPTION:
URL:https://pikespkblues.org/event/ppbc-board-meeting/
LOCATION:CO
CATEGORIES:Meetings
END:VEVENT
BEGIN:VEVENT
DTSTART;TZID=America/Denver:20240513T193000
DTEND;TZID=America/Denver:20240513T220000
DTSTAMP:20260423T164300
CREATED:20240427T163650Z
LAST-MODIFIED:20240513T054621Z
UID:10000032-1715628600-1715637600@pikespkblues.org
SUMMARY:Gary Clark Jr. at Red Rocks
DESCRIPTION:
URL:https://pikespkblues.org/event/gary-clark-jr-at-red-rocks/
LOCATION:CO
CATEGORIES:Concerts
ATTACH;FMTTYPE=image/jpeg:https://pikespkblues.org/wp-content/uploads/2024/05/Gary-Clark-jr.jpg
END:VEVENT
BEGIN:VEVENT
DTSTART;TZID=America/Denver:20240515T190000
DTEND;TZID=America/Denver:20240515T220000
DTSTAMP:20260423T164300
CREATED:20240429T173343Z
LAST-MODIFIED:20240430T200128Z
UID:10000049-1715799600-1715810400@pikespkblues.org
SUMMARY:Tasty Blues Jam
DESCRIPTION:
URL:https://pikespkblues.org/event/tasty-blues-jam-2/
LOCATION:Buzzed Crow Bistro\, 5853 Palmer Park Blvd\, Colorado Springs\, CO\, United States
CATEGORIES:Jams
END:VEVENT
BEGIN:VEVENT
DTSTART;TZID=America/Denver:20240518T180000
DTEND;TZID=America/Denver:20240518T210000
DTSTAMP:20260423T164300
CREATED:20240426T153729Z
LAST-MODIFIED:20240430T211729Z
UID:10000019-1716055200-1716066000@pikespkblues.org
SUMMARY:Old School Cool at Rico's
DESCRIPTION:
URL:https://pikespkblues.org/event/old-school-cool-at-ricos-5/
LOCATION:Rico’s Cafe and Wine Bar\, 322 1/2\, N Tejon St\, Colorado Springs\, CO\, 80903\, United States
CATEGORIES:Concerts
ATTACH;FMTTYPE=image/png:https://pikespkblues.org/wp-content/uploads/2024/04/5425736939034728930-e1715578957159.png
ORGANIZER;CN="Randy Mummert":MAILTO:rmummert@pikespkblues.org
END:VEVENT
BEGIN:VEVENT
DTSTART;TZID=America/Denver:20240524T190000
DTEND;TZID=America/Denver:20240524T230000
DTSTAMP:20260423T164300
CREATED:20240429T173520Z
LAST-MODIFIED:20240513T054652Z
UID:10000059-1716577200-1716591600@pikespkblues.org
SUMMARY:Hot Boots at the Buzzed Crow
DESCRIPTION:
URL:https://pikespkblues.org/event/hot-boots-at-the-buzzed-crow/
LOCATION:Buzzed Crow Bistro\, 5853 Palmer Park Blvd\, Colorado Springs\, CO\, United States
CATEGORIES:Concerts
ATTACH;FMTTYPE=image/jpeg:https://pikespkblues.org/wp-content/uploads/2024/05/hot-boots.jpg
END:VEVENT
BEGIN:VEVENT
DTSTART;TZID=America/Denver:20240529T190000
DTEND;TZID=America/Denver:20240529T220000
DTSTAMP:20260423T164300
CREATED:20240429T173504Z
LAST-MODIFIED:20240504T211801Z
UID:10000050-1717009200-1717020000@pikespkblues.org
SUMMARY:The Tasty Blues Jam at Buzzed Crow
DESCRIPTION:
URL:https://pikespkblues.org/event/tasty-blues-jam-3/
LOCATION:CO
CATEGORIES:Jams
END:VEVENT
BEGIN:VEVENT
DTSTART;TZID=America/Denver:20240601T190000
DTEND;TZID=America/Denver:20240601T210000
DTSTAMP:20260423T164300
CREATED:20240426T161822Z
LAST-MODIFIED:20240528T180454Z
UID:10000030-1717268400-1717275600@pikespkblues.org
SUMMARY:Alastair Green at Stargazers
DESCRIPTION:
URL:https://pikespkblues.org/event/alastair-green-at-stargazers-4/
LOCATION:CO
CATEGORIES:Concerts
END:VEVENT
BEGIN:VEVENT
DTSTART;TZID=America/Denver:20240604T173000
DTEND;TZID=America/Denver:20240604T193000
DTSTAMP:20260423T164300
CREATED:20240429T173239Z
LAST-MODIFIED:20240504T211706Z
UID:10000043-1717522200-1717529400@pikespkblues.org
SUMMARY:Paint The Town Blue Featuring Al Chesis and the Delta Sonics
DESCRIPTION:Paint The Town Blue returns to Bancroft Park in 2024. Outstanding Blues artists will be playing at the bandshell this summer on alternate Tuesdays beginning June 4. This week the featured band is Al Chesis and the Delta Sonics!
URL:https://pikespkblues.org/event/paint-the-town-bluefeaturing-al-chesis-and-the-delta-sonics-2/
LOCATION:Bancroft Park\, 2408 W Colorado Ave\, Colorado Springs\, 80904\, United States
CATEGORIES:Concerts
ATTACH;FMTTYPE=image/jpeg:https://pikespkblues.org/wp-content/uploads/2024/04/DeltaSonics-photo2.jpg
ORGANIZER;CN="PPBC":MAILTO:info@pikespkblues.org
END:VEVENT
BEGIN:VEVENT
DTSTART;TZID=America/Denver:20240605T190000
DTEND;TZID=America/Denver:20240605T220000
DTSTAMP:20260423T164300
CREATED:20240429T173505Z
LAST-MODIFIED:20240504T211853Z
UID:10000051-1717614000-1717624800@pikespkblues.org
SUMMARY:The Tasty Blues Jam at Buzzed Crow
DESCRIPTION:
URL:https://pikespkblues.org/event/tasty-blues-jam-4/
LOCATION:CO
CATEGORIES:Jams
END:VEVENT
BEGIN:VEVENT
DTSTART;TZID=America/Denver:20240609T180000
DTEND;TZID=America/Denver:20240609T200000
DTSTAMP:20260423T164300
CREATED:20240608T164339Z
LAST-MODIFIED:20240608T164339Z
UID:10001636-1717956000-1717963200@pikespkblues.org
SUMMARY:BJ Estares and Route 61
DESCRIPTION:BJ Estares and Route 61 at Goat Patch Brewing
URL:https://pikespkblues.org/event/bj-estares-and-route-61/
LOCATION:Goat Patch Brewing\, 2727 N. Cascade Ave. #123\, Colorado Springs\, CO\, 80907\, United States
END:VEVENT
BEGIN:VEVENT
DTSTART;TZID=America/Denver:20240610T120000
DTEND;TZID=America/Denver:20240610T130000
DTSTAMP:20260423T164300
CREATED:20240608T152048Z
LAST-MODIFIED:20250205T153915Z
UID:10001639-1718020800-1718024400@pikespkblues.org
SUMMARY:Jazz 93.5 Community Blues Hour with BJ Estares
DESCRIPTION:
URL:https://pikespkblues.org/event/jazz-93-5-community-blues-hour-with-bj-estares/2024-06-10/
LOCATION:CO
END:VEVENT
BEGIN:VEVENT
DTSTART;TZID=America/Denver:20240611T120000
DTEND;TZID=America/Denver:20240611T130000
DTSTAMP:20260423T164300
CREATED:20240608T152048Z
LAST-MODIFIED:20250205T153915Z
UID:10001640-1718107200-1718110800@pikespkblues.org
SUMMARY:Jazz 93.5 Community Blues Hour with BJ Estares
DESCRIPTION:
URL:https://pikespkblues.org/event/jazz-93-5-community-blues-hour-with-bj-estares/2024-06-11/
LOCATION:CO
END:VEVENT
BEGIN:VEVENT
DTSTART;TZID=America/Denver:20240611T180000
DTEND;TZID=America/Denver:20240611T200000
DTSTAMP:20260423T164300
CREATED:20240607T224011Z
LAST-MODIFIED:20240607T224205Z
UID:10000060-1718128800-1718136000@pikespkblues.org
SUMMARY:Rafiel & The Roomshakers
DESCRIPTION:Music In The Park
URL:https://pikespkblues.org/event/rafiel-the-roomshakers/
LOCATION:Bancroft Park\, 2408 W Colorado Ave\, Colorado Springs\, 80904\, United States
CATEGORIES:Concerts
END:VEVENT
BEGIN:VEVENT
DTSTART;TZID=America/Denver:20240612T120000
DTEND;TZID=America/Denver:20240612T130000
DTSTAMP:20260423T164300
CREATED:20240608T152048Z
LAST-MODIFIED:20250205T153915Z
UID:10001641-1718193600-1718197200@pikespkblues.org
SUMMARY:Jazz 93.5 Community Blues Hour with BJ Estares
DESCRIPTION:
URL:https://pikespkblues.org/event/jazz-93-5-community-blues-hour-with-bj-estares/2024-06-12/
LOCATION:CO
END:VEVENT
BEGIN:VEVENT
DTSTART;TZID=America/Denver:20240612T183000
DTEND;TZID=America/Denver:20240612T203000
DTSTAMP:20260423T164300
CREATED:20240611T165754Z
LAST-MODIFIED:20240611T165847Z
UID:10001638-1718217000-1718224200@pikespkblues.org
SUMMARY:The King Stan Band
DESCRIPTION:The King Stan Band at Limbach Park\, Monument
URL:https://pikespkblues.org/event/the-king-stan-band/
LOCATION:Limbach Park\, 151 Front Street \, CO\, Monument\, CO\, 80132\, United States
CATEGORIES:Concerts
ATTACH;FMTTYPE=image/jpeg:https://pikespkblues.org/wp-content/uploads/2024/06/King-Stan-Band-photo.jpg
END:VEVENT
BEGIN:VEVENT
DTSTART;TZID=America/Denver:20240613T120000
DTEND;TZID=America/Denver:20240613T130000
DTSTAMP:20260423T164300
CREATED:20240608T152048Z
LAST-MODIFIED:20250205T153915Z
UID:10001642-1718280000-1718283600@pikespkblues.org
SUMMARY:Jazz 93.5 Community Blues Hour with BJ Estares
DESCRIPTION:
URL:https://pikespkblues.org/event/jazz-93-5-community-blues-hour-with-bj-estares/2024-06-13/
LOCATION:CO
END:VEVENT
BEGIN:VEVENT
DTSTART;TZID=America/Denver:20240614T120000
DTEND;TZID=America/Denver:20240614T130000
DTSTAMP:20260423T164300
CREATED:20240608T152048Z
LAST-MODIFIED:20250205T153915Z
UID:10001643-1718366400-1718370000@pikespkblues.org
SUMMARY:Jazz 93.5 Community Blues Hour with BJ Estares
DESCRIPTION:
URL:https://pikespkblues.org/event/jazz-93-5-community-blues-hour-with-bj-estares/2024-06-14/
LOCATION:CO
END:VEVENT
BEGIN:VEVENT
DTSTART;TZID=America/Denver:20240615T180000
DTEND;TZID=America/Denver:20240615T210000
DTSTAMP:20260423T164300
CREATED:20240426T140333Z
LAST-MODIFIED:20240603T061349Z
UID:10000010-1718474400-1718485200@pikespkblues.org
SUMMARY:Old School Cool at Rico's
DESCRIPTION:Blues duo Old School Cool is Playing at Rico’s Café! Come hear the crazy mixed up world of Steve Shwen and Randy Mummert
URL:https://pikespkblues.org/event/old-school-cool-at-ricos-2/
LOCATION:Rico’s Cafe and Wine Bar\, 322 1/2\, N Tejon St\, Colorado Springs\, CO\, 80903\, United States
CATEGORIES:Concerts
ATTACH;FMTTYPE=image/jpeg:https://pikespkblues.org/wp-content/uploads/2024/04/old-scghool-cool.jpg
ORGANIZER;CN="Randy Mummert":MAILTO:rmummert@pikespkblues.org
END:VEVENT
BEGIN:VEVENT
DTSTART;TZID=America/Denver:20240617T120000
DTEND;TZID=America/Denver:20240617T130000
DTSTAMP:20260423T164300
CREATED:20240608T152048Z
LAST-MODIFIED:20250205T153915Z
UID:10001644-1718625600-1718629200@pikespkblues.org
SUMMARY:Jazz 93.5 Community Blues Hour with BJ Estares
DESCRIPTION:
URL:https://pikespkblues.org/event/jazz-93-5-community-blues-hour-with-bj-estares/2024-06-17/
LOCATION:CO
END:VEVENT
BEGIN:VEVENT
DTSTART;TZID=America/Denver:20240618T120000
DTEND;TZID=America/Denver:20240618T130000
DTSTAMP:20260423T164300
CREATED:20240608T152048Z
LAST-MODIFIED:20250205T153915Z
UID:10001645-1718712000-1718715600@pikespkblues.org
SUMMARY:Jazz 93.5 Community Blues Hour with BJ Estares
DESCRIPTION:
URL:https://pikespkblues.org/event/jazz-93-5-community-blues-hour-with-bj-estares/2024-06-18/
LOCATION:CO
END:VEVENT
BEGIN:VEVENT
DTSTART;TZID=America/Denver:20240618T173000
DTEND;TZID=America/Denver:20240618T193000
DTSTAMP:20260423T164300
CREATED:20240428T152219Z
LAST-MODIFIED:20240605T172712Z
UID:10000040-1718731800-1718739000@pikespkblues.org
SUMMARY:Jake Loggins
DESCRIPTION:Paint The Town Blue returns to Bancroft Park in 2024. Outstanding Blues artists will be playing at the bandshell this summer on alternate Tuesdays beginning June 4. This week the featured artist is Jake Loggins!
URL:https://pikespkblues.org/event/paint-the-town-bluefeaturing-jake-loggins-2/
LOCATION:Bancroft Park\, 2408 W Colorado Ave\, Colorado Springs\, 80904\, United States
CATEGORIES:Concerts
ATTACH;FMTTYPE=image/jpeg:https://pikespkblues.org/wp-content/uploads/2024/04/Jake-Loggins-photo.jpg
ORGANIZER;CN="PPBC":MAILTO:info@pikespkblues.org
END:VEVENT
END:VCALENDAR