BEGIN:VCALENDAR
VERSION:2.0
PRODID:-//Pikes Peak Blues Community - ECPv6.15.20//NONSGML v1.0//EN
CALSCALE:GREGORIAN
METHOD:PUBLISH
X-WR-CALNAME:Pikes Peak Blues Community
X-ORIGINAL-URL:https://pikespkblues.org
X-WR-CALDESC:Events for Pikes Peak Blues Community
REFRESH-INTERVAL;VALUE=DURATION:PT1H
X-Robots-Tag:noindex
X-PUBLISHED-TTL:PT1H
BEGIN:VTIMEZONE
TZID:America/Denver
BEGIN:DAYLIGHT
TZOFFSETFROM:-0700
TZOFFSETTO:-0600
TZNAME:MDT
DTSTART:20240310T090000
END:DAYLIGHT
BEGIN:STANDARD
TZOFFSETFROM:-0600
TZOFFSETTO:-0700
TZNAME:MST
DTSTART:20241103T080000
END:STANDARD
BEGIN:DAYLIGHT
TZOFFSETFROM:-0700
TZOFFSETTO:-0600
TZNAME:MDT
DTSTART:20250309T090000
END:DAYLIGHT
BEGIN:STANDARD
TZOFFSETFROM:-0600
TZOFFSETTO:-0700
TZNAME:MST
DTSTART:20251102T080000
END:STANDARD
BEGIN:DAYLIGHT
TZOFFSETFROM:-0700
TZOFFSETTO:-0600
TZNAME:MDT
DTSTART:20260308T090000
END:DAYLIGHT
BEGIN:STANDARD
TZOFFSETFROM:-0600
TZOFFSETTO:-0700
TZNAME:MST
DTSTART:20261101T080000
END:STANDARD
END:VTIMEZONE
BEGIN:VEVENT
DTSTART;TZID=America/Denver:20251108T170000
DTEND;TZID=America/Denver:20251108T200000
DTSTAMP:20260425T094338
CREATED:20251015T195243Z
LAST-MODIFIED:20251015T195243Z
UID:10005569-1762621200-1762632000@pikespkblues.org
SUMMARY:Lionel Young Band
DESCRIPTION:  \n \nLionel Young Band @ Dazzle\, Denver on Saturday\, November 8th at 5:00 pm.
URL:https://pikespkblues.org/event/lionel-young-band/
LOCATION:Dazzle\, 1080 14th Street\, Denver\, CO\, 80202
CATEGORIES:Concerts
END:VEVENT
BEGIN:VEVENT
DTSTART;TZID=America/Denver:20251108T100000
DTEND;TZID=America/Denver:20251108T120000
DTSTAMP:20260425T094338
CREATED:20251015T175252Z
LAST-MODIFIED:20251015T183321Z
UID:10005564-1762596000-1762603200@pikespkblues.org
SUMMARY:Delta Sonics Duo with Al Chesis  *** PPBC Member Band ***
DESCRIPTION:Delta Sonics Duo with Al Chesis @ Savarina Brunch at The Kimpton Hotel\, Denver on Saturday\, November 8th at 10:00 am.
URL:https://pikespkblues.org/event/delta-sonics-duo-ppbc-member-band/
LOCATION:Savarina at the Klimpton Hotel\, 6985 E Chenango Ave\, Denver\, CO\, 80237\, United States
CATEGORIES:Concerts
END:VEVENT
BEGIN:VEVENT
DTSTART;TZID=America/Denver:20251107T180000
DTEND;TZID=America/Denver:20251107T210000
DTSTAMP:20260425T094338
CREATED:20250930T121633Z
LAST-MODIFIED:20250930T121633Z
UID:10004524-1762538400-1762549200@pikespkblues.org
SUMMARY:The Cleveland Experiment
DESCRIPTION:The Cleveland Experiment @ Rico’s Cafe and Wine Bar\, 322 1/2 N Tejon St (80903) on Friday\, November 7th at 6:00 pm. No cover.
URL:https://pikespkblues.org/event/the-cleveland-experiment-15/
LOCATION:Rico’s Cafe and Wine Bar\, 322 1/2\, N Tejon St\, Colorado Springs\, CO\, 80903\, United States
CATEGORIES:Concerts
END:VEVENT
BEGIN:VEVENT
DTSTART;TZID=America/Denver:20251107T120000
DTEND;TZID=America/Denver:20251107T130000
DTSTAMP:20260425T094338
CREATED:20240608T152048Z
LAST-MODIFIED:20250205T153915Z
UID:10002008-1762516800-1762520400@pikespkblues.org
SUMMARY:Jazz 93.5 Community Blues Hour with BJ Estares
DESCRIPTION:
URL:https://pikespkblues.org/event/jazz-93-5-community-blues-hour-with-bj-estares/2025-11-07/
LOCATION:CO
END:VEVENT
BEGIN:VEVENT
DTSTART;TZID=America/Denver:20251106T120000
DTEND;TZID=America/Denver:20251106T130000
DTSTAMP:20260425T094338
CREATED:20240608T152048Z
LAST-MODIFIED:20250205T153915Z
UID:10002007-1762430400-1762434000@pikespkblues.org
SUMMARY:Jazz 93.5 Community Blues Hour with BJ Estares
DESCRIPTION:
URL:https://pikespkblues.org/event/jazz-93-5-community-blues-hour-with-bj-estares/2025-11-06/
LOCATION:CO
END:VEVENT
BEGIN:VEVENT
DTSTART;TZID=America/Denver:20251105T120000
DTEND;TZID=America/Denver:20251105T130000
DTSTAMP:20260425T094338
CREATED:20240608T152048Z
LAST-MODIFIED:20250205T153915Z
UID:10002006-1762344000-1762347600@pikespkblues.org
SUMMARY:Jazz 93.5 Community Blues Hour with BJ Estares
DESCRIPTION:
URL:https://pikespkblues.org/event/jazz-93-5-community-blues-hour-with-bj-estares/2025-11-05/
LOCATION:CO
END:VEVENT
BEGIN:VEVENT
DTSTART;TZID=America/Denver:20251104T180000
DTEND;TZID=America/Denver:20251104T210000
DTSTAMP:20260425T094338
CREATED:20251004T004608Z
LAST-MODIFIED:20251004T182250Z
UID:10004784-1762279200-1762290000@pikespkblues.org
SUMMARY:Sweet T's Rude Blues Jam on Tuesdays at PEAK 31
DESCRIPTION:Sweet T’s Rude Blues Jam @ PEAK 31\, 2419 N Union Blvd (80909) on Tuesdays\, from 6:00 pm to 9:00 pm.
URL:https://pikespkblues.org/event/sweet-ts-rude-blues-jam-on-tuesdays-at-peak-31/2025-11-04/
LOCATION:PEAK 31\, 2419 N Union Blvd\, Colorado Springs\, CO\, 80909\, United States
CATEGORIES:Jams
END:VEVENT
BEGIN:VEVENT
DTSTART;TZID=America/Denver:20251104T120000
DTEND;TZID=America/Denver:20251104T130000
DTSTAMP:20260425T094338
CREATED:20240608T152048Z
LAST-MODIFIED:20250205T153915Z
UID:10002005-1762257600-1762261200@pikespkblues.org
SUMMARY:Jazz 93.5 Community Blues Hour with BJ Estares
DESCRIPTION:
URL:https://pikespkblues.org/event/jazz-93-5-community-blues-hour-with-bj-estares/2025-11-04/
LOCATION:CO
END:VEVENT
BEGIN:VEVENT
DTSTART;TZID=America/Denver:20251103T200000
DTEND;TZID=America/Denver:20251103T230000
DTSTAMP:20260425T094338
CREATED:20251009T001908Z
LAST-MODIFIED:20251009T010915Z
UID:10005305-1762200000-1762210800@pikespkblues.org
SUMMARY:Stormy Monday Blues Jam hosted by Randy Stephens & the Groove Makers
DESCRIPTION:Stormy Monday Blues Jam hosted by Randy Stephens & the Groove Makers @ Kinfolks\, 950 Manitou Ave\, Manitou Springs on Mondays from 8:00 pm to 11:00 pm. Sign up start at 7:30 pm. Bring your own axe and jam with these award winning musicians. Keys\, drums\, and amps provided. Horn players welcome.
URL:https://pikespkblues.org/event/stormy-monday-blues-jam-hosted-by-randy-stephens-the-groove-makers/2025-11-03/
LOCATION:Kinsfolks\, 950 Manitou Ave\, Manitou Springs\, CO\, 80829
CATEGORIES:Jams
END:VEVENT
BEGIN:VEVENT
DTSTART;TZID=America/Denver:20251103T120000
DTEND;TZID=America/Denver:20251103T130000
DTSTAMP:20260425T094338
CREATED:20240608T152048Z
LAST-MODIFIED:20250205T153915Z
UID:10002004-1762171200-1762174800@pikespkblues.org
SUMMARY:Jazz 93.5 Community Blues Hour with BJ Estares
DESCRIPTION:
URL:https://pikespkblues.org/event/jazz-93-5-community-blues-hour-with-bj-estares/2025-11-03/
LOCATION:CO
END:VEVENT
BEGIN:VEVENT
DTSTART;TZID=America/Denver:20251101T200000
DTEND;TZID=America/Denver:20251101T230000
DTSTAMP:20260425T094338
CREATED:20251029T181928Z
LAST-MODIFIED:20251029T181928Z
UID:10005588-1762027200-1762038000@pikespkblues.org
SUMMARY:Randall Dubis Band
DESCRIPTION:Randall Dubis Band @ Lincoln’s Roadhouse\, Denver on Saturday\, November 1st at 8:00 pm.
URL:https://pikespkblues.org/event/randall-dubis-band-3/
LOCATION:Lincoln’s Roadhouse\, 1201 S Pearl St\, Denver\, CO\, 80210\, United States
CATEGORIES:Concerts
END:VEVENT
BEGIN:VEVENT
DTSTART;TZID=America/Denver:20251101T190000
DTEND;TZID=America/Denver:20251101T230000
DTSTAMP:20260425T094338
CREATED:20251025T214501Z
LAST-MODIFIED:20251025T214501Z
UID:10005582-1762023600-1762038000@pikespkblues.org
SUMMARY:Maynard Mills Blues Band
DESCRIPTION:Maynard Mills Blues Band @ Dirty Dogs Roadhouse\, Golden on Saturday\, November 1st from 7:00 pm to 11:00 pm.
URL:https://pikespkblues.org/event/maynard-mills-blues-band/
LOCATION:Dirty Dogs Roadhouse\, 17999 W Colfax Ave\, Golden\, CO\, 80401\, United States
CATEGORIES:Concerts
END:VEVENT
BEGIN:VEVENT
DTSTART;TZID=America/Denver:20251101T180000
DTEND;TZID=America/Denver:20251101T210000
DTSTAMP:20260425T094338
CREATED:20250930T122537Z
LAST-MODIFIED:20250930T125240Z
UID:10004522-1762020000-1762030800@pikespkblues.org
SUMMARY:Rafiel and The Roomshakers
DESCRIPTION:Rafiel and The Roomshakers @ Rico’s Cafe and Wine Bar\, 322 1/2 N Tejon (80903) on Saturday\, November 1\, 2025 at 6:00 pm – No cover.
URL:https://pikespkblues.org/event/rafiel-and-the-roomshakers-8/
LOCATION:Rico’s Cafe and Wine Bar\, 322 1/2\, N Tejon St\, Colorado Springs\, CO\, 80903\, United States
CATEGORIES:Concerts
END:VEVENT
BEGIN:VEVENT
DTSTART;TZID=America/Denver:20251101T180000
DTEND;TZID=America/Denver:20251101T210000
DTSTAMP:20260425T094338
CREATED:20250929T223002Z
LAST-MODIFIED:20250929T223002Z
UID:10004521-1762020000-1762030800@pikespkblues.org
SUMMARY:Delta Sonics with Al Chesis   *** PPBC Member Band ***
DESCRIPTION:Delta Sonics with Al Chesis @ Clancy’s Irish Pub\, Wheat Ridge on Saturday\, November 1st at 6:00 pm.
URL:https://pikespkblues.org/event/delta-sonics-with-al-chesis-ppbc-member-band-23/
LOCATION:Clancy’s Irish Pub\, 7000 W 38th Ave\, Wheat Ridge\, CO\, 80033\, United States
CATEGORIES:Concerts
END:VEVENT
BEGIN:VEVENT
DTSTART;TZID=America/Denver:20251101T143000
DTEND;TZID=America/Denver:20251101T193000
DTSTAMP:20260425T094338
CREATED:20250924T181431Z
LAST-MODIFIED:20250924T181454Z
UID:10004516-1762007400-1762025400@pikespkblues.org
SUMMARY:Ballroomin’ Blues Workshop with Kara Fabian & Jen Delk
DESCRIPTION:Ballroomin’ Blues Workshop with Kara Fabian & Jen Delk @ Denver Turnverien Dance Center\, Denver on Saturday\, November 1st from 2:30 pm to 7:30 pm. See https://kfabdances.com/dance-training/.
URL:https://pikespkblues.org/event/ballroomin-blues-workshop-with-kara-fabian-and-jen-delk/
LOCATION:Denver Turnverien Dance Center\, 1570 N Clarkson St\, Denver\, CO\, 80218\, United States
CATEGORIES:Dance
END:VEVENT
BEGIN:VEVENT
DTSTART;TZID=America/Denver:20251031T183000
DTEND;TZID=America/Denver:20251031T213000
DTSTAMP:20260425T094338
CREATED:20250916T160659Z
LAST-MODIFIED:20250928T012334Z
UID:10004511-1761935400-1761946200@pikespkblues.org
SUMMARY:PPBC Halloween Party with The Cleveland Experiment and Tommy Saxman
DESCRIPTION:PPBC Halloween Party with The Cleveland Experiment and PPBC members Tommy Saxman and Teri Senior @ Summa Taphouse\, 817 W Colorado Ave\, Colorado Springs on Friday\, October 31st at 6:30 pm – $10.00 cover.
URL:https://pikespkblues.org/event/ppbc-halloween-party-with-the-cleveland-experiment-and-tommy-saxman/
LOCATION:Summa\, 817 W. Colorado Ave\, Colorado Springs\, CO\, 80905\, United States
CATEGORIES:Concerts
END:VEVENT
BEGIN:VEVENT
DTSTART;TZID=America/Denver:20251031T180000
DTEND;TZID=America/Denver:20251031T210000
DTSTAMP:20260425T094338
CREATED:20251029T183126Z
LAST-MODIFIED:20251029T183126Z
UID:10005589-1761933600-1761944400@pikespkblues.org
SUMMARY:Delta Sonics with Al Chesis  *** PPBC Member Band ***
DESCRIPTION:Delta Sonics with Al Chesis @ Clancy’s Irish Pub’s Halloween Party\, Wheat Ridge on October 31st at 6:00 pm.
URL:https://pikespkblues.org/event/delta-sonics-with-al-chesis-ppbc-member-band-25/
LOCATION:Clancy’s Irish Pub\, 7000 W 38th Ave\, Wheat Ridge\, CO\, 80033\, United States
CATEGORIES:Concerts
END:VEVENT
BEGIN:VEVENT
DTSTART;TZID=America/Denver:20251031T120000
DTEND;TZID=America/Denver:20251031T130000
DTSTAMP:20260425T094338
CREATED:20240608T152048Z
LAST-MODIFIED:20250205T153915Z
UID:10002003-1761912000-1761915600@pikespkblues.org
SUMMARY:Jazz 93.5 Community Blues Hour with BJ Estares
DESCRIPTION:
URL:https://pikespkblues.org/event/jazz-93-5-community-blues-hour-with-bj-estares/2025-10-31/
LOCATION:CO
END:VEVENT
BEGIN:VEVENT
DTSTART;TZID=America/Denver:20251030T190000
DTEND;TZID=America/Denver:20251030T230000
DTSTAMP:20260425T094338
CREATED:20250813T231325Z
LAST-MODIFIED:20250902T205614Z
UID:10004459-1761850800-1761865200@pikespkblues.org
SUMMARY:Colorado Blues Society's Halloween Ball featuring Deborah Stafford and The Night Stalkers and The Delta Sonics
DESCRIPTION:Colorado Blues Society’s Halloween Ball featuring Deborah Stafford and The Night Stalkers and The Delta Sonics @ Buffalo Rose\, Golden on Thursday\, October 30th at 7:00 pm. There will be dancing\, a costume contest\, and 2 great bands for the price of one. Tickets are available at https://buffalorosegolden.com.
URL:https://pikespkblues.org/event/colorado-blues-societys-halloween-ball-featuring-deborah-stafford-and-the-night-stalkers-and-the-delta-sonics/
LOCATION:Buffalo Rose\, 1119 Washington Ave\, Golden\, CO\, 80401
CATEGORIES:Concerts
END:VEVENT
BEGIN:VEVENT
DTSTART;TZID=America/Denver:20251030T120000
DTEND;TZID=America/Denver:20251030T130000
DTSTAMP:20260425T094338
CREATED:20240608T152048Z
LAST-MODIFIED:20250205T153915Z
UID:10002002-1761825600-1761829200@pikespkblues.org
SUMMARY:Jazz 93.5 Community Blues Hour with BJ Estares
DESCRIPTION:
URL:https://pikespkblues.org/event/jazz-93-5-community-blues-hour-with-bj-estares/2025-10-30/
LOCATION:CO
END:VEVENT
BEGIN:VEVENT
DTSTART;TZID=America/Denver:20251029T120000
DTEND;TZID=America/Denver:20251029T130000
DTSTAMP:20260425T094338
CREATED:20240608T152048Z
LAST-MODIFIED:20250205T153915Z
UID:10002001-1761739200-1761742800@pikespkblues.org
SUMMARY:Jazz 93.5 Community Blues Hour with BJ Estares
DESCRIPTION:
URL:https://pikespkblues.org/event/jazz-93-5-community-blues-hour-with-bj-estares/2025-10-29/
LOCATION:CO
END:VEVENT
BEGIN:VEVENT
DTSTART;TZID=America/Denver:20251028T190000
DTEND;TZID=America/Denver:20251028T230000
DTSTAMP:20260425T094338
CREATED:20251025T215519Z
LAST-MODIFIED:20251025T221431Z
UID:10005583-1761678000-1761692400@pikespkblues.org
SUMMARY:Randall Dubis Band
DESCRIPTION:Randall Dubis Band @ Morrison Holiday Bar\, Morrison on Tuesday\, October 28th from 7:00 pm to 11:00 pm.
URL:https://pikespkblues.org/event/randall-dubis-band-2/
LOCATION:Morrison Holiday Bar\, 403 Bear Creek Ave\, Morrison\, CO\, 80465
CATEGORIES:Concerts
END:VEVENT
BEGIN:VEVENT
DTSTART;TZID=America/Denver:20251028T120000
DTEND;TZID=America/Denver:20251028T130000
DTSTAMP:20260425T094338
CREATED:20240608T152048Z
LAST-MODIFIED:20250205T153915Z
UID:10002000-1761652800-1761656400@pikespkblues.org
SUMMARY:Jazz 93.5 Community Blues Hour with BJ Estares
DESCRIPTION:
URL:https://pikespkblues.org/event/jazz-93-5-community-blues-hour-with-bj-estares/2025-10-28/
LOCATION:CO
END:VEVENT
BEGIN:VEVENT
DTSTART;TZID=America/Denver:20251027T200000
DTEND;TZID=America/Denver:20251027T230000
DTSTAMP:20260425T094338
CREATED:20251009T001908Z
LAST-MODIFIED:20251009T010915Z
UID:10005304-1761595200-1761606000@pikespkblues.org
SUMMARY:Stormy Monday Blues Jam hosted by Randy Stephens & the Groove Makers
DESCRIPTION:Stormy Monday Blues Jam hosted by Randy Stephens & the Groove Makers @ Kinfolks\, 950 Manitou Ave\, Manitou Springs on Mondays from 8:00 pm to 11:00 pm. Sign up start at 7:30 pm. Bring your own axe and jam with these award winning musicians. Keys\, drums\, and amps provided. Horn players welcome.
URL:https://pikespkblues.org/event/stormy-monday-blues-jam-hosted-by-randy-stephens-the-groove-makers/2025-10-27/
LOCATION:Kinsfolks\, 950 Manitou Ave\, Manitou Springs\, CO\, 80829
CATEGORIES:Jams
END:VEVENT
BEGIN:VEVENT
DTSTART;TZID=America/Denver:20251027T120000
DTEND;TZID=America/Denver:20251027T130000
DTSTAMP:20260425T094338
CREATED:20240608T152048Z
LAST-MODIFIED:20250205T153915Z
UID:10001999-1761566400-1761570000@pikespkblues.org
SUMMARY:Jazz 93.5 Community Blues Hour with BJ Estares
DESCRIPTION:
URL:https://pikespkblues.org/event/jazz-93-5-community-blues-hour-with-bj-estares/2025-10-27/
LOCATION:CO
END:VEVENT
BEGIN:VEVENT
DTSTART;TZID=America/Denver:20251026T140000
DTEND;TZID=America/Denver:20251026T200000
DTSTAMP:20260425T094338
CREATED:20250709T182054Z
LAST-MODIFIED:20251021T050444Z
UID:10004422-1761487200-1761508800@pikespkblues.org
SUMMARY:Colorado Blues Society 2025 Road to Memphis: Colorado IBC Competition - Single Day of Finals
DESCRIPTION:Colorado Blues Society 2025 Road to Memphis: Colorado IBC Competition – Single Day of Finals @ Nissi’s\, Lafayette\, CO on Sunday\, October 26th at 2:00 pm. Doors open at 1:30 pm \n2:00 – 2:30 pm   Karen Finch – Solo Act \n2:40 – 3:10 pm   Rocky Mountain Blue – Band \n3:20 – 4:00 pm   Mad Dog Blues Solo – Solo Act \n4:10 – 4:40 pm   Nate Gure – Solo Act \n4:50 – 5:20 pm   Blues Frequency – Band \n5:30 – 6:00 pm   Dennis Carter – Solo Act \n6:15 pm		Winners announced \n 
URL:https://pikespkblues.org/event/colorado-blues-society-2025-road-to-memphis-colorado-ibc-competition-final-challenge/
LOCATION:Nissi’s\, 1455 Coal Creek Dr Unit T\, Lafayette\, CO\, 80026
CATEGORIES:Concerts
END:VEVENT
BEGIN:VEVENT
DTSTART;TZID=America/Denver:20251025T183000
DTEND;TZID=America/Denver:20251025T213000
DTSTAMP:20260425T094338
CREATED:20250827T183203Z
LAST-MODIFIED:20250827T183204Z
UID:10004472-1761417000-1761427800@pikespkblues.org
SUMMARY:Joe Sciallo and The Deep End *** PPBC Band Member ***
DESCRIPTION:Joe Sciallo and The Deep End *** PPBC Band Member *** @ Summa Taphouse\, 817 W Colorado Ave (80904) on Saturday\, October 25th at 6:30 pm
URL:https://pikespkblues.org/event/joe-sciallo-and-the-deep-end-ppbc-band-member-2/
LOCATION:Summa\, 817 W. Colorado Ave\, Colorado Springs\, CO\, 80905\, United States
CATEGORIES:Concerts
END:VEVENT
BEGIN:VEVENT
DTSTART;TZID=America/Denver:20251025T183000
DTEND;TZID=America/Denver:20251025T210000
DTSTAMP:20260425T094338
CREATED:20250916T155950Z
LAST-MODIFIED:20250916T155950Z
UID:10004510-1761417000-1761426000@pikespkblues.org
SUMMARY:Delta Sonics with Al Chesis  *** PPBC Member Band ***
DESCRIPTION:Delta Sonics with Al Chesis @ The Rusty Bucket Bar and Grill\, Lakewood on Saturday\, October 25th at 6:30 pm.
URL:https://pikespkblues.org/event/delta-sonics-with-al-chesis-ppbc-member-band-21/
LOCATION:The Rusty Bucket Bar and Grill\, 3355 S Wadsworth\, Lakewood\, CO\, 80277\, United States
CATEGORIES:Concerts
END:VEVENT
BEGIN:VEVENT
DTSTART;TZID=America/Denver:20251024T180000
DTEND;TZID=America/Denver:20251024T210000
DTSTAMP:20260425T094338
CREATED:20250916T164210Z
LAST-MODIFIED:20250916T164210Z
UID:10004509-1761328800-1761339600@pikespkblues.org
SUMMARY:Delta Sonics with Al Chesis  *** PPBC Member Band ***
DESCRIPTION:Delta Sonics with Al Chesis @ Bricks on Main Street\, Longmont on Friday\, October 24th at 6:00 pm.
URL:https://pikespkblues.org/event/delta-sonics-with-al-chesis-ppbc-member-band-22/
LOCATION:Bricks on Main Street\, 471 Main St\, Longmont\, CO\, 80501\, United States
CATEGORIES:Concerts
END:VEVENT
BEGIN:VEVENT
DTSTART;TZID=America/Denver:20251024T180000
DTEND;TZID=America/Denver:20251024T210000
DTSTAMP:20260425T094338
CREATED:20250909T143630Z
LAST-MODIFIED:20250909T143630Z
UID:10004502-1761328800-1761339600@pikespkblues.org
SUMMARY:Tommy Saxman *** PPBC Member ***
DESCRIPTION:Tommy Saxman @ The Grand View Restaurant at the Garden of the Gods Resort and Club\, 3320 Mesa Rd (80904) on Friday\, October 24th at 6:00 pm. Reservations are a MUST for tables (719) 329-6901. No reservations needed for spacious bar.
URL:https://pikespkblues.org/event/tommy-saxman-ppbc-member-6/
LOCATION:Grand View Restaurant in GOG Resort and Club\, 3320 Mesa Rd\, Colorado Springs\, CO\, 80904\, United States
CATEGORIES:Concerts
END:VEVENT
END:VCALENDAR