BEGIN:VCALENDAR
VERSION:2.0
PRODID:-//Pikes Peak Blues Community - ECPv6.15.20//NONSGML v1.0//EN
CALSCALE:GREGORIAN
METHOD:PUBLISH
X-WR-CALNAME:Pikes Peak Blues Community
X-ORIGINAL-URL:https://pikespkblues.org
X-WR-CALDESC:Events for Pikes Peak Blues Community
REFRESH-INTERVAL;VALUE=DURATION:PT1H
X-Robots-Tag:noindex
X-PUBLISHED-TTL:PT1H
BEGIN:VTIMEZONE
TZID:America/Denver
BEGIN:DAYLIGHT
TZOFFSETFROM:-0700
TZOFFSETTO:-0600
TZNAME:MDT
DTSTART:20240310T090000
END:DAYLIGHT
BEGIN:STANDARD
TZOFFSETFROM:-0600
TZOFFSETTO:-0700
TZNAME:MST
DTSTART:20241103T080000
END:STANDARD
BEGIN:DAYLIGHT
TZOFFSETFROM:-0700
TZOFFSETTO:-0600
TZNAME:MDT
DTSTART:20250309T090000
END:DAYLIGHT
BEGIN:STANDARD
TZOFFSETFROM:-0600
TZOFFSETTO:-0700
TZNAME:MST
DTSTART:20251102T080000
END:STANDARD
BEGIN:DAYLIGHT
TZOFFSETFROM:-0700
TZOFFSETTO:-0600
TZNAME:MDT
DTSTART:20260308T090000
END:DAYLIGHT
BEGIN:STANDARD
TZOFFSETFROM:-0600
TZOFFSETTO:-0700
TZNAME:MST
DTSTART:20261101T080000
END:STANDARD
END:VTIMEZONE
BEGIN:VEVENT
DTSTART;TZID=America/Denver:20250429T120000
DTEND;TZID=America/Denver:20250429T130000
DTSTAMP:20260425T093147
CREATED:20240608T152048Z
LAST-MODIFIED:20250205T153915Z
UID:10001870-1745928000-1745931600@pikespkblues.org
SUMMARY:Jazz 93.5 Community Blues Hour with BJ Estares
DESCRIPTION:
URL:https://pikespkblues.org/event/jazz-93-5-community-blues-hour-with-bj-estares/2025-04-29/
LOCATION:CO
END:VEVENT
BEGIN:VEVENT
DTSTART;TZID=America/Denver:20250428T120000
DTEND;TZID=America/Denver:20250428T130000
DTSTAMP:20260425T093147
CREATED:20240608T152048Z
LAST-MODIFIED:20250205T153915Z
UID:10001869-1745841600-1745845200@pikespkblues.org
SUMMARY:Jazz 93.5 Community Blues Hour with BJ Estares
DESCRIPTION:
URL:https://pikespkblues.org/event/jazz-93-5-community-blues-hour-with-bj-estares/2025-04-28/
LOCATION:CO
END:VEVENT
BEGIN:VEVENT
DTSTART;TZID=America/Denver:20250426T200000
DTEND;TZID=America/Denver:20250426T230000
DTSTAMP:20260425T093147
CREATED:20250416T211837Z
LAST-MODIFIED:20250416T211837Z
UID:10004358-1745697600-1745708400@pikespkblues.org
SUMMARY:The Delta Sonics
DESCRIPTION:The Delta Sonics with Al Chesis @ Lincoln’s Roadhouse\, Denver on Saturday\, April 26th at 8:00 pm
URL:https://pikespkblues.org/event/the-delta-sonics-9/
LOCATION:Lincoln’s Roadhouse\, 1201 S Pearl St\, Denver\, CO\, 80210\, United States
CATEGORIES:Concerts
END:VEVENT
BEGIN:VEVENT
DTSTART;TZID=America/Denver:20250426T193000
DTEND;TZID=America/Denver:20250426T220000
DTSTAMP:20260425T093147
CREATED:20250402T211628Z
LAST-MODIFIED:20250402T211628Z
UID:10004333-1745695800-1745704800@pikespkblues.org
SUMMARY:Deborah Stafford and the Night Stalkers
DESCRIPTION:Deborah Stafford and the Night Stalkers @ Full Cycle Cafe & Bar Supper Club\, Boulder on Friday\, April 26th at 7:30 pm
URL:https://pikespkblues.org/event/deborah-stafford-and-the-night-stalkers-2/
LOCATION:Full Cycle Cafe & Bar\, 2355 30th St\, Boulder\, 80301
CATEGORIES:Concerts
END:VEVENT
BEGIN:VEVENT
DTSTART;TZID=America/Denver:20250426T190000
DTEND;TZID=America/Denver:20250426T220000
DTSTAMP:20260425T093147
CREATED:20250402T210406Z
LAST-MODIFIED:20250402T210406Z
UID:10004332-1745694000-1745704800@pikespkblues.org
SUMMARY:The Randall Dubis Band
DESCRIPTION:The Randall Dubis Band @ Horseshoe Black Hawk Casino\, Black Hawk on Saturday\, April 26th at 7:00 pm
URL:https://pikespkblues.org/event/the-randall-dubis-band-3/
LOCATION:Horseshoe Black Hawk Casino\, 401 Main St\, Black Hawk\, CO\, 80422\, United States
CATEGORIES:Concerts
END:VEVENT
BEGIN:VEVENT
DTSTART;TZID=America/Denver:20250426T190000
DTEND;TZID=America/Denver:20250426T190000
DTSTAMP:20260425T093147
CREATED:20250307T150950Z
LAST-MODIFIED:20250402T224919Z
UID:10004307-1745694000-1745694000@pikespkblues.org
SUMMARY:Hurricane Dave and The Storm Chasers
DESCRIPTION:Hurricane Dave and The Storm Chasers @ Mother Muffs\, Old Colorado City\, on Saturday\, April 26th at 7:00 pm
URL:https://pikespkblues.org/event/hurricane-dave-and-the-storm-chasers-5/
LOCATION:Mother Muff’s Kitchen and Spirits\, 2432 W Colorado Ave\, Colorado Springs\, CO\, 80904
CATEGORIES:Concerts
END:VEVENT
BEGIN:VEVENT
DTSTART;TZID=America/Denver:20250426T183000
DTEND;TZID=America/Denver:20250426T210000
DTSTAMP:20260425T093147
CREATED:20250328T010730Z
LAST-MODIFIED:20250402T222250Z
UID:10004322-1745692200-1745701200@pikespkblues.org
SUMMARY:PPBC/Dizzy Charlie’s Joint Blues/Jazz concert with Heavy Devils and Hoodoo Honey
DESCRIPTION:Pikes Peak Blues Community/Dizzy Charlie’s Pop Up Jazz Joint Blues/Jazz concert with Heavy Devils and Hoodoo Honey @ Summa Taphouse\, 817 W Colorado Ave on Saturday\, April 26th at 6:30 pm.  Tickets ($10.00 each) can be purchased at the door or in advance at https://dizzycharlies.com/tickets/pblues-jazz-nite-1?.
URL:https://pikespkblues.org/event/ppbc-dizzy-charlies-joint-blues-jazz-concert-with-heavy-devils-and-hoodoo-honey/
LOCATION:Summa\, 817 W. Colorado Ave\, Colorado Springs\, CO\, 80905\, United States
CATEGORIES:Concerts
END:VEVENT
BEGIN:VEVENT
DTSTART;TZID=America/Denver:20250426T130000
DTEND;TZID=America/Denver:20250426T160000
DTSTAMP:20260425T093147
CREATED:20250402T204115Z
LAST-MODIFIED:20250402T223859Z
UID:10004328-1745672400-1745683200@pikespkblues.org
SUMMARY:The Randall Dubis Band
DESCRIPTION:The Randall Dubis Band @ The Crawfish Boil at Rockabillies Bar & Grill\, Arvada on Saturday\, April 26th at 1:00 pm
URL:https://pikespkblues.org/event/the-randall-dubis-band-2/
LOCATION:Rockabillies Bar & Grill\, 12363 W 64th Ave\, Arvada\, CO\, 80004\, United States
CATEGORIES:Concerts
END:VEVENT
BEGIN:VEVENT
DTSTART;TZID=America/Denver:20250425T190000
DTEND;TZID=America/Denver:20250425T220000
DTSTAMP:20260425T093147
CREATED:20250416T211611Z
LAST-MODIFIED:20250416T211611Z
UID:10004357-1745607600-1745618400@pikespkblues.org
SUMMARY:The Delta Sonics and Rex Peoples
DESCRIPTION:The Delta Sonics with Al Chesis and Rex Peoples @ Roots Music Project\, Boulder on Friday\, April 25th at 7:00 pm
URL:https://pikespkblues.org/event/the-delta-sonics-and-rex-peoples/
LOCATION:Roots Music Project\, 4747 Pearl St Suite V3A\, Boulder\, CO\, 80301
CATEGORIES:Concerts
END:VEVENT
BEGIN:VEVENT
DTSTART;TZID=America/Denver:20250425T120000
DTEND;TZID=America/Denver:20250425T130000
DTSTAMP:20260425T093147
CREATED:20240608T152048Z
LAST-MODIFIED:20250205T153915Z
UID:10001868-1745582400-1745586000@pikespkblues.org
SUMMARY:Jazz 93.5 Community Blues Hour with BJ Estares
DESCRIPTION:
URL:https://pikespkblues.org/event/jazz-93-5-community-blues-hour-with-bj-estares/2025-04-25/
LOCATION:CO
END:VEVENT
BEGIN:VEVENT
DTSTART;TZID=America/Denver:20250424T190000
DTEND;TZID=America/Denver:20250424T220000
DTSTAMP:20260425T093147
CREATED:20250416T211250Z
LAST-MODIFIED:20250416T211250Z
UID:10004356-1745521200-1745532000@pikespkblues.org
SUMMARY:The Delta Sonics
DESCRIPTION:The Delta Sonics with Al Chesis @ Two Moons Music Hall\, Denver on Thursday\, April 24th at 7:00 pm
URL:https://pikespkblues.org/event/the-delta-sonics-8/
LOCATION:Two Moons Music Hall\, 2944 Larimer St\, Denver\, CO\, 80205\, United States
CATEGORIES:Concerts
END:VEVENT
BEGIN:VEVENT
DTSTART;TZID=America/Denver:20250424T120000
DTEND;TZID=America/Denver:20250424T130000
DTSTAMP:20260425T093147
CREATED:20240608T152048Z
LAST-MODIFIED:20250205T153915Z
UID:10001867-1745496000-1745499600@pikespkblues.org
SUMMARY:Jazz 93.5 Community Blues Hour with BJ Estares
DESCRIPTION:
URL:https://pikespkblues.org/event/jazz-93-5-community-blues-hour-with-bj-estares/2025-04-24/
LOCATION:CO
END:VEVENT
BEGIN:VEVENT
DTSTART;TZID=America/Denver:20250423T120000
DTEND;TZID=America/Denver:20250423T130000
DTSTAMP:20260425T093147
CREATED:20240608T152048Z
LAST-MODIFIED:20250205T153915Z
UID:10001866-1745409600-1745413200@pikespkblues.org
SUMMARY:Jazz 93.5 Community Blues Hour with BJ Estares
DESCRIPTION:
URL:https://pikespkblues.org/event/jazz-93-5-community-blues-hour-with-bj-estares/2025-04-23/
LOCATION:CO
END:VEVENT
BEGIN:VEVENT
DTSTART;TZID=America/Denver:20250422T120000
DTEND;TZID=America/Denver:20250422T130000
DTSTAMP:20260425T093147
CREATED:20240608T152048Z
LAST-MODIFIED:20250205T153915Z
UID:10001865-1745323200-1745326800@pikespkblues.org
SUMMARY:Jazz 93.5 Community Blues Hour with BJ Estares
DESCRIPTION:
URL:https://pikespkblues.org/event/jazz-93-5-community-blues-hour-with-bj-estares/2025-04-22/
LOCATION:CO
END:VEVENT
BEGIN:VEVENT
DTSTART;TZID=America/Denver:20250421T120000
DTEND;TZID=America/Denver:20250421T130000
DTSTAMP:20260425T093147
CREATED:20240608T152048Z
LAST-MODIFIED:20250205T153915Z
UID:10001864-1745236800-1745240400@pikespkblues.org
SUMMARY:Jazz 93.5 Community Blues Hour with BJ Estares
DESCRIPTION:
URL:https://pikespkblues.org/event/jazz-93-5-community-blues-hour-with-bj-estares/2025-04-21/
LOCATION:CO
END:VEVENT
BEGIN:VEVENT
DTSTART;TZID=America/Denver:20250419T190000
DTEND;TZID=America/Denver:20250419T230000
DTSTAMP:20260425T093147
CREATED:20250402T205011Z
LAST-MODIFIED:20250402T205011Z
UID:10004330-1745089200-1745103600@pikespkblues.org
SUMMARY:Billy Hoke’s XTRAV XVIII Pro Invite Super Jam
DESCRIPTION:Billy Hoke’s XTRAV XVIII Pro Invite Super Jam @ Roots Music Project\, Boulder on Saturday April 19th at 7:00 pm
URL:https://pikespkblues.org/event/billy-hokes-xtrav-xviii-pro-invite-super-jam/
LOCATION:Roots Music Project\, 4747 Pearl St Suite V3A\, Boulder\, CO\, 80301
CATEGORIES:Concerts
END:VEVENT
BEGIN:VEVENT
DTSTART;TZID=America/Denver:20250418T180000
DTEND;TZID=America/Denver:20250418T210000
DTSTAMP:20260425T093147
CREATED:20250416T210912Z
LAST-MODIFIED:20250416T224838Z
UID:10004355-1744999200-1745010000@pikespkblues.org
SUMMARY:The Delta Sonics
DESCRIPTION:The Delta Sonics with Al Chesis @ The Rusty Bucket Bar and Grill\, Lakewood on Friday\, April 18th at 6:00 pm
URL:https://pikespkblues.org/event/the-delta-sonics-7/
LOCATION:The Rusty Bucket Bar and Grill\, 3355 S Wadsworth\, Lakewood\, CO\, 80277\, United States
CATEGORIES:Concerts
END:VEVENT
BEGIN:VEVENT
DTSTART;TZID=America/Denver:20250418T120000
DTEND;TZID=America/Denver:20250418T130000
DTSTAMP:20260425T093147
CREATED:20240608T152048Z
LAST-MODIFIED:20250205T153915Z
UID:10001863-1744977600-1744981200@pikespkblues.org
SUMMARY:Jazz 93.5 Community Blues Hour with BJ Estares
DESCRIPTION:
URL:https://pikespkblues.org/event/jazz-93-5-community-blues-hour-with-bj-estares/2025-04-18/
LOCATION:CO
END:VEVENT
BEGIN:VEVENT
DTSTART;TZID=America/Denver:20250417T120000
DTEND;TZID=America/Denver:20250417T130000
DTSTAMP:20260425T093147
CREATED:20240608T152048Z
LAST-MODIFIED:20250205T153915Z
UID:10001862-1744891200-1744894800@pikespkblues.org
SUMMARY:Jazz 93.5 Community Blues Hour with BJ Estares
DESCRIPTION:
URL:https://pikespkblues.org/event/jazz-93-5-community-blues-hour-with-bj-estares/2025-04-17/
LOCATION:CO
END:VEVENT
BEGIN:VEVENT
DTSTART;TZID=America/Denver:20250416T120000
DTEND;TZID=America/Denver:20250416T130000
DTSTAMP:20260425T093147
CREATED:20240608T152048Z
LAST-MODIFIED:20250205T153915Z
UID:10001861-1744804800-1744808400@pikespkblues.org
SUMMARY:Jazz 93.5 Community Blues Hour with BJ Estares
DESCRIPTION:
URL:https://pikespkblues.org/event/jazz-93-5-community-blues-hour-with-bj-estares/2025-04-16/
LOCATION:CO
END:VEVENT
BEGIN:VEVENT
DTSTART;TZID=America/Denver:20250415T120000
DTEND;TZID=America/Denver:20250415T130000
DTSTAMP:20260425T093147
CREATED:20240608T152048Z
LAST-MODIFIED:20250205T153915Z
UID:10001860-1744718400-1744722000@pikespkblues.org
SUMMARY:Jazz 93.5 Community Blues Hour with BJ Estares
DESCRIPTION:
URL:https://pikespkblues.org/event/jazz-93-5-community-blues-hour-with-bj-estares/2025-04-15/
LOCATION:CO
END:VEVENT
BEGIN:VEVENT
DTSTART;TZID=America/Denver:20250414T120000
DTEND;TZID=America/Denver:20250414T130000
DTSTAMP:20260425T093147
CREATED:20240608T152048Z
LAST-MODIFIED:20250205T153915Z
UID:10001859-1744632000-1744635600@pikespkblues.org
SUMMARY:Jazz 93.5 Community Blues Hour with BJ Estares
DESCRIPTION:
URL:https://pikespkblues.org/event/jazz-93-5-community-blues-hour-with-bj-estares/2025-04-14/
LOCATION:CO
END:VEVENT
BEGIN:VEVENT
DTSTART;TZID=America/Denver:20250412T130000
DTEND;TZID=America/Denver:20250412T153000
DTSTAMP:20260425T093147
CREATED:20250402T203937Z
LAST-MODIFIED:20250402T223701Z
UID:10004327-1744462800-1744471800@pikespkblues.org
SUMMARY:The Randall Dubis Band
DESCRIPTION:The Randall Dubis Band @ The Crawfish Boil at Rockabillies Bar & Grill\, Arvada on Saturday\, April 12th at 1:00 pm
URL:https://pikespkblues.org/event/the-randall-dubis-band/
LOCATION:Rockabillies Bar & Grill\, 12363 W 64th Ave\, Arvada\, CO\, 80004\, United States
CATEGORIES:Concerts
END:VEVENT
BEGIN:VEVENT
DTSTART;TZID=America/Denver:20250411T193000
DTEND;TZID=America/Denver:20250411T220000
DTSTAMP:20260425T093147
CREATED:20250318T000804Z
LAST-MODIFIED:20250318T000804Z
UID:10004321-1744399800-1744408800@pikespkblues.org
SUMMARY:Southern Avenue
DESCRIPTION:Southern Avenue @ The Basement at Oskar Blues Colorado Springs\, 118 N Tejon St on Friday\, April 11th at 7:30 pm
URL:https://pikespkblues.org/event/southern-avenue/
LOCATION:The Basement at Oskar Blues Colorado Springs\, 118 N Tejon St\, Colorado Springs\, CO\, 80904\, United States
CATEGORIES:Concerts
END:VEVENT
BEGIN:VEVENT
DTSTART;TZID=America/Denver:20250411T190000
DTEND;TZID=America/Denver:20250411T213000
DTSTAMP:20260425T093147
CREATED:20240913T174730Z
LAST-MODIFIED:20240920T025110Z
UID:10003803-1744398000-1744407000@pikespkblues.org
SUMMARY:The Kent Burnside Blues Band
DESCRIPTION:The Kent Burnside Blues Band @ Dazzle\, Denver 4/11 7:00 pm
URL:https://pikespkblues.org/event/the-kent-burnside-blues-band/
LOCATION:Dazzle\, 1080 14th Street\, Denver\, CO\, 80202
CATEGORIES:Concerts
END:VEVENT
BEGIN:VEVENT
DTSTART;TZID=America/Denver:20250411T120000
DTEND;TZID=America/Denver:20250411T130000
DTSTAMP:20260425T093147
CREATED:20240608T152048Z
LAST-MODIFIED:20250205T153915Z
UID:10001858-1744372800-1744376400@pikespkblues.org
SUMMARY:Jazz 93.5 Community Blues Hour with BJ Estares
DESCRIPTION:
URL:https://pikespkblues.org/event/jazz-93-5-community-blues-hour-with-bj-estares/2025-04-11/
LOCATION:CO
END:VEVENT
BEGIN:VEVENT
DTSTART;TZID=America/Denver:20250410T190000
DTEND;TZID=America/Denver:20250410T220000
DTSTAMP:20260425T093147
CREATED:20250402T220523Z
LAST-MODIFIED:20250402T220523Z
UID:10004340-1744311600-1744322400@pikespkblues.org
SUMMARY:Southern Avenue
DESCRIPTION:Southern Avenue @ Cervantes’ Other Side\, Denver on Thursday\, April 10th at 7:00 pm
URL:https://pikespkblues.org/event/southern-avenue-2/
LOCATION:Cervantes’ Other Side\, 2637 Welton St\, Denver\, CO\, 80205\, United States
CATEGORIES:Concerts
END:VEVENT
BEGIN:VEVENT
DTSTART;TZID=America/Denver:20250410T120000
DTEND;TZID=America/Denver:20250410T130000
DTSTAMP:20260425T093147
CREATED:20240608T152048Z
LAST-MODIFIED:20250205T153915Z
UID:10001857-1744286400-1744290000@pikespkblues.org
SUMMARY:Jazz 93.5 Community Blues Hour with BJ Estares
DESCRIPTION:
URL:https://pikespkblues.org/event/jazz-93-5-community-blues-hour-with-bj-estares/2025-04-10/
LOCATION:CO
END:VEVENT
BEGIN:VEVENT
DTSTART;TZID=America/Denver:20250409T120000
DTEND;TZID=America/Denver:20250409T130000
DTSTAMP:20260425T093147
CREATED:20240608T152048Z
LAST-MODIFIED:20250205T153915Z
UID:10001856-1744200000-1744203600@pikespkblues.org
SUMMARY:Jazz 93.5 Community Blues Hour with BJ Estares
DESCRIPTION:
URL:https://pikespkblues.org/event/jazz-93-5-community-blues-hour-with-bj-estares/2025-04-09/
LOCATION:CO
END:VEVENT
BEGIN:VEVENT
DTSTART;TZID=America/Denver:20250408T190000
DTEND;TZID=America/Denver:20250408T213000
DTSTAMP:20260425T093147
CREATED:20250402T203037Z
LAST-MODIFIED:20250402T203037Z
UID:10004326-1744138800-1744147800@pikespkblues.org
SUMMARY:Randall Dubis
DESCRIPTION:Randall Dubis @ Morrison Holiday Bar\, Morrison on Tuesday\, April 8 at 7:00 pm
URL:https://pikespkblues.org/event/randall-dubis-2/
LOCATION:Morrison Holiday Bar\, 403 Bear Creek Ave\, Morrison\, CO\, 80465
CATEGORIES:Concerts
END:VEVENT
END:VCALENDAR