BEGIN:VCALENDAR
VERSION:2.0
PRODID:-//Pikes Peak Blues Community - ECPv6.15.20//NONSGML v1.0//EN
CALSCALE:GREGORIAN
METHOD:PUBLISH
X-ORIGINAL-URL:https://pikespkblues.org
X-WR-CALDESC:Events for Pikes Peak Blues Community
REFRESH-INTERVAL;VALUE=DURATION:PT1H
X-Robots-Tag:noindex
X-PUBLISHED-TTL:PT1H
BEGIN:VTIMEZONE
TZID:America/Denver
BEGIN:DAYLIGHT
TZOFFSETFROM:-0700
TZOFFSETTO:-0600
TZNAME:MDT
DTSTART:20250309T090000
END:DAYLIGHT
BEGIN:STANDARD
TZOFFSETFROM:-0600
TZOFFSETTO:-0700
TZNAME:MST
DTSTART:20251102T080000
END:STANDARD
BEGIN:DAYLIGHT
TZOFFSETFROM:-0700
TZOFFSETTO:-0600
TZNAME:MDT
DTSTART:20260308T090000
END:DAYLIGHT
BEGIN:STANDARD
TZOFFSETFROM:-0600
TZOFFSETTO:-0700
TZNAME:MST
DTSTART:20261101T080000
END:STANDARD
BEGIN:DAYLIGHT
TZOFFSETFROM:-0700
TZOFFSETTO:-0600
TZNAME:MDT
DTSTART:20270314T090000
END:DAYLIGHT
BEGIN:STANDARD
TZOFFSETFROM:-0600
TZOFFSETTO:-0700
TZNAME:MST
DTSTART:20271107T080000
END:STANDARD
END:VTIMEZONE
BEGIN:VEVENT
DTSTART;TZID=America/Denver:20260628T080000
DTEND;TZID=America/Denver:20260628T170000
DTSTAMP:20260423T162512
CREATED:20260212T021836Z
LAST-MODIFIED:20260324T194741Z
UID:10005689-1782633600-1782666000@pikespkblues.org
SUMMARY:24th Annual Blues From The Top Music Festival - Day 3 on June 28\, 2026
DESCRIPTION:Grand County Blues Society’s 24th Blues From The Top Music Festival – Day 3 @ Rendezvous Event Center\, Winter Park on Sunday\, June 28th\, featuring Los Lobos; Southern Hospitality; Damon Fowler\, J.P. Soars\, and Victor Wainwright; Blind Boys of Alabama; and Vanessa Collier. Doors open at 10:00 am. Tickets on sale now.
URL:https://pikespkblues.org/event/blues-from-the-top-music-festival-june-26-27-and-28-2026-3/
LOCATION:Rendezvous Event Center\, 78821 U.S. 40\, Winter Park\, CO\, 80482\, United States
CATEGORIES:Concerts
END:VEVENT
BEGIN:VEVENT
DTSTART;TZID=America/Denver:20260629T120000
DTEND;TZID=America/Denver:20260629T130000
DTSTAMP:20260423T162512
CREATED:20240608T152048Z
LAST-MODIFIED:20250205T153915Z
UID:10002174-1782734400-1782738000@pikespkblues.org
SUMMARY:Jazz 93.5 Community Blues Hour with BJ Estares
DESCRIPTION:
URL:https://pikespkblues.org/event/jazz-93-5-community-blues-hour-with-bj-estares/2026-06-29/
LOCATION:CO
END:VEVENT
BEGIN:VEVENT
DTSTART;TZID=America/Denver:20260630T120000
DTEND;TZID=America/Denver:20260630T130000
DTSTAMP:20260423T162512
CREATED:20240608T152048Z
LAST-MODIFIED:20250205T153915Z
UID:10002175-1782820800-1782824400@pikespkblues.org
SUMMARY:Jazz 93.5 Community Blues Hour with BJ Estares
DESCRIPTION:
URL:https://pikespkblues.org/event/jazz-93-5-community-blues-hour-with-bj-estares/2026-06-30/
LOCATION:CO
END:VEVENT
BEGIN:VEVENT
DTSTART;TZID=America/Denver:20260630T180000
DTEND;TZID=America/Denver:20260630T210000
DTSTAMP:20260423T162512
CREATED:20251004T004608Z
LAST-MODIFIED:20251004T182250Z
UID:10004818-1782842400-1782853200@pikespkblues.org
SUMMARY:Sweet T's Rude Blues Jam on Tuesdays at PEAK 31
DESCRIPTION:Sweet T’s Rude Blues Jam @ PEAK 31\, 2419 N Union Blvd (80909) on Tuesdays\, from 6:00 pm to 9:00 pm.
URL:https://pikespkblues.org/event/sweet-ts-rude-blues-jam-on-tuesdays-at-peak-31/2026-06-30/
LOCATION:PEAK 31\, 2419 N Union Blvd\, Colorado Springs\, CO\, 80909\, United States
CATEGORIES:Jams
END:VEVENT
BEGIN:VEVENT
DTSTART;TZID=America/Denver:20260701T120000
DTEND;TZID=America/Denver:20260701T130000
DTSTAMP:20260423T162512
CREATED:20240608T152048Z
LAST-MODIFIED:20250205T153915Z
UID:10002176-1782907200-1782910800@pikespkblues.org
SUMMARY:Jazz 93.5 Community Blues Hour with BJ Estares
DESCRIPTION:
URL:https://pikespkblues.org/event/jazz-93-5-community-blues-hour-with-bj-estares/2026-07-01/
LOCATION:CO
END:VEVENT
BEGIN:VEVENT
DTSTART;TZID=America/Denver:20260702T120000
DTEND;TZID=America/Denver:20260702T130000
DTSTAMP:20260423T162512
CREATED:20240608T152048Z
LAST-MODIFIED:20250205T153915Z
UID:10002177-1782993600-1782997200@pikespkblues.org
SUMMARY:Jazz 93.5 Community Blues Hour with BJ Estares
DESCRIPTION:
URL:https://pikespkblues.org/event/jazz-93-5-community-blues-hour-with-bj-estares/2026-07-02/
LOCATION:CO
END:VEVENT
BEGIN:VEVENT
DTSTART;TZID=America/Denver:20260702T200000
DTEND;TZID=America/Denver:20260702T230000
DTSTAMP:20260423T162512
CREATED:20260221T045616Z
LAST-MODIFIED:20260221T045617Z
UID:10005702-1783022400-1783033200@pikespkblues.org
SUMMARY:Blues Jam hosted by Randy Stephens & the Groove Makers
DESCRIPTION:Blues Jam hosted by Randy Stephens & the Groove Makers @ Kinfolks\, 950 Manitou Ave\, Manitou Springs on the first Thursday of  the month from 8:00 pm to 11:00 pm. Sign up start at 7:30 pm. Bring your own axe and jam with these award winning musicians. Keys\, drums\, and amps provided. Horn players welcome.
URL:https://pikespkblues.org/event/stormy-monday-blues-jam-hosted-by-randy-stephens-the-groove-makers-2-2/2026-07-02/
LOCATION:Kinsfolks\, 950 Manitou Ave\, Manitou Springs\, CO\, 80829
CATEGORIES:Jams
END:VEVENT
BEGIN:VEVENT
DTSTART;TZID=America/Denver:20260703T120000
DTEND;TZID=America/Denver:20260703T130000
DTSTAMP:20260423T162512
CREATED:20240608T152048Z
LAST-MODIFIED:20250205T153915Z
UID:10002178-1783080000-1783083600@pikespkblues.org
SUMMARY:Jazz 93.5 Community Blues Hour with BJ Estares
DESCRIPTION:
URL:https://pikespkblues.org/event/jazz-93-5-community-blues-hour-with-bj-estares/2026-07-03/
LOCATION:CO
END:VEVENT
BEGIN:VEVENT
DTSTART;TZID=America/Denver:20260706T120000
DTEND;TZID=America/Denver:20260706T130000
DTSTAMP:20260423T162512
CREATED:20240608T152048Z
LAST-MODIFIED:20250205T153915Z
UID:10002179-1783339200-1783342800@pikespkblues.org
SUMMARY:Jazz 93.5 Community Blues Hour with BJ Estares
DESCRIPTION:
URL:https://pikespkblues.org/event/jazz-93-5-community-blues-hour-with-bj-estares/2026-07-06/
LOCATION:CO
END:VEVENT
BEGIN:VEVENT
DTSTART;TZID=America/Denver:20260707T120000
DTEND;TZID=America/Denver:20260707T130000
DTSTAMP:20260423T162512
CREATED:20240608T152048Z
LAST-MODIFIED:20250205T153915Z
UID:10002180-1783425600-1783429200@pikespkblues.org
SUMMARY:Jazz 93.5 Community Blues Hour with BJ Estares
DESCRIPTION:
URL:https://pikespkblues.org/event/jazz-93-5-community-blues-hour-with-bj-estares/2026-07-07/
LOCATION:CO
END:VEVENT
BEGIN:VEVENT
DTSTART;TZID=America/Denver:20260707T180000
DTEND;TZID=America/Denver:20260707T210000
DTSTAMP:20260423T162512
CREATED:20251004T004608Z
LAST-MODIFIED:20251004T182250Z
UID:10004819-1783447200-1783458000@pikespkblues.org
SUMMARY:Sweet T's Rude Blues Jam on Tuesdays at PEAK 31
DESCRIPTION:Sweet T’s Rude Blues Jam @ PEAK 31\, 2419 N Union Blvd (80909) on Tuesdays\, from 6:00 pm to 9:00 pm.
URL:https://pikespkblues.org/event/sweet-ts-rude-blues-jam-on-tuesdays-at-peak-31/2026-07-07/
LOCATION:PEAK 31\, 2419 N Union Blvd\, Colorado Springs\, CO\, 80909\, United States
CATEGORIES:Jams
END:VEVENT
BEGIN:VEVENT
DTSTART;TZID=America/Denver:20260708T120000
DTEND;TZID=America/Denver:20260708T130000
DTSTAMP:20260423T162512
CREATED:20240608T152048Z
LAST-MODIFIED:20250205T153915Z
UID:10002181-1783512000-1783515600@pikespkblues.org
SUMMARY:Jazz 93.5 Community Blues Hour with BJ Estares
DESCRIPTION:
URL:https://pikespkblues.org/event/jazz-93-5-community-blues-hour-with-bj-estares/2026-07-08/
LOCATION:CO
END:VEVENT
BEGIN:VEVENT
DTSTART;TZID=America/Denver:20260709T120000
DTEND;TZID=America/Denver:20260709T130000
DTSTAMP:20260423T162512
CREATED:20240608T152048Z
LAST-MODIFIED:20250205T153915Z
UID:10002182-1783598400-1783602000@pikespkblues.org
SUMMARY:Jazz 93.5 Community Blues Hour with BJ Estares
DESCRIPTION:
URL:https://pikespkblues.org/event/jazz-93-5-community-blues-hour-with-bj-estares/2026-07-09/
LOCATION:CO
END:VEVENT
BEGIN:VEVENT
DTSTART;TZID=America/Denver:20260710T120000
DTEND;TZID=America/Denver:20260710T130000
DTSTAMP:20260423T162512
CREATED:20240608T152048Z
LAST-MODIFIED:20250205T153915Z
UID:10002183-1783684800-1783688400@pikespkblues.org
SUMMARY:Jazz 93.5 Community Blues Hour with BJ Estares
DESCRIPTION:
URL:https://pikespkblues.org/event/jazz-93-5-community-blues-hour-with-bj-estares/2026-07-10/
LOCATION:CO
END:VEVENT
BEGIN:VEVENT
DTSTART;TZID=America/Denver:20260713T120000
DTEND;TZID=America/Denver:20260713T130000
DTSTAMP:20260423T162512
CREATED:20240608T152048Z
LAST-MODIFIED:20250205T153915Z
UID:10002184-1783944000-1783947600@pikespkblues.org
SUMMARY:Jazz 93.5 Community Blues Hour with BJ Estares
DESCRIPTION:
URL:https://pikespkblues.org/event/jazz-93-5-community-blues-hour-with-bj-estares/2026-07-13/
LOCATION:CO
END:VEVENT
BEGIN:VEVENT
DTSTART;TZID=America/Denver:20260714T120000
DTEND;TZID=America/Denver:20260714T130000
DTSTAMP:20260423T162512
CREATED:20240608T152048Z
LAST-MODIFIED:20250205T153915Z
UID:10002185-1784030400-1784034000@pikespkblues.org
SUMMARY:Jazz 93.5 Community Blues Hour with BJ Estares
DESCRIPTION:
URL:https://pikespkblues.org/event/jazz-93-5-community-blues-hour-with-bj-estares/2026-07-14/
LOCATION:CO
END:VEVENT
BEGIN:VEVENT
DTSTART;TZID=America/Denver:20260714T180000
DTEND;TZID=America/Denver:20260714T210000
DTSTAMP:20260423T162512
CREATED:20251004T004608Z
LAST-MODIFIED:20251004T182250Z
UID:10004820-1784052000-1784062800@pikespkblues.org
SUMMARY:Sweet T's Rude Blues Jam on Tuesdays at PEAK 31
DESCRIPTION:Sweet T’s Rude Blues Jam @ PEAK 31\, 2419 N Union Blvd (80909) on Tuesdays\, from 6:00 pm to 9:00 pm.
URL:https://pikespkblues.org/event/sweet-ts-rude-blues-jam-on-tuesdays-at-peak-31/2026-07-14/
LOCATION:PEAK 31\, 2419 N Union Blvd\, Colorado Springs\, CO\, 80909\, United States
CATEGORIES:Jams
END:VEVENT
BEGIN:VEVENT
DTSTART;TZID=America/Denver:20260715T120000
DTEND;TZID=America/Denver:20260715T130000
DTSTAMP:20260423T162512
CREATED:20240608T152048Z
LAST-MODIFIED:20250205T153915Z
UID:10002186-1784116800-1784120400@pikespkblues.org
SUMMARY:Jazz 93.5 Community Blues Hour with BJ Estares
DESCRIPTION:
URL:https://pikespkblues.org/event/jazz-93-5-community-blues-hour-with-bj-estares/2026-07-15/
LOCATION:CO
END:VEVENT
BEGIN:VEVENT
DTSTART;TZID=America/Denver:20260716T120000
DTEND;TZID=America/Denver:20260716T130000
DTSTAMP:20260423T162512
CREATED:20240608T152048Z
LAST-MODIFIED:20250205T153915Z
UID:10002187-1784203200-1784206800@pikespkblues.org
SUMMARY:Jazz 93.5 Community Blues Hour with BJ Estares
DESCRIPTION:
URL:https://pikespkblues.org/event/jazz-93-5-community-blues-hour-with-bj-estares/2026-07-16/
LOCATION:CO
END:VEVENT
BEGIN:VEVENT
DTSTART;TZID=America/Denver:20260717T120000
DTEND;TZID=America/Denver:20260717T130000
DTSTAMP:20260423T162512
CREATED:20240608T152048Z
LAST-MODIFIED:20250205T153915Z
UID:10002188-1784289600-1784293200@pikespkblues.org
SUMMARY:Jazz 93.5 Community Blues Hour with BJ Estares
DESCRIPTION:
URL:https://pikespkblues.org/event/jazz-93-5-community-blues-hour-with-bj-estares/2026-07-17/
LOCATION:CO
END:VEVENT
BEGIN:VEVENT
DTSTART;TZID=America/Denver:20260720T120000
DTEND;TZID=America/Denver:20260720T130000
DTSTAMP:20260423T162512
CREATED:20240608T152048Z
LAST-MODIFIED:20250205T153915Z
UID:10002189-1784548800-1784552400@pikespkblues.org
SUMMARY:Jazz 93.5 Community Blues Hour with BJ Estares
DESCRIPTION:
URL:https://pikespkblues.org/event/jazz-93-5-community-blues-hour-with-bj-estares/2026-07-20/
LOCATION:CO
END:VEVENT
BEGIN:VEVENT
DTSTART;TZID=America/Denver:20260721T120000
DTEND;TZID=America/Denver:20260721T130000
DTSTAMP:20260423T162512
CREATED:20240608T152048Z
LAST-MODIFIED:20250205T153915Z
UID:10002190-1784635200-1784638800@pikespkblues.org
SUMMARY:Jazz 93.5 Community Blues Hour with BJ Estares
DESCRIPTION:
URL:https://pikespkblues.org/event/jazz-93-5-community-blues-hour-with-bj-estares/2026-07-21/
LOCATION:CO
END:VEVENT
BEGIN:VEVENT
DTSTART;TZID=America/Denver:20260721T180000
DTEND;TZID=America/Denver:20260721T210000
DTSTAMP:20260423T162512
CREATED:20251004T004608Z
LAST-MODIFIED:20251004T182250Z
UID:10004821-1784656800-1784667600@pikespkblues.org
SUMMARY:Sweet T's Rude Blues Jam on Tuesdays at PEAK 31
DESCRIPTION:Sweet T’s Rude Blues Jam @ PEAK 31\, 2419 N Union Blvd (80909) on Tuesdays\, from 6:00 pm to 9:00 pm.
URL:https://pikespkblues.org/event/sweet-ts-rude-blues-jam-on-tuesdays-at-peak-31/2026-07-21/
LOCATION:PEAK 31\, 2419 N Union Blvd\, Colorado Springs\, CO\, 80909\, United States
CATEGORIES:Jams
END:VEVENT
BEGIN:VEVENT
DTSTART;TZID=America/Denver:20260722T120000
DTEND;TZID=America/Denver:20260722T130000
DTSTAMP:20260423T162512
CREATED:20240608T152048Z
LAST-MODIFIED:20250205T153915Z
UID:10002191-1784721600-1784725200@pikespkblues.org
SUMMARY:Jazz 93.5 Community Blues Hour with BJ Estares
DESCRIPTION:
URL:https://pikespkblues.org/event/jazz-93-5-community-blues-hour-with-bj-estares/2026-07-22/
LOCATION:CO
END:VEVENT
BEGIN:VEVENT
DTSTART;TZID=America/Denver:20260723T120000
DTEND;TZID=America/Denver:20260723T130000
DTSTAMP:20260423T162512
CREATED:20240608T152048Z
LAST-MODIFIED:20250205T153915Z
UID:10002192-1784808000-1784811600@pikespkblues.org
SUMMARY:Jazz 93.5 Community Blues Hour with BJ Estares
DESCRIPTION:
URL:https://pikespkblues.org/event/jazz-93-5-community-blues-hour-with-bj-estares/2026-07-23/
LOCATION:CO
END:VEVENT
BEGIN:VEVENT
DTSTART;TZID=America/Denver:20260724T120000
DTEND;TZID=America/Denver:20260724T130000
DTSTAMP:20260423T162512
CREATED:20240608T152048Z
LAST-MODIFIED:20250205T153915Z
UID:10002193-1784894400-1784898000@pikespkblues.org
SUMMARY:Jazz 93.5 Community Blues Hour with BJ Estares
DESCRIPTION:
URL:https://pikespkblues.org/event/jazz-93-5-community-blues-hour-with-bj-estares/2026-07-24/
LOCATION:CO
END:VEVENT
BEGIN:VEVENT
DTSTART;TZID=America/Denver:20260724T183000
DTEND;TZID=America/Denver:20260724T213000
DTSTAMP:20260423T162512
CREATED:20260325T205902Z
LAST-MODIFIED:20260325T205902Z
UID:10005800-1784917800-1784928600@pikespkblues.org
SUMMARY:The Cash Box Kings
DESCRIPTION:The Cash Box Kings @ Dazzle\, Denver on Friday\, July 24th at 6:30 pm.
URL:https://pikespkblues.org/event/the-cash-box-kings/
LOCATION:Dazzle\, 1080 14th Street\, Denver\, CO\, 80202
CATEGORIES:Concerts
END:VEVENT
BEGIN:VEVENT
DTSTART;TZID=America/Denver:20260727T120000
DTEND;TZID=America/Denver:20260727T130000
DTSTAMP:20260423T162512
CREATED:20240608T152048Z
LAST-MODIFIED:20250205T153915Z
UID:10002194-1785153600-1785157200@pikespkblues.org
SUMMARY:Jazz 93.5 Community Blues Hour with BJ Estares
DESCRIPTION:
URL:https://pikespkblues.org/event/jazz-93-5-community-blues-hour-with-bj-estares/2026-07-27/
LOCATION:CO
END:VEVENT
BEGIN:VEVENT
DTSTART;TZID=America/Denver:20260728T120000
DTEND;TZID=America/Denver:20260728T130000
DTSTAMP:20260423T162512
CREATED:20240608T152048Z
LAST-MODIFIED:20250205T153915Z
UID:10002195-1785240000-1785243600@pikespkblues.org
SUMMARY:Jazz 93.5 Community Blues Hour with BJ Estares
DESCRIPTION:
URL:https://pikespkblues.org/event/jazz-93-5-community-blues-hour-with-bj-estares/2026-07-28/
LOCATION:CO
END:VEVENT
BEGIN:VEVENT
DTSTART;TZID=America/Denver:20260728T180000
DTEND;TZID=America/Denver:20260728T210000
DTSTAMP:20260423T162512
CREATED:20251004T004608Z
LAST-MODIFIED:20251004T182250Z
UID:10004822-1785261600-1785272400@pikespkblues.org
SUMMARY:Sweet T's Rude Blues Jam on Tuesdays at PEAK 31
DESCRIPTION:Sweet T’s Rude Blues Jam @ PEAK 31\, 2419 N Union Blvd (80909) on Tuesdays\, from 6:00 pm to 9:00 pm.
URL:https://pikespkblues.org/event/sweet-ts-rude-blues-jam-on-tuesdays-at-peak-31/2026-07-28/
LOCATION:PEAK 31\, 2419 N Union Blvd\, Colorado Springs\, CO\, 80909\, United States
CATEGORIES:Jams
END:VEVENT
END:VCALENDAR