BEGIN:VCALENDAR
VERSION:2.0
PRODID:-//Pikes Peak Blues Community - ECPv6.15.20//NONSGML v1.0//EN
CALSCALE:GREGORIAN
METHOD:PUBLISH
X-ORIGINAL-URL:https://pikespkblues.org
X-WR-CALDESC:Events for Pikes Peak Blues Community
REFRESH-INTERVAL;VALUE=DURATION:PT1H
X-Robots-Tag:noindex
X-PUBLISHED-TTL:PT1H
BEGIN:VTIMEZONE
TZID:America/Denver
BEGIN:DAYLIGHT
TZOFFSETFROM:-0700
TZOFFSETTO:-0600
TZNAME:MDT
DTSTART:20250309T090000
END:DAYLIGHT
BEGIN:STANDARD
TZOFFSETFROM:-0600
TZOFFSETTO:-0700
TZNAME:MST
DTSTART:20251102T080000
END:STANDARD
BEGIN:DAYLIGHT
TZOFFSETFROM:-0700
TZOFFSETTO:-0600
TZNAME:MDT
DTSTART:20260308T090000
END:DAYLIGHT
BEGIN:STANDARD
TZOFFSETFROM:-0600
TZOFFSETTO:-0700
TZNAME:MST
DTSTART:20261101T080000
END:STANDARD
BEGIN:DAYLIGHT
TZOFFSETFROM:-0700
TZOFFSETTO:-0600
TZNAME:MDT
DTSTART:20270314T090000
END:DAYLIGHT
BEGIN:STANDARD
TZOFFSETFROM:-0600
TZOFFSETTO:-0700
TZNAME:MST
DTSTART:20271107T080000
END:STANDARD
END:VTIMEZONE
BEGIN:VEVENT
DTSTART;TZID=America/Denver:20260214T183000
DTEND;TZID=America/Denver:20260214T210000
DTSTAMP:20260423T162513
CREATED:20260130T174734Z
LAST-MODIFIED:20260130T174734Z
UID:10005678-1771093800-1771102800@pikespkblues.org
SUMMARY:Delta Sonics with Al Chesis  *** PPBC Member Band ***
DESCRIPTION:Delta Sonics with Al Chesis @ Wholly Stromboli Speakeasy\, Ft. Lupton on Saturday\, February 14th at 6:30 pm. Doors open at 5:30 pm.
URL:https://pikespkblues.org/event/delta-sonics-with-al-chesis-ppbc-member-band-47/
LOCATION:Wholly Stromboli Speakeasy\, 410 Denver Ave\, Ft. Lupton\, CO\, 80621\, United States
CATEGORIES:Concerts
END:VEVENT
BEGIN:VEVENT
DTSTART;TZID=America/Denver:20260214T183000
DTEND;TZID=America/Denver:20260214T223000
DTSTAMP:20260423T162513
CREATED:20251228T192534Z
LAST-MODIFIED:20260101T031003Z
UID:10005637-1771093800-1771108200@pikespkblues.org
SUMMARY:Randy Stephens and The Groove Makers / Hoodoo Honey  *** PPBC Member Band ***
DESCRIPTION:PPBC’s Valentine’s Day Special Double Bill – Randy Stephens and The Groove Makers AND Hoodoo Honey @ PEAK 31\, 2419 North Union Blvd (80909) on February 14th from 6:30 pm to 10:30 pm.  Tickets are $15.00 in advance / $20.00 at the door.
URL:https://pikespkblues.org/event/randy-stephens-and-the-groove-makers-hoodoo-honey-ppbc-member-band/
LOCATION:PEAK 31\, 2419 N Union Blvd\, Colorado Springs\, CO\, 80909\, United States
CATEGORIES:Concerts
END:VEVENT
BEGIN:VEVENT
DTSTART;TZID=America/Denver:20260214T200000
DTEND;TZID=America/Denver:20260214T223000
DTSTAMP:20260423T162513
CREATED:20260128T221228Z
LAST-MODIFIED:20260128T221228Z
UID:10005674-1771099200-1771108200@pikespkblues.org
SUMMARY:The Record Company
DESCRIPTION:The Record Company @ Gothic Theatre\, Englewood on Saturday\, February 14th at 8:00 pm.
URL:https://pikespkblues.org/event/the-record-company/
LOCATION:Gothic Theatre\, 3263 S Broadway\, Englewood\, CO\, 80113\, United States
CATEGORIES:Concerts
END:VEVENT
BEGIN:VEVENT
DTSTART;TZID=America/Denver:20260215T190000
DTEND;TZID=America/Denver:20260215T220000
DTSTAMP:20260423T162513
CREATED:20251123T235542Z
LAST-MODIFIED:20251123T235542Z
UID:10005610-1771182000-1771192800@pikespkblues.org
SUMMARY:Ronnie Baker Brooks with Erica Brown's Big Mama Thorton Project Acoustic
DESCRIPTION:Ronnie Baker Brooks with Erica Brown’s Big Mama Thorton Project Acoustic @ The Oriental Theatre\, Denver on Sunday\, February 15th at 7:00 pm. Doors open at 6:00 pm.
URL:https://pikespkblues.org/event/ronnie-baker-brooks-with-erica-browns-big-mama-thorton-project-acoustic/
LOCATION:Oriental Theater\, 4335 W 44th Ave\, Denver\, CO\, 80212\, United States
CATEGORIES:Concerts
END:VEVENT
BEGIN:VEVENT
DTSTART;TZID=America/Denver:20260216T120000
DTEND;TZID=America/Denver:20260216T130000
DTSTAMP:20260423T162513
CREATED:20240608T152048Z
LAST-MODIFIED:20250205T153915Z
UID:10002079-1771243200-1771246800@pikespkblues.org
SUMMARY:Jazz 93.5 Community Blues Hour with BJ Estares
DESCRIPTION:
URL:https://pikespkblues.org/event/jazz-93-5-community-blues-hour-with-bj-estares/2026-02-16/
LOCATION:CO
END:VEVENT
BEGIN:VEVENT
DTSTART;TZID=America/Denver:20260217T120000
DTEND;TZID=America/Denver:20260217T130000
DTSTAMP:20260423T162513
CREATED:20240608T152048Z
LAST-MODIFIED:20250205T153915Z
UID:10002080-1771329600-1771333200@pikespkblues.org
SUMMARY:Jazz 93.5 Community Blues Hour with BJ Estares
DESCRIPTION:
URL:https://pikespkblues.org/event/jazz-93-5-community-blues-hour-with-bj-estares/2026-02-17/
LOCATION:CO
END:VEVENT
BEGIN:VEVENT
DTSTART;TZID=America/Denver:20260217T160000
DTEND;TZID=America/Denver:20260217T180000
DTSTAMP:20260423T162513
CREATED:20260130T175609Z
LAST-MODIFIED:20260130T175609Z
UID:10005679-1771344000-1771351200@pikespkblues.org
SUMMARY:Delta Sonics with Al Chesis  *** PPBC Member Band ***
DESCRIPTION:Delta Sonics with Al Chesis * Mardi Gras Celebration * @ Nola Jane Restaurant & Bar\, Denver on Monday\, February 17th from 4:00 pm to 6:00 pm.
URL:https://pikespkblues.org/event/delta-sonics-with-al-chesis-ppbc-member-band-48/
LOCATION:Nola Jane Restaurant & Bar\, 1435 Market St\, Denver\, CO\, 80202\, United States
CATEGORIES:Concerts
END:VEVENT
BEGIN:VEVENT
DTSTART;TZID=America/Denver:20260217T180000
DTEND;TZID=America/Denver:20260217T210000
DTSTAMP:20260423T162513
CREATED:20251004T004608Z
LAST-MODIFIED:20251004T182250Z
UID:10004799-1771351200-1771362000@pikespkblues.org
SUMMARY:Sweet T's Rude Blues Jam on Tuesdays at PEAK 31
DESCRIPTION:Sweet T’s Rude Blues Jam @ PEAK 31\, 2419 N Union Blvd (80909) on Tuesdays\, from 6:00 pm to 9:00 pm.
URL:https://pikespkblues.org/event/sweet-ts-rude-blues-jam-on-tuesdays-at-peak-31/2026-02-17/
LOCATION:PEAK 31\, 2419 N Union Blvd\, Colorado Springs\, CO\, 80909\, United States
CATEGORIES:Jams
END:VEVENT
BEGIN:VEVENT
DTSTART;TZID=America/Denver:20260217T190000
DTEND;TZID=America/Denver:20260217T220000
DTSTAMP:20260423T162513
CREATED:20260204T230129Z
LAST-MODIFIED:20260204T230129Z
UID:10005684-1771354800-1771365600@pikespkblues.org
SUMMARY:The Tasty Tunes Jam with Hardy Wright\, Momma T & The All Star Friends
DESCRIPTION:The Tasty Tunes Jam with Hardy Wright\, Momma T & The All Star Friends @ Kinfolks\, Manitou Springs on Tuesday\, February 17th from 7:00 pm to 10:00 pm. Sign up: 6:30 pm.
URL:https://pikespkblues.org/event/the-tasty-tunes-jam-with-hardy-wright-momma-t-the-all-star-friends-2/
LOCATION:Kinsfolks\, 950 Manitou Ave\, Manitou Springs\, CO\, 80829
CATEGORIES:Jams
END:VEVENT
BEGIN:VEVENT
DTSTART;TZID=America/Denver:20260218T120000
DTEND;TZID=America/Denver:20260218T130000
DTSTAMP:20260423T162513
CREATED:20240608T152048Z
LAST-MODIFIED:20250205T153915Z
UID:10002081-1771416000-1771419600@pikespkblues.org
SUMMARY:Jazz 93.5 Community Blues Hour with BJ Estares
DESCRIPTION:
URL:https://pikespkblues.org/event/jazz-93-5-community-blues-hour-with-bj-estares/2026-02-18/
LOCATION:CO
END:VEVENT
BEGIN:VEVENT
DTSTART;TZID=America/Denver:20260219T120000
DTEND;TZID=America/Denver:20260219T130000
DTSTAMP:20260423T162513
CREATED:20240608T152048Z
LAST-MODIFIED:20250205T153915Z
UID:10002082-1771502400-1771506000@pikespkblues.org
SUMMARY:Jazz 93.5 Community Blues Hour with BJ Estares
DESCRIPTION:
URL:https://pikespkblues.org/event/jazz-93-5-community-blues-hour-with-bj-estares/2026-02-19/
LOCATION:CO
END:VEVENT
BEGIN:VEVENT
DTSTART;TZID=America/Denver:20260219T200000
DTEND;TZID=America/Denver:20260219T200000
DTSTAMP:20260423T162513
CREATED:20251025T212956Z
LAST-MODIFIED:20251025T212956Z
UID:10005580-1771531200-1771531200@pikespkblues.org
SUMMARY:Colorado Blues Dance Shimmy Shakin' Blues with Maynard Mills Blues Band
DESCRIPTION:  \n \n \nColorado Blues Dance Shimmy Shakin’ Blues with Maynard Mills Blues Band @ The Pearl\, Denver on Thursday\, February 19th from 8:00 pm to Midnight. Blues Dance Class with blues dance instructor 7:00-8:00 pm.
URL:https://pikespkblues.org/event/colorado-blues-dance-shimmy-shakin-blues-with-maynard-mills-blues-band/
LOCATION:The Pearl\, 2199 California St\, Denver\, CO\, 80205\, United States
CATEGORIES:Concerts,Dance
END:VEVENT
BEGIN:VEVENT
DTSTART;TZID=America/Denver:20260220T110000
DTEND;TZID=America/Denver:20260220T130000
DTSTAMP:20260423T162513
CREATED:20260101T025533Z
LAST-MODIFIED:20260101T025533Z
UID:10005645-1771585200-1771592400@pikespkblues.org
SUMMARY:Jack Hadley - Dazzle Lunch Series
DESCRIPTION:Jack Hadley @ Dazzle Lunch Series\, Dazzle\, Denver on Friday\, February 20th at 11:00 am.
URL:https://pikespkblues.org/event/jack-hadley-dazzle-lunch-series/
LOCATION:Dazzle\, 1080 14th Street\, Denver\, CO\, 80202
CATEGORIES:Concerts
END:VEVENT
BEGIN:VEVENT
DTSTART;TZID=America/Denver:20260220T120000
DTEND;TZID=America/Denver:20260220T130000
DTSTAMP:20260423T162513
CREATED:20240608T152048Z
LAST-MODIFIED:20250205T153915Z
UID:10002083-1771588800-1771592400@pikespkblues.org
SUMMARY:Jazz 93.5 Community Blues Hour with BJ Estares
DESCRIPTION:
URL:https://pikespkblues.org/event/jazz-93-5-community-blues-hour-with-bj-estares/2026-02-20/
LOCATION:CO
END:VEVENT
BEGIN:VEVENT
DTSTART;TZID=America/Denver:20260220T190000
DTEND;TZID=America/Denver:20260220T213000
DTSTAMP:20260423T162513
CREATED:20260128T220120Z
LAST-MODIFIED:20260128T220120Z
UID:10005672-1771614000-1771623000@pikespkblues.org
SUMMARY:Delta Sonics with Al Chesis  *** PPBC Member Band ***
DESCRIPTION:Delta Sonics with Al Chesis @ Spangalang Brewery\, Denver on Friday\, February 20th at 7:00 pm. Doors open at 6:00 pm.
URL:https://pikespkblues.org/event/delta-sonics-with-al-chesis-ppbc-member-band-46/
LOCATION:Spangalang Brewery\, 2736 Welton St\, Denver\, CO\, 80205\, United States
CATEGORIES:Concerts
END:VEVENT
BEGIN:VEVENT
DTSTART;TZID=America/Denver:20260221T183000
DTEND;TZID=America/Denver:20260221T213000
DTSTAMP:20260423T162513
CREATED:20260118T165303Z
LAST-MODIFIED:20260118T165303Z
UID:10005663-1771698600-1771709400@pikespkblues.org
SUMMARY:Joe Sciallo & The Deep End    *** PPBC Member Band ***
DESCRIPTION:Joe Sciallo & The Deep End @ Summa\, 817 W Colorado Ave (80905) on Saturday\, February 21st from 6:30 pm to 9:30 pm.
URL:https://pikespkblues.org/event/joe-sciallo-the-deep-end-ppbc-member-band-3/
LOCATION:Summa\, 817 W. Colorado Ave\, Colorado Springs\, CO\, 80905\, United States
CATEGORIES:Concerts
END:VEVENT
BEGIN:VEVENT
DTSTART;TZID=America/Denver:20260221T190000
DTEND;TZID=America/Denver:20260221T213000
DTSTAMP:20260423T162513
CREATED:20260131T005005Z
LAST-MODIFIED:20260131T005005Z
UID:10005680-1771700400-1771709400@pikespkblues.org
SUMMARY:Jazz at Lincoln Center Presents: Great American Crooners
DESCRIPTION:Jazz at Lincoln Center Presents: Great American Crooners @ Ent Center for the Arts at UCCS\, Colorado Springs on Saturday\, February 21st at 7:00 pm.
URL:https://pikespkblues.org/event/jazz-at-lincoln-center-presents-great-american-crooners/
LOCATION:Ent Center for the Arts at UCCS\, 5225 N Nevada Ave\, Colorado Springs\, CO\, 80918\, United States
CATEGORIES:Concerts
END:VEVENT
BEGIN:VEVENT
DTSTART;TZID=America/Denver:20260221T200000
DTEND;TZID=America/Denver:20260221T230000
DTSTAMP:20260423T162513
CREATED:20260113T234436Z
LAST-MODIFIED:20260113T234436Z
UID:10005658-1771704000-1771714800@pikespkblues.org
SUMMARY:Delta Sonics with Al Chesis  *** PPBC Member Band ***
DESCRIPTION:Delta Sonics with Al Chesis @ Lincoln’s Roadhouse\, Denver on Saturday\, February 21st at 8:00 pm.
URL:https://pikespkblues.org/event/delta-sonics-with-al-chesis-ppbc-member-band-42/
LOCATION:Lincoln’s Roadhouse\, 1201 S Pearl St\, Denver\, CO\, 80210\, United States
END:VEVENT
BEGIN:VEVENT
DTSTART;TZID=America/Denver:20260223T120000
DTEND;TZID=America/Denver:20260223T130000
DTSTAMP:20260423T162513
CREATED:20240608T152048Z
LAST-MODIFIED:20250205T153915Z
UID:10002084-1771848000-1771851600@pikespkblues.org
SUMMARY:Jazz 93.5 Community Blues Hour with BJ Estares
DESCRIPTION:
URL:https://pikespkblues.org/event/jazz-93-5-community-blues-hour-with-bj-estares/2026-02-23/
LOCATION:CO
END:VEVENT
BEGIN:VEVENT
DTSTART;TZID=America/Denver:20260224T120000
DTEND;TZID=America/Denver:20260224T130000
DTSTAMP:20260423T162513
CREATED:20240608T152048Z
LAST-MODIFIED:20250205T153915Z
UID:10002085-1771934400-1771938000@pikespkblues.org
SUMMARY:Jazz 93.5 Community Blues Hour with BJ Estares
DESCRIPTION:
URL:https://pikespkblues.org/event/jazz-93-5-community-blues-hour-with-bj-estares/2026-02-24/
LOCATION:CO
END:VEVENT
BEGIN:VEVENT
DTSTART;TZID=America/Denver:20260224T180000
DTEND;TZID=America/Denver:20260224T210000
DTSTAMP:20260423T162513
CREATED:20251004T004608Z
LAST-MODIFIED:20251004T182250Z
UID:10004800-1771956000-1771966800@pikespkblues.org
SUMMARY:Sweet T's Rude Blues Jam on Tuesdays at PEAK 31
DESCRIPTION:Sweet T’s Rude Blues Jam @ PEAK 31\, 2419 N Union Blvd (80909) on Tuesdays\, from 6:00 pm to 9:00 pm.
URL:https://pikespkblues.org/event/sweet-ts-rude-blues-jam-on-tuesdays-at-peak-31/2026-02-24/
LOCATION:PEAK 31\, 2419 N Union Blvd\, Colorado Springs\, CO\, 80909\, United States
CATEGORIES:Jams
END:VEVENT
BEGIN:VEVENT
DTSTART;TZID=America/Denver:20260224T190000
DTEND;TZID=America/Denver:20260224T220000
DTSTAMP:20260423T162513
CREATED:20260204T230334Z
LAST-MODIFIED:20260204T230334Z
UID:10005685-1771959600-1771970400@pikespkblues.org
SUMMARY:The Tasty Tunes Jam with Hardy Wright\, Momma T & The All Star Friends
DESCRIPTION:The Tasty Tunes Jam with Hardy Wright\, Momma T & The All Star Friends @ Kinfolks\, Manitou Springs on Tuesday\, February 24th from 7:00 pm to 10:00 pm. Sign up: 6:30 pm.
URL:https://pikespkblues.org/event/the-tasty-tunes-jam-with-hardy-wright-momma-t-the-all-star-friends-3/
LOCATION:Kinsfolks\, 950 Manitou Ave\, Manitou Springs\, CO\, 80829
CATEGORIES:Jams
END:VEVENT
BEGIN:VEVENT
DTSTART;TZID=America/Denver:20260225T120000
DTEND;TZID=America/Denver:20260225T130000
DTSTAMP:20260423T162513
CREATED:20240608T152048Z
LAST-MODIFIED:20250205T153915Z
UID:10002086-1772020800-1772024400@pikespkblues.org
SUMMARY:Jazz 93.5 Community Blues Hour with BJ Estares
DESCRIPTION:
URL:https://pikespkblues.org/event/jazz-93-5-community-blues-hour-with-bj-estares/2026-02-25/
LOCATION:CO
END:VEVENT
BEGIN:VEVENT
DTSTART;TZID=America/Denver:20260226T120000
DTEND;TZID=America/Denver:20260226T130000
DTSTAMP:20260423T162513
CREATED:20240608T152048Z
LAST-MODIFIED:20250205T153915Z
UID:10002087-1772107200-1772110800@pikespkblues.org
SUMMARY:Jazz 93.5 Community Blues Hour with BJ Estares
DESCRIPTION:
URL:https://pikespkblues.org/event/jazz-93-5-community-blues-hour-with-bj-estares/2026-02-26/
LOCATION:CO
END:VEVENT
BEGIN:VEVENT
DTSTART;TZID=America/Denver:20260226T210000
DTEND;TZID=America/Denver:20260226T233000
DTSTAMP:20260423T162513
CREATED:20260204T044722Z
LAST-MODIFIED:20260204T044722Z
UID:10005681-1772139600-1772148600@pikespkblues.org
SUMMARY:Devon Allman’s Blues Summit featuring Jimmy\, Larry McCray\, and Laka Soul
DESCRIPTION:Devon Allman’s Blues Summit @ Ophelia’s Electric Soapbox\, Denver on Thursday\, February 26th at 9:00 pm.
URL:https://pikespkblues.org/event/devon-allmans-blues-summit-featuring-jimmy-larry-mccray-and-laka-soul/
LOCATION:Ophelia’s Electric Soapbox\, 1215 20th St\, Denver\, CO\, 80202\, United States
CATEGORIES:Concerts
END:VEVENT
BEGIN:VEVENT
DTSTART;TZID=America/Denver:20260227T120000
DTEND;TZID=America/Denver:20260227T130000
DTSTAMP:20260423T162513
CREATED:20240608T152048Z
LAST-MODIFIED:20250205T153915Z
UID:10002088-1772193600-1772197200@pikespkblues.org
SUMMARY:Jazz 93.5 Community Blues Hour with BJ Estares
DESCRIPTION:
URL:https://pikespkblues.org/event/jazz-93-5-community-blues-hour-with-bj-estares/2026-02-27/
LOCATION:CO
END:VEVENT
BEGIN:VEVENT
DTSTART;TZID=America/Denver:20260227T180000
DTEND;TZID=America/Denver:20260227T210000
DTSTAMP:20260423T162513
CREATED:20260113T235451Z
LAST-MODIFIED:20260113T235451Z
UID:10005659-1772215200-1772226000@pikespkblues.org
SUMMARY:Delta Sonics with Al Chesis  *** PPBC Member Band ***
DESCRIPTION:Delta Sonics with Al Chesis @ Bonacquisti Wine Company\, Denver on Friday\, February 27th at 6:00 pm.
URL:https://pikespkblues.org/event/delta-sonics-with-al-chesis-ppbc-member-band-43/
LOCATION:Bonacquisti Wine Company\, 4640 Pecos St Unit I\, Denver\, CO\, 80211\, United States
CATEGORIES:Concerts
END:VEVENT
BEGIN:VEVENT
DTSTART;TZID=America/Denver:20260227T193000
DTEND;TZID=America/Denver:20260227T220000
DTSTAMP:20260423T162513
CREATED:20260204T045148Z
LAST-MODIFIED:20260204T045148Z
UID:10005682-1772220600-1772229600@pikespkblues.org
SUMMARY:Devon Allman’s Blues Summit featuring Jimmy\, Larry McCray\, and Laka Soul
DESCRIPTION:Devon Allman’s Blues Summit @ Phil Long Music Hall\, Colorado Springs on Friday\, February 27th at 7:30 pm.
URL:https://pikespkblues.org/event/devon-allmans-blues-summit-featuring-jimmy-larry-mccray-and-laka-soul-2/
LOCATION:Phil Long Music Hall\, 13071 Bass Pro Drive\, Colorado Springs\, CO\, 80921\, United States
CATEGORIES:Concerts
END:VEVENT
BEGIN:VEVENT
DTSTART;TZID=America/Denver:20260228T180000
DTEND;TZID=America/Denver:20260228T210000
DTSTAMP:20260423T162513
CREATED:20260113T235726Z
LAST-MODIFIED:20260113T235726Z
UID:10005660-1772301600-1772312400@pikespkblues.org
SUMMARY:Delta Sonics with Al Chesis  *** PPBC Member Band ***
DESCRIPTION:Delta Sonics with Al Chesis @ Clancy’s Irish Pub\, Wheat Ridge on Saturday\, February 28th at 6:00 PM.
URL:https://pikespkblues.org/event/delta-sonics-with-al-chesis-ppbc-member-band-44/
LOCATION:CO
CATEGORIES:Concerts
END:VEVENT
BEGIN:VEVENT
DTSTART;TZID=America/Denver:20260302T120000
DTEND;TZID=America/Denver:20260302T130000
DTSTAMP:20260423T162513
CREATED:20240608T152048Z
LAST-MODIFIED:20250205T153915Z
UID:10002089-1772452800-1772456400@pikespkblues.org
SUMMARY:Jazz 93.5 Community Blues Hour with BJ Estares
DESCRIPTION:
URL:https://pikespkblues.org/event/jazz-93-5-community-blues-hour-with-bj-estares/2026-03-02/
LOCATION:CO
END:VEVENT
END:VCALENDAR