BEGIN:VCALENDAR
VERSION:2.0
PRODID:-//Pikes Peak Blues Community - ECPv6.15.20//NONSGML v1.0//EN
CALSCALE:GREGORIAN
METHOD:PUBLISH
X-ORIGINAL-URL:https://pikespkblues.org
X-WR-CALDESC:Events for Pikes Peak Blues Community
REFRESH-INTERVAL;VALUE=DURATION:PT1H
X-Robots-Tag:noindex
X-PUBLISHED-TTL:PT1H
BEGIN:VTIMEZONE
TZID:America/Denver
BEGIN:DAYLIGHT
TZOFFSETFROM:-0700
TZOFFSETTO:-0600
TZNAME:MDT
DTSTART:20240310T090000
END:DAYLIGHT
BEGIN:STANDARD
TZOFFSETFROM:-0600
TZOFFSETTO:-0700
TZNAME:MST
DTSTART:20241103T080000
END:STANDARD
BEGIN:DAYLIGHT
TZOFFSETFROM:-0700
TZOFFSETTO:-0600
TZNAME:MDT
DTSTART:20250309T090000
END:DAYLIGHT
BEGIN:STANDARD
TZOFFSETFROM:-0600
TZOFFSETTO:-0700
TZNAME:MST
DTSTART:20251102T080000
END:STANDARD
BEGIN:DAYLIGHT
TZOFFSETFROM:-0700
TZOFFSETTO:-0600
TZNAME:MDT
DTSTART:20260308T090000
END:DAYLIGHT
BEGIN:STANDARD
TZOFFSETFROM:-0600
TZOFFSETTO:-0700
TZNAME:MST
DTSTART:20261101T080000
END:STANDARD
END:VTIMEZONE
BEGIN:VEVENT
DTSTART;TZID=America/Denver:20251110T120000
DTEND;TZID=America/Denver:20251110T130000
DTSTAMP:20260425T072153
CREATED:20240608T152048Z
LAST-MODIFIED:20250205T153915Z
UID:10002009-1762776000-1762779600@pikespkblues.org
SUMMARY:Jazz 93.5 Community Blues Hour with BJ Estares
DESCRIPTION:
URL:https://pikespkblues.org/event/jazz-93-5-community-blues-hour-with-bj-estares/2025-11-10/
LOCATION:CO
END:VEVENT
BEGIN:VEVENT
DTSTART;TZID=America/Denver:20251110T200000
DTEND;TZID=America/Denver:20251110T230000
DTSTAMP:20260425T072153
CREATED:20251009T001908Z
LAST-MODIFIED:20251009T010915Z
UID:10005306-1762804800-1762815600@pikespkblues.org
SUMMARY:Stormy Monday Blues Jam hosted by Randy Stephens & the Groove Makers
DESCRIPTION:Stormy Monday Blues Jam hosted by Randy Stephens & the Groove Makers @ Kinfolks\, 950 Manitou Ave\, Manitou Springs on Mondays from 8:00 pm to 11:00 pm. Sign up start at 7:30 pm. Bring your own axe and jam with these award winning musicians. Keys\, drums\, and amps provided. Horn players welcome.
URL:https://pikespkblues.org/event/stormy-monday-blues-jam-hosted-by-randy-stephens-the-groove-makers/2025-11-10/
LOCATION:Kinsfolks\, 950 Manitou Ave\, Manitou Springs\, CO\, 80829
CATEGORIES:Jams
END:VEVENT
BEGIN:VEVENT
DTSTART;TZID=America/Denver:20251111T120000
DTEND;TZID=America/Denver:20251111T130000
DTSTAMP:20260425T072153
CREATED:20240608T152048Z
LAST-MODIFIED:20250205T153915Z
UID:10002010-1762862400-1762866000@pikespkblues.org
SUMMARY:Jazz 93.5 Community Blues Hour with BJ Estares
DESCRIPTION:
URL:https://pikespkblues.org/event/jazz-93-5-community-blues-hour-with-bj-estares/2025-11-11/
LOCATION:CO
END:VEVENT
BEGIN:VEVENT
DTSTART;TZID=America/Denver:20251111T180000
DTEND;TZID=America/Denver:20251111T210000
DTSTAMP:20260425T072153
CREATED:20251004T004608Z
LAST-MODIFIED:20251004T182250Z
UID:10004785-1762884000-1762894800@pikespkblues.org
SUMMARY:Sweet T's Rude Blues Jam on Tuesdays at PEAK 31
DESCRIPTION:Sweet T’s Rude Blues Jam @ PEAK 31\, 2419 N Union Blvd (80909) on Tuesdays\, from 6:00 pm to 9:00 pm.
URL:https://pikespkblues.org/event/sweet-ts-rude-blues-jam-on-tuesdays-at-peak-31/2025-11-11/
LOCATION:PEAK 31\, 2419 N Union Blvd\, Colorado Springs\, CO\, 80909\, United States
CATEGORIES:Jams
END:VEVENT
BEGIN:VEVENT
DTSTART;TZID=America/Denver:20251112T120000
DTEND;TZID=America/Denver:20251112T130000
DTSTAMP:20260425T072153
CREATED:20240608T152048Z
LAST-MODIFIED:20250205T153915Z
UID:10002011-1762948800-1762952400@pikespkblues.org
SUMMARY:Jazz 93.5 Community Blues Hour with BJ Estares
DESCRIPTION:
URL:https://pikespkblues.org/event/jazz-93-5-community-blues-hour-with-bj-estares/2025-11-12/
LOCATION:CO
END:VEVENT
BEGIN:VEVENT
DTSTART;TZID=America/Denver:20251112T193000
DTEND;TZID=America/Denver:20251112T223000
DTSTAMP:20260425T072153
CREATED:20251015T195819Z
LAST-MODIFIED:20251015T195819Z
UID:10005570-1762975800-1762986600@pikespkblues.org
SUMMARY:Delta Sonics with Al Chesis   *** PPBC Member Band ***
DESCRIPTION:Delta Sonics with Al Chesis @ Nissi’s Blues Night\, Lafayette on Wednesday\, November 12th at 7:30 pm.
URL:https://pikespkblues.org/event/delta-sonics-with-al-chesis-ppbc-member-band-24/
LOCATION:Nissi’s\, 1455 Coal Creek Dr Unit T\, Lafayette\, CO\, 80026
CATEGORIES:Concerts
END:VEVENT
BEGIN:VEVENT
DTSTART;TZID=America/Denver:20251113T120000
DTEND;TZID=America/Denver:20251113T130000
DTSTAMP:20260425T072153
CREATED:20240608T152048Z
LAST-MODIFIED:20250205T153915Z
UID:10002012-1763035200-1763038800@pikespkblues.org
SUMMARY:Jazz 93.5 Community Blues Hour with BJ Estares
DESCRIPTION:
URL:https://pikespkblues.org/event/jazz-93-5-community-blues-hour-with-bj-estares/2025-11-13/
LOCATION:CO
END:VEVENT
BEGIN:VEVENT
DTSTART;TZID=America/Denver:20251113T193000
DTEND;TZID=America/Denver:20251113T223000
DTSTAMP:20260425T072153
CREATED:20251016T184207Z
LAST-MODIFIED:20251016T184210Z
UID:10005572-1763062200-1763073000@pikespkblues.org
SUMMARY:Hardy Wright\, Momma T & Friends
DESCRIPTION:Hardy Wright\, Momma T & Friends @ Kinfolks\, Manitou Springs on Thursday\, November 13th from 7:30 pm to 10:30 pm.
URL:https://pikespkblues.org/event/hardy-wright-momma-t-friends-2/
LOCATION:Kinsfolks\, 950 Manitou Ave\, Manitou Springs\, CO\, 80829
CATEGORIES:Concerts
END:VEVENT
BEGIN:VEVENT
DTSTART;TZID=America/Denver:20251114T120000
DTEND;TZID=America/Denver:20251114T130000
DTSTAMP:20260425T072153
CREATED:20240608T152048Z
LAST-MODIFIED:20250205T153915Z
UID:10002013-1763121600-1763125200@pikespkblues.org
SUMMARY:Jazz 93.5 Community Blues Hour with BJ Estares
DESCRIPTION:
URL:https://pikespkblues.org/event/jazz-93-5-community-blues-hour-with-bj-estares/2025-11-14/
LOCATION:CO
END:VEVENT
BEGIN:VEVENT
DTSTART;TZID=America/Denver:20251114T183000
DTEND;TZID=America/Denver:20251114T213000
DTSTAMP:20260425T072153
CREATED:20251009T023702Z
LAST-MODIFIED:20251016T184342Z
UID:10005563-1763145000-1763155800@pikespkblues.org
SUMMARY:Hoodoo Honey   *** PPBC Member Band ***
DESCRIPTION:Hoodoo Honey @ Summa Taphouse\, 871 W Colorado Ave (80904) on Friday\, November 14th at 6:30 pm
URL:https://pikespkblues.org/event/hoodoo-honey-ppbc-member-band-4/
LOCATION:Summa\, 817 W. Colorado Ave\, Colorado Springs\, CO\, 80905\, United States
CATEGORIES:Concerts
END:VEVENT
BEGIN:VEVENT
DTSTART;TZID=America/Denver:20251115T200000
DTEND;TZID=America/Denver:20251115T230000
DTSTAMP:20260425T072153
CREATED:20251015T180850Z
LAST-MODIFIED:20251015T195345Z
UID:10005566-1763236800-1763247600@pikespkblues.org
SUMMARY:Delta Sonics with Al Chesis   *** PPBC Member Band ***
DESCRIPTION:Delta Sonics with Al Chesis @ Morrison Holiday Bar\, Morrison on Saturday\, November 15th at 8:00 pm.
URL:https://pikespkblues.org/event/delta-sonics-ppbc-member-band-2/
LOCATION:Morrison Holiday Bar\, 403 Bear Creek Ave\, Morrison\, CO\, 80465
CATEGORIES:Concerts
END:VEVENT
BEGIN:VEVENT
DTSTART;TZID=America/Denver:20251115T200000
DTEND;TZID=America/Denver:20251115T233000
DTSTAMP:20260425T072153
CREATED:20251103T223810Z
LAST-MODIFIED:20251103T235126Z
UID:10005596-1763236800-1763249400@pikespkblues.org
SUMMARY:Hurricane Dave and The Storm Chasers  *** PPC Member Band ***
DESCRIPTION:Come on out and join Hurricane Dave and The Storm Chasers along with Virosa\, Vince Graham\, and Dalton LaFever for the “Bust Out the Box 4” Charity Event @ Wagon Wheel\, 2308 E Platte Ave (80909) on Saturday\, November 15th. Performances start at 8:00 pm: $15 at the door / $10 with a canned good donation. They are partnering with Palmer High School D11 to collect canned goods for low income families affected by the government shutdown. Please help out our neighbors and enjoy an evening of great local music.
URL:https://pikespkblues.org/event/hurricane-dave-and-the-storm-chasers-ppc-member-band/
LOCATION:Wagon Wheel Sports Bar\, 2308 E. Platte Ave\, Colorado Springs\, CO\, 80909\, United States
CATEGORIES:Concerts
END:VEVENT
BEGIN:VEVENT
DTSTART;TZID=America/Denver:20251115T210000
DTEND;TZID=America/Denver:20251115T233000
DTSTAMP:20260425T072153
CREATED:20251102T184358Z
LAST-MODIFIED:20251102T184444Z
UID:10005595-1763240400-1763249400@pikespkblues.org
SUMMARY:Robert Johnson & The Mark Diamond Trio
DESCRIPTION:Robert Johnson & The Mark Diamond Trio @ Dazzle\, Denver on Saturday\, November 15th at 9:00 pm. Blues\, Jazz\, Latin\, and Funk. \n 
URL:https://pikespkblues.org/event/robert-johnson-and-the-mark-diamond-trio/
LOCATION:Dazzle\, 1080 14th Street\, Denver\, CO\, 80202
CATEGORIES:Concerts
END:VEVENT
BEGIN:VEVENT
DTSTART;TZID=America/Denver:20251117T120000
DTEND;TZID=America/Denver:20251117T130000
DTSTAMP:20260425T072153
CREATED:20240608T152048Z
LAST-MODIFIED:20250205T153915Z
UID:10002014-1763380800-1763384400@pikespkblues.org
SUMMARY:Jazz 93.5 Community Blues Hour with BJ Estares
DESCRIPTION:
URL:https://pikespkblues.org/event/jazz-93-5-community-blues-hour-with-bj-estares/2025-11-17/
LOCATION:CO
END:VEVENT
BEGIN:VEVENT
DTSTART;TZID=America/Denver:20251117T200000
DTEND;TZID=America/Denver:20251117T230000
DTSTAMP:20260425T072153
CREATED:20251009T001908Z
LAST-MODIFIED:20251009T010915Z
UID:10005307-1763409600-1763420400@pikespkblues.org
SUMMARY:Stormy Monday Blues Jam hosted by Randy Stephens & the Groove Makers
DESCRIPTION:Stormy Monday Blues Jam hosted by Randy Stephens & the Groove Makers @ Kinfolks\, 950 Manitou Ave\, Manitou Springs on Mondays from 8:00 pm to 11:00 pm. Sign up start at 7:30 pm. Bring your own axe and jam with these award winning musicians. Keys\, drums\, and amps provided. Horn players welcome.
URL:https://pikespkblues.org/event/stormy-monday-blues-jam-hosted-by-randy-stephens-the-groove-makers/2025-11-17/
LOCATION:Kinsfolks\, 950 Manitou Ave\, Manitou Springs\, CO\, 80829
CATEGORIES:Jams
END:VEVENT
BEGIN:VEVENT
DTSTART;TZID=America/Denver:20251118T120000
DTEND;TZID=America/Denver:20251118T130000
DTSTAMP:20260425T072153
CREATED:20240608T152048Z
LAST-MODIFIED:20250205T153915Z
UID:10002015-1763467200-1763470800@pikespkblues.org
SUMMARY:Jazz 93.5 Community Blues Hour with BJ Estares
DESCRIPTION:
URL:https://pikespkblues.org/event/jazz-93-5-community-blues-hour-with-bj-estares/2025-11-18/
LOCATION:CO
END:VEVENT
BEGIN:VEVENT
DTSTART;TZID=America/Denver:20251118T180000
DTEND;TZID=America/Denver:20251118T210000
DTSTAMP:20260425T072153
CREATED:20251004T004608Z
LAST-MODIFIED:20251004T182250Z
UID:10004786-1763488800-1763499600@pikespkblues.org
SUMMARY:Sweet T's Rude Blues Jam on Tuesdays at PEAK 31
DESCRIPTION:Sweet T’s Rude Blues Jam @ PEAK 31\, 2419 N Union Blvd (80909) on Tuesdays\, from 6:00 pm to 9:00 pm.
URL:https://pikespkblues.org/event/sweet-ts-rude-blues-jam-on-tuesdays-at-peak-31/2025-11-18/
LOCATION:PEAK 31\, 2419 N Union Blvd\, Colorado Springs\, CO\, 80909\, United States
CATEGORIES:Jams
END:VEVENT
BEGIN:VEVENT
DTSTART;TZID=America/Denver:20251118T180000
DTEND;TZID=America/Denver:20251118T210000
DTSTAMP:20260425T072153
CREATED:20251015T181557Z
LAST-MODIFIED:20251112T231459Z
UID:10005567-1763488800-1763499600@pikespkblues.org
SUMMARY:Delta Sonics with Al Chesis and special guest Johnny Burgin   *** PPBC Member Band ***
DESCRIPTION:Delta Sonics with special guest Johnny Burgin at The Rusty Bucket\, Lakewood on Tuesday\, November 18th at 6:00 pm.
URL:https://pikespkblues.org/event/delta-sonics-with-special-guest-johnny-burgin-ppbc-member-band/
LOCATION:CO
CATEGORIES:Concerts
END:VEVENT
BEGIN:VEVENT
DTSTART;TZID=America/Denver:20251119T120000
DTEND;TZID=America/Denver:20251119T130000
DTSTAMP:20260425T072153
CREATED:20240608T152048Z
LAST-MODIFIED:20250205T153915Z
UID:10002016-1763553600-1763557200@pikespkblues.org
SUMMARY:Jazz 93.5 Community Blues Hour with BJ Estares
DESCRIPTION:
URL:https://pikespkblues.org/event/jazz-93-5-community-blues-hour-with-bj-estares/2025-11-19/
LOCATION:CO
END:VEVENT
BEGIN:VEVENT
DTSTART;TZID=America/Denver:20251119T190000
DTEND;TZID=America/Denver:20251119T220000
DTSTAMP:20260425T072153
CREATED:20251017T161555Z
LAST-MODIFIED:20251017T161555Z
UID:10005576-1763578800-1763589600@pikespkblues.org
SUMMARY:Delta Sonics with Al Chesis and special guest Johnny Burgin  *** PPBC Member Band ***
DESCRIPTION:1.90.5-KHUWWFUO4245FRVEA6KOETJDNA.0.1-8\nPPBC presents Delta Sonics with Al Chesis and special guest Johnny Burgin @ Thunder & Buttons\, 2415 W Colorado Ave (80904) on Wednesday\, November 19th from 7:00 pm to 10:00 pm. Doors open at 6:30 pm. Tickets $10.00 in advance / $15.00 at the door.
URL:https://pikespkblues.org/event/delta-sonics-with-al-chesis-and-special-guest-johnny-burgin-ppbc-member-band/
LOCATION:Thunder & Buttons\, 2415 W Colorado Ave\, Colorado Springs\, CO\, 80904
CATEGORIES:Concerts
END:VEVENT
BEGIN:VEVENT
DTSTART;TZID=America/Denver:20251119T193000
DTEND;TZID=America/Denver:20251119T220000
DTSTAMP:20260425T072153
CREATED:20251017T211806Z
LAST-MODIFIED:20251017T211806Z
UID:10005577-1763580600-1763589600@pikespkblues.org
SUMMARY:Deborah Stafford & The Night Stalkers
DESCRIPTION:Deborah Stafford & The Night Stalkers @ Nissi’s\, Lafayette on Wednesday\, November 19th at 7:30 pm.
URL:https://pikespkblues.org/event/deborah-stafford-the-night-stalkers-2/
LOCATION:Nissi’s\, 1455 Coal Creek Dr Unit T\, Lafayette\, CO\, 80026
CATEGORIES:Concerts
END:VEVENT
BEGIN:VEVENT
DTSTART;TZID=America/Denver:20251120T120000
DTEND;TZID=America/Denver:20251120T130000
DTSTAMP:20260425T072153
CREATED:20240608T152048Z
LAST-MODIFIED:20250205T153915Z
UID:10002017-1763640000-1763643600@pikespkblues.org
SUMMARY:Jazz 93.5 Community Blues Hour with BJ Estares
DESCRIPTION:
URL:https://pikespkblues.org/event/jazz-93-5-community-blues-hour-with-bj-estares/2025-11-20/
LOCATION:CO
END:VEVENT
BEGIN:VEVENT
DTSTART;TZID=America/Denver:20251120T193000
DTEND;TZID=America/Denver:20251120T220000
DTSTAMP:20260425T072153
CREATED:20251106T174118Z
LAST-MODIFIED:20251106T174118Z
UID:10005601-1763667000-1763676000@pikespkblues.org
SUMMARY:David Keller Solo Show
DESCRIPTION:David Keller Solo Show @ 11307 Billings Ave\, Lafayette\, CO 80026 on Thursday\, November 20th\, starting at 7:00 pm. Potluck at 6:00 pm. RSVP to TURBROOK123@gmail.com. $20 with all proceeds to traveling musicians.  \nVenmo-@Rebecca-brooklyn. PayPal: paypal.me/brooklynmusicinvt
URL:https://pikespkblues.org/event/david-keller-solo-show/
LOCATION:11307 Billings Ave\, Layayette\, CO\, 80026\, United States
CATEGORIES:Concerts
END:VEVENT
BEGIN:VEVENT
DTSTART;TZID=America/Denver:20251120T203000
DTEND;TZID=America/Denver:20251120T203000
DTSTAMP:20260425T072153
CREATED:20250924T190516Z
LAST-MODIFIED:20250924T193049Z
UID:10004517-1763670600-1763670600@pikespkblues.org
SUMMARY:Colorado Blues Dance’s Shimmy Shake Blues with Reckless and Blue
DESCRIPTION:Colorado Blues Dance’s Shimmy Shake Blues with Reckless and Blue @ The Pearl\, Denver on Thursday\, November 20th from 8:30 pm to midnight. All-Levels Blues Dance Class with blues dance instructor from 7:00 to 8:00 pm.
URL:https://pikespkblues.org/event/colorado-blues-dances-shimmy-shake-blues-with-reckless-and-blue/
LOCATION:The Pearl\, 2199 California St\, Denver\, CO\, 80205\, United States
CATEGORIES:Concerts,Dance
END:VEVENT
BEGIN:VEVENT
DTSTART;TZID=America/Denver:20251121T120000
DTEND;TZID=America/Denver:20251121T130000
DTSTAMP:20260425T072153
CREATED:20240608T152048Z
LAST-MODIFIED:20250205T153915Z
UID:10002018-1763726400-1763730000@pikespkblues.org
SUMMARY:Jazz 93.5 Community Blues Hour with BJ Estares
DESCRIPTION:
URL:https://pikespkblues.org/event/jazz-93-5-community-blues-hour-with-bj-estares/2025-11-21/
LOCATION:CO
END:VEVENT
BEGIN:VEVENT
DTSTART;TZID=America/Denver:20251121T180000
DTEND;TZID=America/Denver:20251121T210000
DTSTAMP:20260425T072153
CREATED:20250930T122408Z
LAST-MODIFIED:20251001T201257Z
UID:10004525-1763748000-1763758800@pikespkblues.org
SUMMARY:Tasty House with PPBC member Jim Sesters
DESCRIPTION:Tasty House with PPBC member and past president Jim Sesters @ Rico’s Cafe and Wine Bar\, 322 1/2 N Tejon St (80903) on Friday\, November 21st at 6:00 pm – No cover.
URL:https://pikespkblues.org/event/tasty-house/
LOCATION:Rico’s Cafe and Wine Bar\, 322 1/2\, N Tejon St\, Colorado Springs\, CO\, 80903\, United States
CATEGORIES:Concerts
END:VEVENT
BEGIN:VEVENT
DTSTART;TZID=America/Denver:20251121T200000
DTEND;TZID=America/Denver:20251121T230000
DTSTAMP:20260425T072153
CREATED:20251015T181853Z
LAST-MODIFIED:20251015T200305Z
UID:10005568-1763755200-1763766000@pikespkblues.org
SUMMARY:Delta Sonics with Al Chesis   *** PPBC Member Band ***
DESCRIPTION:Delta Sonics with Al Chesis @ Lincoln’s Roadhouse\, Denver on Friday\, November 21st at 8:00 pm.
URL:https://pikespkblues.org/event/delta-sonics-ppbc-member-band-3/
LOCATION:Lincoln’s Roadhouse\, 1201 S Pearl St\, Denver\, CO\, 80210\, United States
CATEGORIES:Concerts
END:VEVENT
BEGIN:VEVENT
DTSTART;TZID=America/Denver:20251122T190000
DTEND;TZID=America/Denver:20251122T220000
DTSTAMP:20260425T072154
CREATED:20251101T014044Z
LAST-MODIFIED:20251101T014044Z
UID:10005591-1763838000-1763848800@pikespkblues.org
SUMMARY:Delta Sonics with Al Chesis   *** PPBC Member Band ***
DESCRIPTION:Delta Sonics with Al Chesis @ The Studio on Main Street\, Parker on Saturday\, November 22nd at 7:00 pm
URL:https://pikespkblues.org/event/delta-sonics-with-al-chesis-ppbc-member-band-27/
LOCATION:The Studio at Mainstreet\, 19604 E Mainstreet\, Parker\, CO\, 80138\, United States
CATEGORIES:Concerts
END:VEVENT
BEGIN:VEVENT
DTSTART;TZID=America/Denver:20251124T120000
DTEND;TZID=America/Denver:20251124T130000
DTSTAMP:20260425T072154
CREATED:20240608T152048Z
LAST-MODIFIED:20250205T153915Z
UID:10002019-1763985600-1763989200@pikespkblues.org
SUMMARY:Jazz 93.5 Community Blues Hour with BJ Estares
DESCRIPTION:
URL:https://pikespkblues.org/event/jazz-93-5-community-blues-hour-with-bj-estares/2025-11-24/
LOCATION:CO
END:VEVENT
BEGIN:VEVENT
DTSTART;TZID=America/Denver:20251124T200000
DTEND;TZID=America/Denver:20251124T230000
DTSTAMP:20260425T072154
CREATED:20251009T001908Z
LAST-MODIFIED:20251009T010915Z
UID:10005308-1764014400-1764025200@pikespkblues.org
SUMMARY:Stormy Monday Blues Jam hosted by Randy Stephens & the Groove Makers
DESCRIPTION:Stormy Monday Blues Jam hosted by Randy Stephens & the Groove Makers @ Kinfolks\, 950 Manitou Ave\, Manitou Springs on Mondays from 8:00 pm to 11:00 pm. Sign up start at 7:30 pm. Bring your own axe and jam with these award winning musicians. Keys\, drums\, and amps provided. Horn players welcome.
URL:https://pikespkblues.org/event/stormy-monday-blues-jam-hosted-by-randy-stephens-the-groove-makers/2025-11-24/
LOCATION:Kinsfolks\, 950 Manitou Ave\, Manitou Springs\, CO\, 80829
CATEGORIES:Jams
END:VEVENT
END:VCALENDAR