BEGIN:VCALENDAR
VERSION:2.0
PRODID:-//Pikes Peak Blues Community - ECPv6.15.20//NONSGML v1.0//EN
CALSCALE:GREGORIAN
METHOD:PUBLISH
X-WR-CALNAME:Pikes Peak Blues Community
X-ORIGINAL-URL:https://pikespkblues.org
X-WR-CALDESC:Events for Pikes Peak Blues Community
REFRESH-INTERVAL;VALUE=DURATION:PT1H
X-Robots-Tag:noindex
X-PUBLISHED-TTL:PT1H
BEGIN:VTIMEZONE
TZID:America/Denver
BEGIN:DAYLIGHT
TZOFFSETFROM:-0700
TZOFFSETTO:-0600
TZNAME:MDT
DTSTART:20260308T090000
END:DAYLIGHT
BEGIN:STANDARD
TZOFFSETFROM:-0600
TZOFFSETTO:-0700
TZNAME:MST
DTSTART:20261101T080000
END:STANDARD
BEGIN:DAYLIGHT
TZOFFSETFROM:-0700
TZOFFSETTO:-0600
TZNAME:MDT
DTSTART:20270314T090000
END:DAYLIGHT
BEGIN:STANDARD
TZOFFSETFROM:-0600
TZOFFSETTO:-0700
TZNAME:MST
DTSTART:20271107T080000
END:STANDARD
BEGIN:DAYLIGHT
TZOFFSETFROM:-0700
TZOFFSETTO:-0600
TZNAME:MDT
DTSTART:20280312T090000
END:DAYLIGHT
BEGIN:STANDARD
TZOFFSETFROM:-0600
TZOFFSETTO:-0700
TZNAME:MST
DTSTART:20281105T080000
END:STANDARD
END:VTIMEZONE
BEGIN:VEVENT
DTSTART;TZID=America/Denver:20270201T120000
DTEND;TZID=America/Denver:20270201T130000
DTSTAMP:20260425T070837
CREATED:20240608T152048Z
LAST-MODIFIED:20250205T153915Z
UID:10002329-1801483200-1801486800@pikespkblues.org
SUMMARY:Jazz 93.5 Community Blues Hour with BJ Estares
DESCRIPTION:
URL:https://pikespkblues.org/event/jazz-93-5-community-blues-hour-with-bj-estares/2027-02-01/
LOCATION:CO
END:VEVENT
BEGIN:VEVENT
DTSTART;TZID=America/Denver:20270202T120000
DTEND;TZID=America/Denver:20270202T130000
DTSTAMP:20260425T070837
CREATED:20240608T152048Z
LAST-MODIFIED:20250205T153915Z
UID:10002330-1801569600-1801573200@pikespkblues.org
SUMMARY:Jazz 93.5 Community Blues Hour with BJ Estares
DESCRIPTION:
URL:https://pikespkblues.org/event/jazz-93-5-community-blues-hour-with-bj-estares/2027-02-02/
LOCATION:CO
END:VEVENT
BEGIN:VEVENT
DTSTART;TZID=America/Denver:20270202T180000
DTEND;TZID=America/Denver:20270202T210000
DTSTAMP:20260425T070837
CREATED:20251004T004608Z
LAST-MODIFIED:20251004T182250Z
UID:10004849-1801591200-1801602000@pikespkblues.org
SUMMARY:Sweet T's Rude Blues Jam on Tuesdays at PEAK 31
DESCRIPTION:Sweet T’s Rude Blues Jam @ PEAK 31\, 2419 N Union Blvd (80909) on Tuesdays\, from 6:00 pm to 9:00 pm.
URL:https://pikespkblues.org/event/sweet-ts-rude-blues-jam-on-tuesdays-at-peak-31/2027-02-02/
LOCATION:PEAK 31\, 2419 N Union Blvd\, Colorado Springs\, CO\, 80909\, United States
CATEGORIES:Jams
END:VEVENT
BEGIN:VEVENT
DTSTART;TZID=America/Denver:20270203T120000
DTEND;TZID=America/Denver:20270203T130000
DTSTAMP:20260425T070837
CREATED:20240608T152048Z
LAST-MODIFIED:20250205T153915Z
UID:10002331-1801656000-1801659600@pikespkblues.org
SUMMARY:Jazz 93.5 Community Blues Hour with BJ Estares
DESCRIPTION:
URL:https://pikespkblues.org/event/jazz-93-5-community-blues-hour-with-bj-estares/2027-02-03/
LOCATION:CO
END:VEVENT
BEGIN:VEVENT
DTSTART;TZID=America/Denver:20270204T120000
DTEND;TZID=America/Denver:20270204T130000
DTSTAMP:20260425T070837
CREATED:20240608T152048Z
LAST-MODIFIED:20250205T153915Z
UID:10002332-1801742400-1801746000@pikespkblues.org
SUMMARY:Jazz 93.5 Community Blues Hour with BJ Estares
DESCRIPTION:
URL:https://pikespkblues.org/event/jazz-93-5-community-blues-hour-with-bj-estares/2027-02-04/
LOCATION:CO
END:VEVENT
BEGIN:VEVENT
DTSTART;TZID=America/Denver:20270204T200000
DTEND;TZID=America/Denver:20270204T230000
DTSTAMP:20260425T070837
CREATED:20260221T045616Z
LAST-MODIFIED:20260221T045617Z
UID:10005709-1801771200-1801782000@pikespkblues.org
SUMMARY:Blues Jam hosted by Randy Stephens & the Groove Makers
DESCRIPTION:Blues Jam hosted by Randy Stephens & the Groove Makers @ Kinfolks\, 950 Manitou Ave\, Manitou Springs on the first Thursday of  the month from 8:00 pm to 11:00 pm. Sign up start at 7:30 pm. Bring your own axe and jam with these award winning musicians. Keys\, drums\, and amps provided. Horn players welcome.
URL:https://pikespkblues.org/event/stormy-monday-blues-jam-hosted-by-randy-stephens-the-groove-makers-2-2/2027-02-04/
LOCATION:Kinsfolks\, 950 Manitou Ave\, Manitou Springs\, CO\, 80829
CATEGORIES:Jams
END:VEVENT
BEGIN:VEVENT
DTSTART;TZID=America/Denver:20270205T120000
DTEND;TZID=America/Denver:20270205T130000
DTSTAMP:20260425T070837
CREATED:20240608T152048Z
LAST-MODIFIED:20250205T153915Z
UID:10002333-1801828800-1801832400@pikespkblues.org
SUMMARY:Jazz 93.5 Community Blues Hour with BJ Estares
DESCRIPTION:
URL:https://pikespkblues.org/event/jazz-93-5-community-blues-hour-with-bj-estares/2027-02-05/
LOCATION:CO
END:VEVENT
BEGIN:VEVENT
DTSTART;TZID=America/Denver:20270208T120000
DTEND;TZID=America/Denver:20270208T130000
DTSTAMP:20260425T070837
CREATED:20240608T152048Z
LAST-MODIFIED:20250205T153915Z
UID:10002334-1802088000-1802091600@pikespkblues.org
SUMMARY:Jazz 93.5 Community Blues Hour with BJ Estares
DESCRIPTION:
URL:https://pikespkblues.org/event/jazz-93-5-community-blues-hour-with-bj-estares/2027-02-08/
LOCATION:CO
END:VEVENT
BEGIN:VEVENT
DTSTART;TZID=America/Denver:20270209T120000
DTEND;TZID=America/Denver:20270209T130000
DTSTAMP:20260425T070837
CREATED:20240608T152048Z
LAST-MODIFIED:20250205T153915Z
UID:10002335-1802174400-1802178000@pikespkblues.org
SUMMARY:Jazz 93.5 Community Blues Hour with BJ Estares
DESCRIPTION:
URL:https://pikespkblues.org/event/jazz-93-5-community-blues-hour-with-bj-estares/2027-02-09/
LOCATION:CO
END:VEVENT
BEGIN:VEVENT
DTSTART;TZID=America/Denver:20270209T180000
DTEND;TZID=America/Denver:20270209T210000
DTSTAMP:20260425T070837
CREATED:20251004T004608Z
LAST-MODIFIED:20251004T182250Z
UID:10004850-1802196000-1802206800@pikespkblues.org
SUMMARY:Sweet T's Rude Blues Jam on Tuesdays at PEAK 31
DESCRIPTION:Sweet T’s Rude Blues Jam @ PEAK 31\, 2419 N Union Blvd (80909) on Tuesdays\, from 6:00 pm to 9:00 pm.
URL:https://pikespkblues.org/event/sweet-ts-rude-blues-jam-on-tuesdays-at-peak-31/2027-02-09/
LOCATION:PEAK 31\, 2419 N Union Blvd\, Colorado Springs\, CO\, 80909\, United States
CATEGORIES:Jams
END:VEVENT
BEGIN:VEVENT
DTSTART;TZID=America/Denver:20270210T120000
DTEND;TZID=America/Denver:20270210T130000
DTSTAMP:20260425T070837
CREATED:20240608T152048Z
LAST-MODIFIED:20250205T153915Z
UID:10002336-1802260800-1802264400@pikespkblues.org
SUMMARY:Jazz 93.5 Community Blues Hour with BJ Estares
DESCRIPTION:
URL:https://pikespkblues.org/event/jazz-93-5-community-blues-hour-with-bj-estares/2027-02-10/
LOCATION:CO
END:VEVENT
BEGIN:VEVENT
DTSTART;TZID=America/Denver:20270211T120000
DTEND;TZID=America/Denver:20270211T130000
DTSTAMP:20260425T070837
CREATED:20240608T152048Z
LAST-MODIFIED:20250205T153915Z
UID:10002337-1802347200-1802350800@pikespkblues.org
SUMMARY:Jazz 93.5 Community Blues Hour with BJ Estares
DESCRIPTION:
URL:https://pikespkblues.org/event/jazz-93-5-community-blues-hour-with-bj-estares/2027-02-11/
LOCATION:CO
END:VEVENT
BEGIN:VEVENT
DTSTART;TZID=America/Denver:20270212T120000
DTEND;TZID=America/Denver:20270212T130000
DTSTAMP:20260425T070837
CREATED:20240608T152048Z
LAST-MODIFIED:20250205T153915Z
UID:10002338-1802433600-1802437200@pikespkblues.org
SUMMARY:Jazz 93.5 Community Blues Hour with BJ Estares
DESCRIPTION:
URL:https://pikespkblues.org/event/jazz-93-5-community-blues-hour-with-bj-estares/2027-02-12/
LOCATION:CO
END:VEVENT
BEGIN:VEVENT
DTSTART;TZID=America/Denver:20270215T120000
DTEND;TZID=America/Denver:20270215T130000
DTSTAMP:20260425T070837
CREATED:20240608T152048Z
LAST-MODIFIED:20250205T153915Z
UID:10002339-1802692800-1802696400@pikespkblues.org
SUMMARY:Jazz 93.5 Community Blues Hour with BJ Estares
DESCRIPTION:
URL:https://pikespkblues.org/event/jazz-93-5-community-blues-hour-with-bj-estares/2027-02-15/
LOCATION:CO
END:VEVENT
BEGIN:VEVENT
DTSTART;TZID=America/Denver:20270216T120000
DTEND;TZID=America/Denver:20270216T130000
DTSTAMP:20260425T070837
CREATED:20240608T152048Z
LAST-MODIFIED:20250205T153915Z
UID:10002340-1802779200-1802782800@pikespkblues.org
SUMMARY:Jazz 93.5 Community Blues Hour with BJ Estares
DESCRIPTION:
URL:https://pikespkblues.org/event/jazz-93-5-community-blues-hour-with-bj-estares/2027-02-16/
LOCATION:CO
END:VEVENT
BEGIN:VEVENT
DTSTART;TZID=America/Denver:20270216T180000
DTEND;TZID=America/Denver:20270216T210000
DTSTAMP:20260425T070837
CREATED:20251004T004608Z
LAST-MODIFIED:20251004T182250Z
UID:10004851-1802800800-1802811600@pikespkblues.org
SUMMARY:Sweet T's Rude Blues Jam on Tuesdays at PEAK 31
DESCRIPTION:Sweet T’s Rude Blues Jam @ PEAK 31\, 2419 N Union Blvd (80909) on Tuesdays\, from 6:00 pm to 9:00 pm.
URL:https://pikespkblues.org/event/sweet-ts-rude-blues-jam-on-tuesdays-at-peak-31/2027-02-16/
LOCATION:PEAK 31\, 2419 N Union Blvd\, Colorado Springs\, CO\, 80909\, United States
CATEGORIES:Jams
END:VEVENT
BEGIN:VEVENT
DTSTART;TZID=America/Denver:20270217T120000
DTEND;TZID=America/Denver:20270217T130000
DTSTAMP:20260425T070837
CREATED:20240608T152048Z
LAST-MODIFIED:20250205T153915Z
UID:10002341-1802865600-1802869200@pikespkblues.org
SUMMARY:Jazz 93.5 Community Blues Hour with BJ Estares
DESCRIPTION:
URL:https://pikespkblues.org/event/jazz-93-5-community-blues-hour-with-bj-estares/2027-02-17/
LOCATION:CO
END:VEVENT
BEGIN:VEVENT
DTSTART;TZID=America/Denver:20270218T120000
DTEND;TZID=America/Denver:20270218T130000
DTSTAMP:20260425T070837
CREATED:20240608T152048Z
LAST-MODIFIED:20250205T153915Z
UID:10002342-1802952000-1802955600@pikespkblues.org
SUMMARY:Jazz 93.5 Community Blues Hour with BJ Estares
DESCRIPTION:
URL:https://pikespkblues.org/event/jazz-93-5-community-blues-hour-with-bj-estares/2027-02-18/
LOCATION:CO
END:VEVENT
BEGIN:VEVENT
DTSTART;TZID=America/Denver:20270219T120000
DTEND;TZID=America/Denver:20270219T130000
DTSTAMP:20260425T070837
CREATED:20240608T152048Z
LAST-MODIFIED:20250205T153915Z
UID:10002343-1803038400-1803042000@pikespkblues.org
SUMMARY:Jazz 93.5 Community Blues Hour with BJ Estares
DESCRIPTION:
URL:https://pikespkblues.org/event/jazz-93-5-community-blues-hour-with-bj-estares/2027-02-19/
LOCATION:CO
END:VEVENT
BEGIN:VEVENT
DTSTART;TZID=America/Denver:20270222T120000
DTEND;TZID=America/Denver:20270222T130000
DTSTAMP:20260425T070837
CREATED:20240608T152048Z
LAST-MODIFIED:20250205T153915Z
UID:10002344-1803297600-1803301200@pikespkblues.org
SUMMARY:Jazz 93.5 Community Blues Hour with BJ Estares
DESCRIPTION:
URL:https://pikespkblues.org/event/jazz-93-5-community-blues-hour-with-bj-estares/2027-02-22/
LOCATION:CO
END:VEVENT
BEGIN:VEVENT
DTSTART;TZID=America/Denver:20270223T120000
DTEND;TZID=America/Denver:20270223T130000
DTSTAMP:20260425T070837
CREATED:20240608T152048Z
LAST-MODIFIED:20250205T153915Z
UID:10002345-1803384000-1803387600@pikespkblues.org
SUMMARY:Jazz 93.5 Community Blues Hour with BJ Estares
DESCRIPTION:
URL:https://pikespkblues.org/event/jazz-93-5-community-blues-hour-with-bj-estares/2027-02-23/
LOCATION:CO
END:VEVENT
BEGIN:VEVENT
DTSTART;TZID=America/Denver:20270223T180000
DTEND;TZID=America/Denver:20270223T210000
DTSTAMP:20260425T070837
CREATED:20251004T004608Z
LAST-MODIFIED:20251004T182250Z
UID:10004852-1803405600-1803416400@pikespkblues.org
SUMMARY:Sweet T's Rude Blues Jam on Tuesdays at PEAK 31
DESCRIPTION:Sweet T’s Rude Blues Jam @ PEAK 31\, 2419 N Union Blvd (80909) on Tuesdays\, from 6:00 pm to 9:00 pm.
URL:https://pikespkblues.org/event/sweet-ts-rude-blues-jam-on-tuesdays-at-peak-31/2027-02-23/
LOCATION:PEAK 31\, 2419 N Union Blvd\, Colorado Springs\, CO\, 80909\, United States
CATEGORIES:Jams
END:VEVENT
BEGIN:VEVENT
DTSTART;TZID=America/Denver:20270224T120000
DTEND;TZID=America/Denver:20270224T130000
DTSTAMP:20260425T070837
CREATED:20240608T152048Z
LAST-MODIFIED:20250205T153915Z
UID:10002346-1803470400-1803474000@pikespkblues.org
SUMMARY:Jazz 93.5 Community Blues Hour with BJ Estares
DESCRIPTION:
URL:https://pikespkblues.org/event/jazz-93-5-community-blues-hour-with-bj-estares/2027-02-24/
LOCATION:CO
END:VEVENT
BEGIN:VEVENT
DTSTART;TZID=America/Denver:20270225T120000
DTEND;TZID=America/Denver:20270225T130000
DTSTAMP:20260425T070837
CREATED:20240608T152048Z
LAST-MODIFIED:20250205T153915Z
UID:10002347-1803556800-1803560400@pikespkblues.org
SUMMARY:Jazz 93.5 Community Blues Hour with BJ Estares
DESCRIPTION:
URL:https://pikespkblues.org/event/jazz-93-5-community-blues-hour-with-bj-estares/2027-02-25/
LOCATION:CO
END:VEVENT
BEGIN:VEVENT
DTSTART;TZID=America/Denver:20270226T120000
DTEND;TZID=America/Denver:20270226T130000
DTSTAMP:20260425T070837
CREATED:20240608T152048Z
LAST-MODIFIED:20250205T153915Z
UID:10002348-1803643200-1803646800@pikespkblues.org
SUMMARY:Jazz 93.5 Community Blues Hour with BJ Estares
DESCRIPTION:
URL:https://pikespkblues.org/event/jazz-93-5-community-blues-hour-with-bj-estares/2027-02-26/
LOCATION:CO
END:VEVENT
BEGIN:VEVENT
DTSTART;TZID=America/Denver:20270301T120000
DTEND;TZID=America/Denver:20270301T130000
DTSTAMP:20260425T070837
CREATED:20240608T152048Z
LAST-MODIFIED:20250205T153915Z
UID:10002349-1803902400-1803906000@pikespkblues.org
SUMMARY:Jazz 93.5 Community Blues Hour with BJ Estares
DESCRIPTION:
URL:https://pikespkblues.org/event/jazz-93-5-community-blues-hour-with-bj-estares/2027-03-01/
LOCATION:CO
END:VEVENT
BEGIN:VEVENT
DTSTART;TZID=America/Denver:20270302T120000
DTEND;TZID=America/Denver:20270302T130000
DTSTAMP:20260425T070837
CREATED:20240608T152048Z
LAST-MODIFIED:20250205T153915Z
UID:10002350-1803988800-1803992400@pikespkblues.org
SUMMARY:Jazz 93.5 Community Blues Hour with BJ Estares
DESCRIPTION:
URL:https://pikespkblues.org/event/jazz-93-5-community-blues-hour-with-bj-estares/2027-03-02/
LOCATION:CO
END:VEVENT
BEGIN:VEVENT
DTSTART;TZID=America/Denver:20270302T180000
DTEND;TZID=America/Denver:20270302T210000
DTSTAMP:20260425T070837
CREATED:20251004T004608Z
LAST-MODIFIED:20251004T182250Z
UID:10004853-1804010400-1804021200@pikespkblues.org
SUMMARY:Sweet T's Rude Blues Jam on Tuesdays at PEAK 31
DESCRIPTION:Sweet T’s Rude Blues Jam @ PEAK 31\, 2419 N Union Blvd (80909) on Tuesdays\, from 6:00 pm to 9:00 pm.
URL:https://pikespkblues.org/event/sweet-ts-rude-blues-jam-on-tuesdays-at-peak-31/2027-03-02/
LOCATION:PEAK 31\, 2419 N Union Blvd\, Colorado Springs\, CO\, 80909\, United States
CATEGORIES:Jams
END:VEVENT
BEGIN:VEVENT
DTSTART;TZID=America/Denver:20270303T120000
DTEND;TZID=America/Denver:20270303T130000
DTSTAMP:20260425T070837
CREATED:20240608T152048Z
LAST-MODIFIED:20250205T153915Z
UID:10002351-1804075200-1804078800@pikespkblues.org
SUMMARY:Jazz 93.5 Community Blues Hour with BJ Estares
DESCRIPTION:
URL:https://pikespkblues.org/event/jazz-93-5-community-blues-hour-with-bj-estares/2027-03-03/
LOCATION:CO
END:VEVENT
BEGIN:VEVENT
DTSTART;TZID=America/Denver:20270304T120000
DTEND;TZID=America/Denver:20270304T130000
DTSTAMP:20260425T070837
CREATED:20240608T152048Z
LAST-MODIFIED:20250205T153915Z
UID:10002352-1804161600-1804165200@pikespkblues.org
SUMMARY:Jazz 93.5 Community Blues Hour with BJ Estares
DESCRIPTION:
URL:https://pikespkblues.org/event/jazz-93-5-community-blues-hour-with-bj-estares/2027-03-04/
LOCATION:CO
END:VEVENT
END:VCALENDAR