BEGIN:VCALENDAR
VERSION:2.0
PRODID:-//Pikes Peak Blues Community - ECPv6.15.20//NONSGML v1.0//EN
CALSCALE:GREGORIAN
METHOD:PUBLISH
X-WR-CALNAME:Pikes Peak Blues Community
X-ORIGINAL-URL:https://pikespkblues.org
X-WR-CALDESC:Events for Pikes Peak Blues Community
REFRESH-INTERVAL;VALUE=DURATION:PT1H
X-Robots-Tag:noindex
X-PUBLISHED-TTL:PT1H
BEGIN:VTIMEZONE
TZID:America/Denver
BEGIN:DAYLIGHT
TZOFFSETFROM:-0700
TZOFFSETTO:-0600
TZNAME:MDT
DTSTART:20250309T090000
END:DAYLIGHT
BEGIN:STANDARD
TZOFFSETFROM:-0600
TZOFFSETTO:-0700
TZNAME:MST
DTSTART:20251102T080000
END:STANDARD
BEGIN:DAYLIGHT
TZOFFSETFROM:-0700
TZOFFSETTO:-0600
TZNAME:MDT
DTSTART:20260308T090000
END:DAYLIGHT
BEGIN:STANDARD
TZOFFSETFROM:-0600
TZOFFSETTO:-0700
TZNAME:MST
DTSTART:20261101T080000
END:STANDARD
BEGIN:DAYLIGHT
TZOFFSETFROM:-0700
TZOFFSETTO:-0600
TZNAME:MDT
DTSTART:20270314T090000
END:DAYLIGHT
BEGIN:STANDARD
TZOFFSETFROM:-0600
TZOFFSETTO:-0700
TZNAME:MST
DTSTART:20271107T080000
END:STANDARD
BEGIN:DAYLIGHT
TZOFFSETFROM:-0700
TZOFFSETTO:-0600
TZNAME:MDT
DTSTART:20280312T090000
END:DAYLIGHT
BEGIN:STANDARD
TZOFFSETFROM:-0600
TZOFFSETTO:-0700
TZNAME:MST
DTSTART:20281105T080000
END:STANDARD
END:VTIMEZONE
BEGIN:VEVENT
DTSTART;TZID=America/Denver:20261203T120000
DTEND;TZID=America/Denver:20261203T130000
DTSTAMP:20260424T043600
CREATED:20240608T152048Z
LAST-MODIFIED:20250205T153915Z
UID:10002287-1796299200-1796302800@pikespkblues.org
SUMMARY:Jazz 93.5 Community Blues Hour with BJ Estares
DESCRIPTION:
URL:https://pikespkblues.org/event/jazz-93-5-community-blues-hour-with-bj-estares/2026-12-03/
LOCATION:CO
END:VEVENT
BEGIN:VEVENT
DTSTART;TZID=America/Denver:20261203T200000
DTEND;TZID=America/Denver:20261203T230000
DTSTAMP:20260424T043600
CREATED:20260221T045616Z
LAST-MODIFIED:20260221T045617Z
UID:10005707-1796328000-1796338800@pikespkblues.org
SUMMARY:Blues Jam hosted by Randy Stephens & the Groove Makers
DESCRIPTION:Blues Jam hosted by Randy Stephens & the Groove Makers @ Kinfolks\, 950 Manitou Ave\, Manitou Springs on the first Thursday of  the month from 8:00 pm to 11:00 pm. Sign up start at 7:30 pm. Bring your own axe and jam with these award winning musicians. Keys\, drums\, and amps provided. Horn players welcome.
URL:https://pikespkblues.org/event/stormy-monday-blues-jam-hosted-by-randy-stephens-the-groove-makers-2-2/2026-12-03/
LOCATION:Kinsfolks\, 950 Manitou Ave\, Manitou Springs\, CO\, 80829
CATEGORIES:Jams
END:VEVENT
BEGIN:VEVENT
DTSTART;TZID=America/Denver:20261204T120000
DTEND;TZID=America/Denver:20261204T130000
DTSTAMP:20260424T043600
CREATED:20240608T152048Z
LAST-MODIFIED:20250205T153915Z
UID:10002288-1796385600-1796389200@pikespkblues.org
SUMMARY:Jazz 93.5 Community Blues Hour with BJ Estares
DESCRIPTION:
URL:https://pikespkblues.org/event/jazz-93-5-community-blues-hour-with-bj-estares/2026-12-04/
LOCATION:CO
END:VEVENT
BEGIN:VEVENT
DTSTART;TZID=America/Denver:20261207T120000
DTEND;TZID=America/Denver:20261207T130000
DTSTAMP:20260424T043600
CREATED:20240608T152048Z
LAST-MODIFIED:20250205T153915Z
UID:10002289-1796644800-1796648400@pikespkblues.org
SUMMARY:Jazz 93.5 Community Blues Hour with BJ Estares
DESCRIPTION:
URL:https://pikespkblues.org/event/jazz-93-5-community-blues-hour-with-bj-estares/2026-12-07/
LOCATION:CO
END:VEVENT
BEGIN:VEVENT
DTSTART;TZID=America/Denver:20261208T120000
DTEND;TZID=America/Denver:20261208T130000
DTSTAMP:20260424T043600
CREATED:20240608T152048Z
LAST-MODIFIED:20250205T153915Z
UID:10002290-1796731200-1796734800@pikespkblues.org
SUMMARY:Jazz 93.5 Community Blues Hour with BJ Estares
DESCRIPTION:
URL:https://pikespkblues.org/event/jazz-93-5-community-blues-hour-with-bj-estares/2026-12-08/
LOCATION:CO
END:VEVENT
BEGIN:VEVENT
DTSTART;TZID=America/Denver:20261208T180000
DTEND;TZID=America/Denver:20261208T210000
DTSTAMP:20260424T043600
CREATED:20251004T004608Z
LAST-MODIFIED:20251004T182250Z
UID:10004841-1796752800-1796763600@pikespkblues.org
SUMMARY:Sweet T's Rude Blues Jam on Tuesdays at PEAK 31
DESCRIPTION:Sweet T’s Rude Blues Jam @ PEAK 31\, 2419 N Union Blvd (80909) on Tuesdays\, from 6:00 pm to 9:00 pm.
URL:https://pikespkblues.org/event/sweet-ts-rude-blues-jam-on-tuesdays-at-peak-31/2026-12-08/
LOCATION:PEAK 31\, 2419 N Union Blvd\, Colorado Springs\, CO\, 80909\, United States
CATEGORIES:Jams
END:VEVENT
BEGIN:VEVENT
DTSTART;TZID=America/Denver:20261209T120000
DTEND;TZID=America/Denver:20261209T130000
DTSTAMP:20260424T043600
CREATED:20240608T152048Z
LAST-MODIFIED:20250205T153915Z
UID:10002291-1796817600-1796821200@pikespkblues.org
SUMMARY:Jazz 93.5 Community Blues Hour with BJ Estares
DESCRIPTION:
URL:https://pikespkblues.org/event/jazz-93-5-community-blues-hour-with-bj-estares/2026-12-09/
LOCATION:CO
END:VEVENT
BEGIN:VEVENT
DTSTART;TZID=America/Denver:20261210T120000
DTEND;TZID=America/Denver:20261210T130000
DTSTAMP:20260424T043600
CREATED:20240608T152048Z
LAST-MODIFIED:20250205T153915Z
UID:10002292-1796904000-1796907600@pikespkblues.org
SUMMARY:Jazz 93.5 Community Blues Hour with BJ Estares
DESCRIPTION:
URL:https://pikespkblues.org/event/jazz-93-5-community-blues-hour-with-bj-estares/2026-12-10/
LOCATION:CO
END:VEVENT
BEGIN:VEVENT
DTSTART;TZID=America/Denver:20261211T120000
DTEND;TZID=America/Denver:20261211T130000
DTSTAMP:20260424T043600
CREATED:20240608T152048Z
LAST-MODIFIED:20250205T153915Z
UID:10002293-1796990400-1796994000@pikespkblues.org
SUMMARY:Jazz 93.5 Community Blues Hour with BJ Estares
DESCRIPTION:
URL:https://pikespkblues.org/event/jazz-93-5-community-blues-hour-with-bj-estares/2026-12-11/
LOCATION:CO
END:VEVENT
BEGIN:VEVENT
DTSTART;TZID=America/Denver:20261214T120000
DTEND;TZID=America/Denver:20261214T130000
DTSTAMP:20260424T043600
CREATED:20240608T152048Z
LAST-MODIFIED:20250205T153915Z
UID:10002294-1797249600-1797253200@pikespkblues.org
SUMMARY:Jazz 93.5 Community Blues Hour with BJ Estares
DESCRIPTION:
URL:https://pikespkblues.org/event/jazz-93-5-community-blues-hour-with-bj-estares/2026-12-14/
LOCATION:CO
END:VEVENT
BEGIN:VEVENT
DTSTART;TZID=America/Denver:20261215T120000
DTEND;TZID=America/Denver:20261215T130000
DTSTAMP:20260424T043600
CREATED:20240608T152048Z
LAST-MODIFIED:20250205T153915Z
UID:10002295-1797336000-1797339600@pikespkblues.org
SUMMARY:Jazz 93.5 Community Blues Hour with BJ Estares
DESCRIPTION:
URL:https://pikespkblues.org/event/jazz-93-5-community-blues-hour-with-bj-estares/2026-12-15/
LOCATION:CO
END:VEVENT
BEGIN:VEVENT
DTSTART;TZID=America/Denver:20261215T180000
DTEND;TZID=America/Denver:20261215T210000
DTSTAMP:20260424T043600
CREATED:20251004T004608Z
LAST-MODIFIED:20251004T182250Z
UID:10004842-1797357600-1797368400@pikespkblues.org
SUMMARY:Sweet T's Rude Blues Jam on Tuesdays at PEAK 31
DESCRIPTION:Sweet T’s Rude Blues Jam @ PEAK 31\, 2419 N Union Blvd (80909) on Tuesdays\, from 6:00 pm to 9:00 pm.
URL:https://pikespkblues.org/event/sweet-ts-rude-blues-jam-on-tuesdays-at-peak-31/2026-12-15/
LOCATION:PEAK 31\, 2419 N Union Blvd\, Colorado Springs\, CO\, 80909\, United States
CATEGORIES:Jams
END:VEVENT
BEGIN:VEVENT
DTSTART;TZID=America/Denver:20261216T120000
DTEND;TZID=America/Denver:20261216T130000
DTSTAMP:20260424T043600
CREATED:20240608T152048Z
LAST-MODIFIED:20250205T153915Z
UID:10002296-1797422400-1797426000@pikespkblues.org
SUMMARY:Jazz 93.5 Community Blues Hour with BJ Estares
DESCRIPTION:
URL:https://pikespkblues.org/event/jazz-93-5-community-blues-hour-with-bj-estares/2026-12-16/
LOCATION:CO
END:VEVENT
BEGIN:VEVENT
DTSTART;TZID=America/Denver:20261217T120000
DTEND;TZID=America/Denver:20261217T130000
DTSTAMP:20260424T043600
CREATED:20240608T152048Z
LAST-MODIFIED:20250205T153915Z
UID:10002297-1797508800-1797512400@pikespkblues.org
SUMMARY:Jazz 93.5 Community Blues Hour with BJ Estares
DESCRIPTION:
URL:https://pikespkblues.org/event/jazz-93-5-community-blues-hour-with-bj-estares/2026-12-17/
LOCATION:CO
END:VEVENT
BEGIN:VEVENT
DTSTART;TZID=America/Denver:20261218T120000
DTEND;TZID=America/Denver:20261218T130000
DTSTAMP:20260424T043600
CREATED:20240608T152048Z
LAST-MODIFIED:20250205T153915Z
UID:10002298-1797595200-1797598800@pikespkblues.org
SUMMARY:Jazz 93.5 Community Blues Hour with BJ Estares
DESCRIPTION:
URL:https://pikespkblues.org/event/jazz-93-5-community-blues-hour-with-bj-estares/2026-12-18/
LOCATION:CO
END:VEVENT
BEGIN:VEVENT
DTSTART;TZID=America/Denver:20261221T120000
DTEND;TZID=America/Denver:20261221T130000
DTSTAMP:20260424T043600
CREATED:20240608T152048Z
LAST-MODIFIED:20250205T153915Z
UID:10002299-1797854400-1797858000@pikespkblues.org
SUMMARY:Jazz 93.5 Community Blues Hour with BJ Estares
DESCRIPTION:
URL:https://pikespkblues.org/event/jazz-93-5-community-blues-hour-with-bj-estares/2026-12-21/
LOCATION:CO
END:VEVENT
BEGIN:VEVENT
DTSTART;TZID=America/Denver:20261222T120000
DTEND;TZID=America/Denver:20261222T130000
DTSTAMP:20260424T043600
CREATED:20240608T152048Z
LAST-MODIFIED:20250205T153915Z
UID:10002300-1797940800-1797944400@pikespkblues.org
SUMMARY:Jazz 93.5 Community Blues Hour with BJ Estares
DESCRIPTION:
URL:https://pikespkblues.org/event/jazz-93-5-community-blues-hour-with-bj-estares/2026-12-22/
LOCATION:CO
END:VEVENT
BEGIN:VEVENT
DTSTART;TZID=America/Denver:20261222T180000
DTEND;TZID=America/Denver:20261222T210000
DTSTAMP:20260424T043600
CREATED:20251004T004608Z
LAST-MODIFIED:20251004T182250Z
UID:10004843-1797962400-1797973200@pikespkblues.org
SUMMARY:Sweet T's Rude Blues Jam on Tuesdays at PEAK 31
DESCRIPTION:Sweet T’s Rude Blues Jam @ PEAK 31\, 2419 N Union Blvd (80909) on Tuesdays\, from 6:00 pm to 9:00 pm.
URL:https://pikespkblues.org/event/sweet-ts-rude-blues-jam-on-tuesdays-at-peak-31/2026-12-22/
LOCATION:PEAK 31\, 2419 N Union Blvd\, Colorado Springs\, CO\, 80909\, United States
CATEGORIES:Jams
END:VEVENT
BEGIN:VEVENT
DTSTART;TZID=America/Denver:20261223T120000
DTEND;TZID=America/Denver:20261223T130000
DTSTAMP:20260424T043600
CREATED:20240608T152048Z
LAST-MODIFIED:20250205T153915Z
UID:10002301-1798027200-1798030800@pikespkblues.org
SUMMARY:Jazz 93.5 Community Blues Hour with BJ Estares
DESCRIPTION:
URL:https://pikespkblues.org/event/jazz-93-5-community-blues-hour-with-bj-estares/2026-12-23/
LOCATION:CO
END:VEVENT
BEGIN:VEVENT
DTSTART;TZID=America/Denver:20261224T120000
DTEND;TZID=America/Denver:20261224T130000
DTSTAMP:20260424T043600
CREATED:20240608T152048Z
LAST-MODIFIED:20250205T153915Z
UID:10002302-1798113600-1798117200@pikespkblues.org
SUMMARY:Jazz 93.5 Community Blues Hour with BJ Estares
DESCRIPTION:
URL:https://pikespkblues.org/event/jazz-93-5-community-blues-hour-with-bj-estares/2026-12-24/
LOCATION:CO
END:VEVENT
BEGIN:VEVENT
DTSTART;TZID=America/Denver:20261225T120000
DTEND;TZID=America/Denver:20261225T130000
DTSTAMP:20260424T043600
CREATED:20240608T152048Z
LAST-MODIFIED:20250205T153915Z
UID:10002303-1798200000-1798203600@pikespkblues.org
SUMMARY:Jazz 93.5 Community Blues Hour with BJ Estares
DESCRIPTION:
URL:https://pikespkblues.org/event/jazz-93-5-community-blues-hour-with-bj-estares/2026-12-25/
LOCATION:CO
END:VEVENT
BEGIN:VEVENT
DTSTART;TZID=America/Denver:20261228T120000
DTEND;TZID=America/Denver:20261228T130000
DTSTAMP:20260424T043600
CREATED:20240608T152048Z
LAST-MODIFIED:20250205T153915Z
UID:10002304-1798459200-1798462800@pikespkblues.org
SUMMARY:Jazz 93.5 Community Blues Hour with BJ Estares
DESCRIPTION:
URL:https://pikespkblues.org/event/jazz-93-5-community-blues-hour-with-bj-estares/2026-12-28/
LOCATION:CO
END:VEVENT
BEGIN:VEVENT
DTSTART;TZID=America/Denver:20261229T120000
DTEND;TZID=America/Denver:20261229T130000
DTSTAMP:20260424T043600
CREATED:20240608T152048Z
LAST-MODIFIED:20250205T153915Z
UID:10002305-1798545600-1798549200@pikespkblues.org
SUMMARY:Jazz 93.5 Community Blues Hour with BJ Estares
DESCRIPTION:
URL:https://pikespkblues.org/event/jazz-93-5-community-blues-hour-with-bj-estares/2026-12-29/
LOCATION:CO
END:VEVENT
BEGIN:VEVENT
DTSTART;TZID=America/Denver:20261229T180000
DTEND;TZID=America/Denver:20261229T210000
DTSTAMP:20260424T043600
CREATED:20251004T004608Z
LAST-MODIFIED:20251004T182250Z
UID:10004844-1798567200-1798578000@pikespkblues.org
SUMMARY:Sweet T's Rude Blues Jam on Tuesdays at PEAK 31
DESCRIPTION:Sweet T’s Rude Blues Jam @ PEAK 31\, 2419 N Union Blvd (80909) on Tuesdays\, from 6:00 pm to 9:00 pm.
URL:https://pikespkblues.org/event/sweet-ts-rude-blues-jam-on-tuesdays-at-peak-31/2026-12-29/
LOCATION:PEAK 31\, 2419 N Union Blvd\, Colorado Springs\, CO\, 80909\, United States
CATEGORIES:Jams
END:VEVENT
BEGIN:VEVENT
DTSTART;TZID=America/Denver:20261230T120000
DTEND;TZID=America/Denver:20261230T130000
DTSTAMP:20260424T043600
CREATED:20240608T152048Z
LAST-MODIFIED:20250205T153915Z
UID:10002306-1798632000-1798635600@pikespkblues.org
SUMMARY:Jazz 93.5 Community Blues Hour with BJ Estares
DESCRIPTION:
URL:https://pikespkblues.org/event/jazz-93-5-community-blues-hour-with-bj-estares/2026-12-30/
LOCATION:CO
END:VEVENT
BEGIN:VEVENT
DTSTART;TZID=America/Denver:20261231T120000
DTEND;TZID=America/Denver:20261231T130000
DTSTAMP:20260424T043600
CREATED:20240608T152048Z
LAST-MODIFIED:20250205T153915Z
UID:10002307-1798718400-1798722000@pikespkblues.org
SUMMARY:Jazz 93.5 Community Blues Hour with BJ Estares
DESCRIPTION:
URL:https://pikespkblues.org/event/jazz-93-5-community-blues-hour-with-bj-estares/2026-12-31/
LOCATION:CO
END:VEVENT
BEGIN:VEVENT
DTSTART;TZID=America/Denver:20270101T120000
DTEND;TZID=America/Denver:20270101T130000
DTSTAMP:20260424T043600
CREATED:20240608T152048Z
LAST-MODIFIED:20250205T153915Z
UID:10002308-1798804800-1798808400@pikespkblues.org
SUMMARY:Jazz 93.5 Community Blues Hour with BJ Estares
DESCRIPTION:
URL:https://pikespkblues.org/event/jazz-93-5-community-blues-hour-with-bj-estares/2027-01-01/
LOCATION:CO
END:VEVENT
BEGIN:VEVENT
DTSTART;TZID=America/Denver:20270104T120000
DTEND;TZID=America/Denver:20270104T130000
DTSTAMP:20260424T043600
CREATED:20240608T152048Z
LAST-MODIFIED:20250205T153915Z
UID:10002309-1799064000-1799067600@pikespkblues.org
SUMMARY:Jazz 93.5 Community Blues Hour with BJ Estares
DESCRIPTION:
URL:https://pikespkblues.org/event/jazz-93-5-community-blues-hour-with-bj-estares/2027-01-04/
LOCATION:CO
END:VEVENT
BEGIN:VEVENT
DTSTART;TZID=America/Denver:20270105T120000
DTEND;TZID=America/Denver:20270105T130000
DTSTAMP:20260424T043600
CREATED:20240608T152048Z
LAST-MODIFIED:20250205T153915Z
UID:10002310-1799150400-1799154000@pikespkblues.org
SUMMARY:Jazz 93.5 Community Blues Hour with BJ Estares
DESCRIPTION:
URL:https://pikespkblues.org/event/jazz-93-5-community-blues-hour-with-bj-estares/2027-01-05/
LOCATION:CO
END:VEVENT
BEGIN:VEVENT
DTSTART;TZID=America/Denver:20270105T180000
DTEND;TZID=America/Denver:20270105T210000
DTSTAMP:20260424T043600
CREATED:20251004T004608Z
LAST-MODIFIED:20251004T182250Z
UID:10004845-1799172000-1799182800@pikespkblues.org
SUMMARY:Sweet T's Rude Blues Jam on Tuesdays at PEAK 31
DESCRIPTION:Sweet T’s Rude Blues Jam @ PEAK 31\, 2419 N Union Blvd (80909) on Tuesdays\, from 6:00 pm to 9:00 pm.
URL:https://pikespkblues.org/event/sweet-ts-rude-blues-jam-on-tuesdays-at-peak-31/2027-01-05/
LOCATION:PEAK 31\, 2419 N Union Blvd\, Colorado Springs\, CO\, 80909\, United States
CATEGORIES:Jams
END:VEVENT
END:VCALENDAR