BEGIN:VCALENDAR
VERSION:2.0
PRODID:-//Pikes Peak Blues Community - ECPv6.15.20//NONSGML v1.0//EN
CALSCALE:GREGORIAN
METHOD:PUBLISH
X-WR-CALNAME:Pikes Peak Blues Community
X-ORIGINAL-URL:https://pikespkblues.org
X-WR-CALDESC:Events for Pikes Peak Blues Community
REFRESH-INTERVAL;VALUE=DURATION:PT1H
X-Robots-Tag:noindex
X-PUBLISHED-TTL:PT1H
BEGIN:VTIMEZONE
TZID:America/Denver
BEGIN:DAYLIGHT
TZOFFSETFROM:-0700
TZOFFSETTO:-0600
TZNAME:MDT
DTSTART:20230312T090000
END:DAYLIGHT
BEGIN:STANDARD
TZOFFSETFROM:-0600
TZOFFSETTO:-0700
TZNAME:MST
DTSTART:20231105T080000
END:STANDARD
BEGIN:DAYLIGHT
TZOFFSETFROM:-0700
TZOFFSETTO:-0600
TZNAME:MDT
DTSTART:20240310T090000
END:DAYLIGHT
BEGIN:STANDARD
TZOFFSETFROM:-0600
TZOFFSETTO:-0700
TZNAME:MST
DTSTART:20241103T080000
END:STANDARD
BEGIN:DAYLIGHT
TZOFFSETFROM:-0700
TZOFFSETTO:-0600
TZNAME:MDT
DTSTART:20250309T090000
END:DAYLIGHT
BEGIN:STANDARD
TZOFFSETFROM:-0600
TZOFFSETTO:-0700
TZNAME:MST
DTSTART:20251102T080000
END:STANDARD
END:VTIMEZONE
BEGIN:VEVENT
DTSTART;TZID=America/Denver:20241224T120000
DTEND;TZID=America/Denver:20241224T130000
DTSTAMP:20260425T170223
CREATED:20240608T152048Z
LAST-MODIFIED:20250205T153915Z
UID:10001780-1735041600-1735045200@pikespkblues.org
SUMMARY:Jazz 93.5 Community Blues Hour with BJ Estares
DESCRIPTION:
URL:https://pikespkblues.org/event/jazz-93-5-community-blues-hour-with-bj-estares/2024-12-24/
END:VEVENT
BEGIN:VEVENT
DTSTART;TZID=America/Denver:20241223T120000
DTEND;TZID=America/Denver:20241223T130000
DTSTAMP:20260425T170223
CREATED:20240608T152048Z
LAST-MODIFIED:20250205T153915Z
UID:10001779-1734955200-1734958800@pikespkblues.org
SUMMARY:Jazz 93.5 Community Blues Hour with BJ Estares
DESCRIPTION:
URL:https://pikespkblues.org/event/jazz-93-5-community-blues-hour-with-bj-estares/2024-12-23/
END:VEVENT
BEGIN:VEVENT
DTSTART;TZID=America/Denver:20241220T120000
DTEND;TZID=America/Denver:20241220T130000
DTSTAMP:20260425T170223
CREATED:20240608T152048Z
LAST-MODIFIED:20250205T153915Z
UID:10001778-1734696000-1734699600@pikespkblues.org
SUMMARY:Jazz 93.5 Community Blues Hour with BJ Estares
DESCRIPTION:
URL:https://pikespkblues.org/event/jazz-93-5-community-blues-hour-with-bj-estares/2024-12-20/
END:VEVENT
BEGIN:VEVENT
DTSTART;TZID=America/Denver:20241219T120000
DTEND;TZID=America/Denver:20241219T130000
DTSTAMP:20260425T170223
CREATED:20240608T152048Z
LAST-MODIFIED:20250205T153915Z
UID:10001777-1734609600-1734613200@pikespkblues.org
SUMMARY:Jazz 93.5 Community Blues Hour with BJ Estares
DESCRIPTION:
URL:https://pikespkblues.org/event/jazz-93-5-community-blues-hour-with-bj-estares/2024-12-19/
END:VEVENT
BEGIN:VEVENT
DTSTART;TZID=America/Denver:20241218T200000
DTEND;TZID=America/Denver:20241218T223000
DTSTAMP:20260425T170223
CREATED:20241002T020754Z
LAST-MODIFIED:20241002T020754Z
UID:10003813-1734552000-1734561000@pikespkblues.org
SUMMARY:The Allman Betts Family Revival with Devon Allman and Duane Betts
DESCRIPTION:The Allman Betts Family Revival with Devon Allman and Duane Betts @ Paramount Theatre\, Denver 12/18 8:00 pm
URL:https://pikespkblues.org/event/the-allman-betts-family-revival-with-devon-allman-and-duane-betts-2/
LOCATION:Paramont Theatre\, 1621 Glenarm Pl\, Denver\, CO\, 80202
CATEGORIES:Concerts
END:VEVENT
BEGIN:VEVENT
DTSTART;TZID=America/Denver:20241218T120000
DTEND;TZID=America/Denver:20241218T130000
DTSTAMP:20260425T170223
CREATED:20240608T152048Z
LAST-MODIFIED:20250205T153915Z
UID:10001776-1734523200-1734526800@pikespkblues.org
SUMMARY:Jazz 93.5 Community Blues Hour with BJ Estares
DESCRIPTION:
URL:https://pikespkblues.org/event/jazz-93-5-community-blues-hour-with-bj-estares/2024-12-18/
END:VEVENT
BEGIN:VEVENT
DTSTART;TZID=America/Denver:20241217T120000
DTEND;TZID=America/Denver:20241217T130000
DTSTAMP:20260425T170223
CREATED:20240608T152048Z
LAST-MODIFIED:20250205T153915Z
UID:10001775-1734436800-1734440400@pikespkblues.org
SUMMARY:Jazz 93.5 Community Blues Hour with BJ Estares
DESCRIPTION:
URL:https://pikespkblues.org/event/jazz-93-5-community-blues-hour-with-bj-estares/2024-12-17/
END:VEVENT
BEGIN:VEVENT
DTSTART;TZID=America/Denver:20241216T120000
DTEND;TZID=America/Denver:20241216T130000
DTSTAMP:20260425T170223
CREATED:20240608T152048Z
LAST-MODIFIED:20250205T153915Z
UID:10001774-1734350400-1734354000@pikespkblues.org
SUMMARY:Jazz 93.5 Community Blues Hour with BJ Estares
DESCRIPTION:
URL:https://pikespkblues.org/event/jazz-93-5-community-blues-hour-with-bj-estares/2024-12-16/
END:VEVENT
BEGIN:VEVENT
DTSTART;TZID=America/Denver:20241214T180000
DTEND;TZID=America/Denver:20241214T220000
DTSTAMP:20260425T170223
CREATED:20241027T164416Z
LAST-MODIFIED:20241210T230400Z
UID:10003825-1734199200-1734213600@pikespkblues.org
SUMMARY:Pikes Peak Blues Community/Dizzy Charlie’s Pop Up Jazz Joint Blues/Jazz concerts with Delta Sonics featuring Al Chesis and On The Brink
DESCRIPTION:Pikes Peak Blues Community and Dizzy Charlie’s Pop Up Jazz Joint Blues/Jazz concerts with Delta Sonics featuring Al Chesis and On The Brink @ Summa Taphouse 12/14 6:00 pm – Tickets $15.00 / $10.00 for current PPBC members
URL:https://pikespkblues.org/event/ppbc-dizzy-charlies-jazz-pop-up-joint-blues-jazz-concerts-with-delta-sonics-featuring-al-chesis-and-dalonious-funk/
LOCATION:Summa\, 817 W. Colorado Ave\, Colorado Springs\, CO\, 80905\, United States
CATEGORIES:Concerts
END:VEVENT
BEGIN:VEVENT
DTSTART;TZID=America/Denver:20241213T120000
DTEND;TZID=America/Denver:20241213T130000
DTSTAMP:20260425T170223
CREATED:20240608T152048Z
LAST-MODIFIED:20250205T153915Z
UID:10001773-1734091200-1734094800@pikespkblues.org
SUMMARY:Jazz 93.5 Community Blues Hour with BJ Estares
DESCRIPTION:
URL:https://pikespkblues.org/event/jazz-93-5-community-blues-hour-with-bj-estares/2024-12-13/
END:VEVENT
BEGIN:VEVENT
DTSTART;TZID=America/Denver:20241212T120000
DTEND;TZID=America/Denver:20241212T130000
DTSTAMP:20260425T170223
CREATED:20240608T152048Z
LAST-MODIFIED:20250205T153915Z
UID:10001772-1734004800-1734008400@pikespkblues.org
SUMMARY:Jazz 93.5 Community Blues Hour with BJ Estares
DESCRIPTION:
URL:https://pikespkblues.org/event/jazz-93-5-community-blues-hour-with-bj-estares/2024-12-12/
END:VEVENT
BEGIN:VEVENT
DTSTART;TZID=America/Denver:20241211T120000
DTEND;TZID=America/Denver:20241211T130000
DTSTAMP:20260425T170223
CREATED:20240608T152048Z
LAST-MODIFIED:20250205T153915Z
UID:10001771-1733918400-1733922000@pikespkblues.org
SUMMARY:Jazz 93.5 Community Blues Hour with BJ Estares
DESCRIPTION:
URL:https://pikespkblues.org/event/jazz-93-5-community-blues-hour-with-bj-estares/2024-12-11/
END:VEVENT
BEGIN:VEVENT
DTSTART;TZID=America/Denver:20241210T120000
DTEND;TZID=America/Denver:20241210T130000
DTSTAMP:20260425T170223
CREATED:20240608T152048Z
LAST-MODIFIED:20250205T153915Z
UID:10001770-1733832000-1733835600@pikespkblues.org
SUMMARY:Jazz 93.5 Community Blues Hour with BJ Estares
DESCRIPTION:
URL:https://pikespkblues.org/event/jazz-93-5-community-blues-hour-with-bj-estares/2024-12-10/
END:VEVENT
BEGIN:VEVENT
DTSTART;TZID=America/Denver:20241209T120000
DTEND;TZID=America/Denver:20241209T130000
DTSTAMP:20260425T170223
CREATED:20240608T152048Z
LAST-MODIFIED:20250205T153915Z
UID:10001769-1733745600-1733749200@pikespkblues.org
SUMMARY:Jazz 93.5 Community Blues Hour with BJ Estares
DESCRIPTION:
URL:https://pikespkblues.org/event/jazz-93-5-community-blues-hour-with-bj-estares/2024-12-09/
END:VEVENT
BEGIN:VEVENT
DTSTART;TZID=America/Denver:20241207T180000
DTEND;TZID=America/Denver:20241207T210000
DTSTAMP:20260425T170223
CREATED:20240913T173416Z
LAST-MODIFIED:20240913T173416Z
UID:10003802-1733594400-1733605200@pikespkblues.org
SUMMARY:Rafiel & the Roomshakers
DESCRIPTION:Rafiel & the Roomshakers @ Rico’s Wine Bar and Cafe 12/7 6:00 pm
URL:https://pikespkblues.org/event/rafiel-the-roomshakers-4/
LOCATION:Rico’s Cafe and Wine Bar\, 322 1/2\, N Tejon St\, Colorado Springs\, CO\, 80903\, United States
CATEGORIES:Concerts
END:VEVENT
BEGIN:VEVENT
DTSTART;TZID=America/Denver:20241207T080000
DTEND;TZID=America/Denver:20241208T000000
DTSTAMP:20260425T170223
CREATED:20241111T195957Z
LAST-MODIFIED:20241111T195957Z
UID:10004093-1733558400-1733616000@pikespkblues.org
SUMMARY:Hoodoo Honey at Mother Muffs
DESCRIPTION:
URL:https://pikespkblues.org/event/hoodoo-honey-at-mother-muffs/
LOCATION:Mother Muffs\, 2432 W Colorado Ave\, Colorado Springs\, 80904\, United States
CATEGORIES:Concerts
ORGANIZER;CN="Teri Senor":MAILTO:tsenor@pikespkblues.org
END:VEVENT
BEGIN:VEVENT
DTSTART;TZID=America/Denver:20241206T120000
DTEND;TZID=America/Denver:20241206T130000
DTSTAMP:20260425T170223
CREATED:20240608T152048Z
LAST-MODIFIED:20250205T153915Z
UID:10001768-1733486400-1733490000@pikespkblues.org
SUMMARY:Jazz 93.5 Community Blues Hour with BJ Estares
DESCRIPTION:
URL:https://pikespkblues.org/event/jazz-93-5-community-blues-hour-with-bj-estares/2024-12-06/
END:VEVENT
BEGIN:VEVENT
DTSTART;TZID=America/Denver:20241206T080000
DTEND;TZID=America/Denver:20241206T170000
DTSTAMP:20260425T170223
CREATED:20240829T230107Z
LAST-MODIFIED:20240829T230107Z
UID:10003780-1733472000-1733504400@pikespkblues.org
SUMMARY:The Cleveland Experiment
DESCRIPTION:The Cleveland Experiment @ Rico’s 12/6 6:00 pm
URL:https://pikespkblues.org/event/the-cleveland-experiment-3/
LOCATION:Rico’s Cafe and Wine Bar\, 322 1/2\, N Tejon St\, Colorado Springs\, CO\, 80903\, United States
CATEGORIES:Concerts
END:VEVENT
BEGIN:VEVENT
DTSTART;TZID=America/Denver:20241205T180000
DTEND;TZID=America/Denver:20241205T210000
DTSTAMP:20260425T170223
CREATED:20240913T175334Z
LAST-MODIFIED:20240913T175334Z
UID:10003806-1733421600-1733432400@pikespkblues.org
SUMMARY:John Wise/Tribe
DESCRIPTION:John Wise/Tribe @ Rico’s Wine Bar & Cafe 12/5 6:00 pm
URL:https://pikespkblues.org/event/john-wise-tribe-3/
LOCATION:Rico’s Cafe and Wine Bar\, 322 1/2\, N Tejon St\, Colorado Springs\, CO\, 80903\, United States
CATEGORIES:Concerts
END:VEVENT
BEGIN:VEVENT
DTSTART;TZID=America/Denver:20241205T120000
DTEND;TZID=America/Denver:20241205T130000
DTSTAMP:20260425T170223
CREATED:20240608T152048Z
LAST-MODIFIED:20250205T153915Z
UID:10001767-1733400000-1733403600@pikespkblues.org
SUMMARY:Jazz 93.5 Community Blues Hour with BJ Estares
DESCRIPTION:
URL:https://pikespkblues.org/event/jazz-93-5-community-blues-hour-with-bj-estares/2024-12-05/
END:VEVENT
BEGIN:VEVENT
DTSTART;TZID=America/Denver:20241204T120000
DTEND;TZID=America/Denver:20241204T130000
DTSTAMP:20260425T170223
CREATED:20240608T152048Z
LAST-MODIFIED:20250205T153915Z
UID:10001766-1733313600-1733317200@pikespkblues.org
SUMMARY:Jazz 93.5 Community Blues Hour with BJ Estares
DESCRIPTION:
URL:https://pikespkblues.org/event/jazz-93-5-community-blues-hour-with-bj-estares/2024-12-04/
END:VEVENT
BEGIN:VEVENT
DTSTART;TZID=America/Denver:20241203T120000
DTEND;TZID=America/Denver:20241203T130000
DTSTAMP:20260425T170223
CREATED:20240608T152048Z
LAST-MODIFIED:20250205T153915Z
UID:10001765-1733227200-1733230800@pikespkblues.org
SUMMARY:Jazz 93.5 Community Blues Hour with BJ Estares
DESCRIPTION:
URL:https://pikespkblues.org/event/jazz-93-5-community-blues-hour-with-bj-estares/2024-12-03/
END:VEVENT
BEGIN:VEVENT
DTSTART;TZID=America/Denver:20241202T120000
DTEND;TZID=America/Denver:20241202T130000
DTSTAMP:20260425T170223
CREATED:20240608T152048Z
LAST-MODIFIED:20250205T153915Z
UID:10001764-1733140800-1733144400@pikespkblues.org
SUMMARY:Jazz 93.5 Community Blues Hour with BJ Estares
DESCRIPTION:
URL:https://pikespkblues.org/event/jazz-93-5-community-blues-hour-with-bj-estares/2024-12-02/
END:VEVENT
BEGIN:VEVENT
DTSTART;TZID=America/Denver:20241129T180000
DTEND;TZID=America/Denver:20241129T210000
DTSTAMP:20260425T170223
CREATED:20240829T230515Z
LAST-MODIFIED:20241125T042712Z
UID:10003781-1732903200-1732914000@pikespkblues.org
SUMMARY:Old School Cool
DESCRIPTION:Old School Cool @ Rico’s 11/29 6:00 pm
URL:https://pikespkblues.org/event/old-school-cool-3/
LOCATION:Rico’s Cafe and Wine Bar\, 322 1/2\, N Tejon St\, Colorado Springs\, CO\, 80903\, United States
CATEGORIES:Concerts
END:VEVENT
BEGIN:VEVENT
DTSTART;TZID=America/Denver:20241129T120000
DTEND;TZID=America/Denver:20241129T130000
DTSTAMP:20260425T170223
CREATED:20240608T152048Z
LAST-MODIFIED:20250205T153915Z
UID:10001763-1732881600-1732885200@pikespkblues.org
SUMMARY:Jazz 93.5 Community Blues Hour with BJ Estares
DESCRIPTION:
URL:https://pikespkblues.org/event/jazz-93-5-community-blues-hour-with-bj-estares/2024-11-29/
END:VEVENT
BEGIN:VEVENT
DTSTART;TZID=America/Denver:20241128T120000
DTEND;TZID=America/Denver:20241128T130000
DTSTAMP:20260425T170223
CREATED:20240608T152048Z
LAST-MODIFIED:20250205T153915Z
UID:10001762-1732795200-1732798800@pikespkblues.org
SUMMARY:Jazz 93.5 Community Blues Hour with BJ Estares
DESCRIPTION:
URL:https://pikespkblues.org/event/jazz-93-5-community-blues-hour-with-bj-estares/2024-11-28/
END:VEVENT
BEGIN:VEVENT
DTSTART;TZID=America/Denver:20241127T120000
DTEND;TZID=America/Denver:20241127T130000
DTSTAMP:20260425T170223
CREATED:20240608T152048Z
LAST-MODIFIED:20250205T153915Z
UID:10001761-1732708800-1732712400@pikespkblues.org
SUMMARY:Jazz 93.5 Community Blues Hour with BJ Estares
DESCRIPTION:
URL:https://pikespkblues.org/event/jazz-93-5-community-blues-hour-with-bj-estares/2024-11-27/
END:VEVENT
BEGIN:VEVENT
DTSTART;TZID=America/Denver:20241126T120000
DTEND;TZID=America/Denver:20241126T130000
DTSTAMP:20260425T170223
CREATED:20240608T152048Z
LAST-MODIFIED:20250205T153915Z
UID:10001760-1732622400-1732626000@pikespkblues.org
SUMMARY:Jazz 93.5 Community Blues Hour with BJ Estares
DESCRIPTION:
URL:https://pikespkblues.org/event/jazz-93-5-community-blues-hour-with-bj-estares/2024-11-26/
END:VEVENT
BEGIN:VEVENT
DTSTART;TZID=America/Denver:20241125T120000
DTEND;TZID=America/Denver:20241125T130000
DTSTAMP:20260425T170223
CREATED:20240608T152048Z
LAST-MODIFIED:20250205T153915Z
UID:10001759-1732536000-1732539600@pikespkblues.org
SUMMARY:Jazz 93.5 Community Blues Hour with BJ Estares
DESCRIPTION:
URL:https://pikespkblues.org/event/jazz-93-5-community-blues-hour-with-bj-estares/2024-11-25/
END:VEVENT
BEGIN:VEVENT
DTSTART;TZID=America/Denver:20241122T120000
DTEND;TZID=America/Denver:20241122T130000
DTSTAMP:20260425T170223
CREATED:20240608T152048Z
LAST-MODIFIED:20250205T153915Z
UID:10001758-1732276800-1732280400@pikespkblues.org
SUMMARY:Jazz 93.5 Community Blues Hour with BJ Estares
DESCRIPTION:
URL:https://pikespkblues.org/event/jazz-93-5-community-blues-hour-with-bj-estares/2024-11-22/
END:VEVENT
END:VCALENDAR